Workbook
Name SF9Learners: _SF9_LEARNER_LIST!$A$1:INDEX(_SF9_LEARNER_LIST!$A$1:$A$100,MAX(1,COUNTIF(_SF9_LEARNER_LIST!$A$1:$A$100,"?*")))

Sheet Home

Sheet INPUT DATA
A1: Input Data Sheet for Electronic-Class Record (ECR) for Class Adviser
B7: SCHOOL INFORMATION | J7: LEARNERS' DATA
C10: REGION | E10: : | K10: MALE | M10: LRN | N10: BIRTHDATE | P10: FEMALE | R10: LRN | S10: BIRTHDATE
C11: DIVISION | E11: : | K11: 1 | P11: 1
C12: CITY/MUNICIPALITY | E12: : | K12: 2 | P12: 2
C13: DISTRICT | E13: : | K13: 3 | P13: 3
K14: 4 | P14: 4
C15: SCHOOL ID | E15: : | K15: 5 | P15: 5
C16: SCHOOL NAME | E16: : | K16: 6 | P16: 6
K17: 7 | P17: 7
C18: SCHOOL YEAR | E18: : | K18: 8 | P18: 8
C19: SCHOOL HEAD | E19: : | K19: 9 | P19: 9
K20: 10 | P20: 10
K21: 11 | P21: 11
K22: 12 | P22: 12
B23: TEACHER, GRADE LEVEL, SECTION INFORMATION | K23: 13 | P23: 13
K24: 14 | P24: 14
K25: 15 | P25: 15
C26: ADVISER | E26: : | K26: 16 | P26: 16
C27: GRADE LEVEL | E27: : | G27: (Accepts Kinder only) | K27: 17 | P27: 17
C28: SECTION | E28: : | K28: 18 | P28: 18
K29: 19 | P29: 19
C30: IMPORTANT NOTE: This is the official and final version of the file. All tabs are password-protected to prevent accidental formula edits and maintain the accuracy and integrity of the data. If you identify any inconsistencies or issues, particularly with the formulas, please report them for appropriate review and necessary correction. | K30: 20 | P30: 20
K31: 21 | P31: 21
K32: 22 | P32: 22
K33: 23 | P33: 23
K34: 24 | P34: 24
K35: 25 | P35: 25
K36: 26 | P36: 26
K37: 27 | P37: 27
K38: 28 | P38: 28
K39: 29 | P39: 29
K40: 30 | P40: 30
K41: 31 | P41: 31
K42: 32 | P42: 32
... K60: 50 | P60: 50
T62: 2026_v1.0

Sheet School Data
B2: SCHOOL DATA
B4: School Name | C4: ABC ELEMENTARY SCHOOL
B5: School ID | C5: 104726
B6: School Address | C6: Sta. Maria, Bulacan
B7: District | C7: Sta. Maria
B8: Division | C8: SCHOOLS DIVISION OFFICE OF BULACAN
B9: Region | C9: Region III
B10: Municipality/City, Province | C10: Sta. Maria, Bulacan
B12: School Head | C12: RONKYLE SORIANO
B13: School Year | C13: 2026-2027
B14: Grade Level | C14: 3
B15: Section | C15: ABC
B16: Adviser | C16: NICOLE REYES

Sheet SF9 - KINDER
C6: Republic of the Philippines
C7: Department of Education
C8: ='INPUT DATA'!F10 -> 0
C9: ='School Data'!C8 -> SCHOOLS DIVISION OFFICE OF BULACAN
C11: District
C12: ='School Data'!C10 -> Sta. Maria, Bulacan
C14: ='School Data'!C4 -> ABC ELEMENTARY SCHOOL
C16: KINDERGARTEN PROGRESS REPORT CARD
C17: School Year 2026-2027
D19: Name: | H19: LRN: | J19: =IFERROR(VLOOKUP($E$19,'TERM 1 SUMMARY'!$C$16:$BT$114,4,FALSE()),"")
D20: Section: | E20: =IF('INPUT DATA'!F28="","",'INPUT DATA'!F28) | H20: Teacher: | J20: =IF('INPUT DATA'!F26="","",'INPUT DATA'!F26)
D21: Age of the Child (Beginning of SY): Years: | G21: =IFERROR(VLOOKUP($E$19,'TERM 1 SUMMARY'!$C$16:$BT$114,7,FALSE()),"") | H21: Months: | J21: =IFERROR(VLOOKUP($E$19,'TERM 1 SUMMARY'!$C$16:$BT$114,8,FALSE()),"") | L21: Age of the Child (Beginning of SY): Years: | N21: =IFERROR(VLOOKUP($E$19,'TERM 1 SUMMARY'!$C$16:$BT$114,9,FALSE()),"") | O21: Months: | P21: =IFERROR(VLOOKUP($E$19,'TERM 1 SUMMARY'!$C$16:$BT$114,10,FALSE()),"")
D23: This progress report informs parents about their child's learning achievements based on the Kindergarten Curriculum Guide. It provides a summary of the child's performance and indicate their level of progress across different developmental domains every ten (10) weeks or each term. The report also helps determine whether additional time and follow-up support are needed for the child to achieve the expected competencies. Each competency is marked as: BG - Beginning, DV - Developing, and CO - Consistent.
D25: Competency | H25: Rating | L25: Competency | O25: Rating
H26: T1 | I26: T2 | J26: T3 | O26: T1 | P26: T2 | Q26: T3
D27: I. Sensory Perceptual and Motor Development | L27: IV. Language, Literacy, and Communication Development
D28: 1. Identifies external body parts and their functions | H28: =IFERROR(VLOOKUP($E$19,'TERM 1 SUMMARY'!$C$16:$BT$114,12,FALSE()),"") | I28: =IFERROR(VLOOKUP($E$19,'TERM 2 SUMMARY'!$C$16:$BT$114,12,FALSE()),"") | J28: =IFERROR(VLOOKUP($E$19,'TERM 3 SUMMARY'!$C$16:$BU$114,12,FALSE()),"") | L28: A. Listening and Viewing
D29: 2. Identifies ways to care for and protects one’s body | H29: =IFERROR(VLOOKUP($E$19,'TERM 1 SUMMARY'!$C$16:$BT$114,13,FALSE()),"") | I29: =IFERROR(VLOOKUP($E$19,'TERM 2 SUMMARY'!$C$16:$BT$114,13,FALSE()),"") | J29: =IFERROR(VLOOKUP($E$19,'TERM 3 SUMMARY'!$C$16:$BU$114,13,FALSE()),"") | L29: 1. Identifies familiar environmental sound | O29: =IFERROR(VLOOKUP($E$19,'TERM 1 SUMMARY'!$C$16:$BT$114,44,FALSE()),"") | P29: =IFERROR(VLOOKUP($E$19,'TERM 2 SUMMARY'!$C$16:$BT$114,44,FALSE()),"") | Q29: =IFERROR(VLOOKUP($E$19,'TERM 3 SUMMARY'!$C$16:$BU$114,44,FALSE()),"")
D30: 3. Demonstrates gross motor skills (locomotor, non-locomotor) | H30: =IFERROR(VLOOKUP($E$19,'TERM 1 SUMMARY'!$C$16:$BT$114,14,FALSE()),"") | I30: =IFERROR(VLOOKUP($E$19,'TERM 2 SUMMARY'!$C$16:$BT$114,14,FALSE()),"") | J30: =IFERROR(VLOOKUP($E$19,'TERM 3 SUMMARY'!$C$16:$BU$114,14,FALSE()),"") | L30: 2. Recalls what happens first, middle and end in a story | O30: =IFERROR(VLOOKUP($E$19,'TERM 1 SUMMARY'!$C$16:$BT$114,45,FALSE()),"") | P30: =IFERROR(VLOOKUP($E$19,'TERM 2 SUMMARY'!$C$16:$BT$114,45,FALSE()),"") | Q30: =IFERROR(VLOOKUP($E$19,'TERM 3 SUMMARY'!$C$16:$BU$114,45,FALSE()),"")
D31: 4. Moves body parts as directed | H31: =IFERROR(VLOOKUP($E$19,'TERM 1 SUMMARY'!$C$16:$BT$114,15,FALSE()),"") | I31: =IFERROR(VLOOKUP($E$19,'TERM 2 SUMMARY'!$C$16:$BT$114,15,FALSE()),"") | J31: =IFERROR(VLOOKUP($E$19,'TERM 3 SUMMARY'!$C$16:$BU$114,15,FALSE()),"") | L31: 3. Retells story in sequence | O31: =IFERROR(VLOOKUP($E$19,'TERM 1 SUMMARY'!$C$16:$BT$114,46,FALSE()),"") | P31: =IFERROR(VLOOKUP($E$19,'TERM 2 SUMMARY'!$C$16:$BT$114,46,FALSE()),"") | Q31: =IFERROR(VLOOKUP($E$19,'TERM 3 SUMMARY'!$C$16:$BU$114,46,FALSE()),"")
D32: 5. Demonstrates fine motor skills (tearing, cutting, rolling, molding with playdough) | H32: =IFERROR(VLOOKUP($E$19,'TERM 1 SUMMARY'!$C$16:$BT$114,16,FALSE()),"") | I32: =IFERROR(VLOOKUP($E$19,'TERM 2 SUMMARY'!$C$16:$BT$114,16,FALSE()),"") | J32: =IFERROR(VLOOKUP($E$19,'TERM 3 SUMMARY'!$C$16:$BU$114,16,FALSE()),"") | L32: 4. Follows 1-2 step instructions | O32: =IFERROR(VLOOKUP($E$19,'TERM 1 SUMMARY'!$C$16:$BT$114,47,FALSE()),"") | P32: =IFERROR(VLOOKUP($E$19,'TERM 2 SUMMARY'!$C$16:$BT$114,47,FALSE()),"") | Q32: =IFERROR(VLOOKUP($E$19,'TERM 3 SUMMARY'!$C$16:$BU$114,47,FALSE()),"")
D33: II. Socio-emotional Development | L33: B. Sight Word Recognition
D34: 1. Identifies and expresses feelings in appropriate ways | H34: =IFERROR(VLOOKUP($E$19,'TERM 1 SUMMARY'!$C$16:$BT$114,17,FALSE()),"") | I34: =IFERROR(VLOOKUP($E$19,'TERM 2 SUMMARY'!$C$16:$BT$114,17,FALSE()),"") | J34: =IFERROR(VLOOKUP($E$19,'TERM 3 SUMMARY'!$C$16:$BU$114,17,FALSE()),"") | L34: 5. Recognizes non-decodable words in and out of context automatically | O34: =IFERROR(VLOOKUP($E$19,'TERM 1 SUMMARY'!$C$16:$BT$114,48,FALSE()),"") | P34: =IFERROR(VLOOKUP($E$19,'TERM 2 SUMMARY'!$C$16:$BT$114,48,FALSE()),"") | Q34: =IFERROR(VLOOKUP($E$19,'TERM 3 SUMMARY'!$C$16:$BU$114,48,FALSE()),"")
D35: 2. Recognizes and respect feelings of others | H35: =IFERROR(VLOOKUP($E$19,'TERM 1 SUMMARY'!$C$16:$BT$114,18,FALSE()),"") | I35: =IFERROR(VLOOKUP($E$19,'TERM 2 SUMMARY'!$C$16:$BT$114,18,FALSE()),"") | J35: =IFERROR(VLOOKUP($E$19,'TERM 3 SUMMARY'!$C$16:$BU$114,18,FALSE()),"") | L35: 6. Recognizes sight words | O35: =IFERROR(VLOOKUP($E$19,'TERM 1 SUMMARY'!$C$16:$BT$114,49,FALSE()),"") | P35: =IFERROR(VLOOKUP($E$19,'TERM 2 SUMMARY'!$C$16:$BT$114,49,FALSE()),"") | Q35: =IFERROR(VLOOKUP($E$19,'TERM 3 SUMMARY'!$C$16:$BU$114,49,FALSE()),"")
D36: 3. Expresses needs and preferences | H36: =IFERROR(VLOOKUP($E$19,'TERM 1 SUMMARY'!$C$16:$BT$114,19,FALSE()),"") | I36: =IFERROR(VLOOKUP($E$19,'TERM 2 SUMMARY'!$C$16:$BT$114,19,FALSE()),"") | J36: =IFERROR(VLOOKUP($E$19,'TERM 3 SUMMARY'!$C$16:$BU$114,19,FALSE()),"") | L36: C. Speaking
D37: 4. Behaves appropriately in different situations | H37: =IFERROR(VLOOKUP($E$19,'TERM 1 SUMMARY'!$C$16:$BT$114,20,FALSE()),"") | I37: =IFERROR(VLOOKUP($E$19,'TERM 2 SUMMARY'!$C$16:$BT$114,20,FALSE()),"") | J37: =IFERROR(VLOOKUP($E$19,'TERM 3 SUMMARY'!$C$16:$BU$114,20,FALSE()),"") | L37: 7. Identifies first and last name | O37: =IFERROR(VLOOKUP($E$19,'TERM 1 SUMMARY'!$C$16:$BT$114,50,FALSE()),"") | P37: =IFERROR(VLOOKUP($E$19,'TERM 2 SUMMARY'!$C$16:$BT$114,50,FALSE()),"") | Q37: =IFERROR(VLOOKUP($E$19,'TERM 3 SUMMARY'!$C$16:$BU$114,50,FALSE()),"")
D38: 5. Participates in classroom routines and activities | H38: =IFERROR(VLOOKUP($E$19,'TERM 1 SUMMARY'!$C$16:$BT$114,21,FALSE()),"") | I38: =IFERROR(VLOOKUP($E$19,'TERM 2 SUMMARY'!$C$16:$BT$114,21,FALSE()),"") | J38: =IFERROR(VLOOKUP($E$19,'TERM 3 SUMMARY'!$C$16:$BU$114,21,FALSE()),"") | L38: 8. Identifies classmates, teachers, family member | O38: =IFERROR(VLOOKUP($E$19,'TERM 1 SUMMARY'!$C$16:$BT$114,51,FALSE()),"") | P38: =IFERROR(VLOOKUP($E$19,'TERM 2 SUMMARY'!$C$16:$BT$114,51,FALSE()),"") | Q38: =IFERROR(VLOOKUP($E$19,'TERM 3 SUMMARY'!$C$16:$BU$114,51,FALSE()),"")
D39: 6. Follows classroom and school rules | H39: =IFERROR(VLOOKUP($E$19,'TERM 1 SUMMARY'!$C$16:$BT$114,22,FALSE()),"") | I39: =IFERROR(VLOOKUP($E$19,'TERM 2 SUMMARY'!$C$16:$BT$114,22,FALSE()),"") | J39: =IFERROR(VLOOKUP($E$19,'TERM 3 SUMMARY'!$C$16:$BU$114,22,FALSE()),"") | L39: 9. Identifies familiar objects at home, in school and in the community | O39: =IFERROR(VLOOKUP($E$19,'TERM 1 SUMMARY'!$C$16:$BT$114,52,FALSE()),"") | P39: =IFERROR(VLOOKUP($E$19,'TERM 2 SUMMARY'!$C$16:$BT$114,52,FALSE()),"") | Q39: =IFERROR(VLOOKUP($E$19,'TERM 3 SUMMARY'!$C$16:$BU$114,52,FALSE()),"")
D40: 7. Fulfills classroom responsibilities | H40: =IFERROR(VLOOKUP($E$19,'TERM 1 SUMMARY'!$C$16:$BT$114,23,FALSE()),"") | I40: =IFERROR(VLOOKUP($E$19,'TERM 2 SUMMARY'!$C$16:$BT$114,23,FALSE()),"") | J40: =IFERROR(VLOOKUP($E$19,'TERM 3 SUMMARY'!$C$16:$BU$114,23,FALSE()),"") | L40: 10. Uses polite greetings and courteous expressions in varied situations | O40: =IFERROR(VLOOKUP($E$19,'TERM 1 SUMMARY'!$C$16:$BT$114,53,FALSE()),"") | P40: =IFERROR(VLOOKUP($E$19,'TERM 2 SUMMARY'!$C$16:$BT$114,53,FALSE()),"") | Q40: =IFERROR(VLOOKUP($E$19,'TERM 3 SUMMARY'!$C$16:$BU$114,53,FALSE()),"")
D41: III. Cognitive Development | L41: 11. Retells personal experiences to story events | O41: =IFERROR(VLOOKUP($E$19,'TERM 1 SUMMARY'!$C$16:$BT$114,54,FALSE()),"") | P41: =IFERROR(VLOOKUP($E$19,'TERM 2 SUMMARY'!$C$16:$BT$114,54,FALSE()),"") | Q41: =IFERROR(VLOOKUP($E$19,'TERM 3 SUMMARY'!$C$16:$BU$114,54,FALSE()),"")
D42: 1. Identifies attributes of objects (color, shape, size) | H42: =IFERROR(VLOOKUP($E$19,'TERM 1 SUMMARY'!$C$16:$BT$114,24,FALSE()),"") | I42: =IFERROR(VLOOKUP($E$19,'TERM 2 SUMMARY'!$C$16:$BT$114,24,FALSE()),"") | J42: =IFERROR(VLOOKUP($E$19,'TERM 3 SUMMARY'!$C$16:$BU$114,24,FALSE()),"") | L42: 12. Expresses ideas and feelings using phrases and simple sentences | O42: =IFERROR(VLOOKUP($E$19,'TERM 1 SUMMARY'!$C$16:$BT$114,55,FALSE()),"") | P42: =IFERROR(VLOOKUP($E$19,'TERM 2 SUMMARY'!$C$16:$BT$114,55,FALSE()),"") | Q42: =IFERROR(VLOOKUP($E$19,'TERM 3 SUMMARY'!$C$16:$BU$114,55,FALSE()),"")
D43: 2. Matches objects based on attributes | H43: =IFERROR(VLOOKUP($E$19,'TERM 1 SUMMARY'!$C$16:$BT$114,25,FALSE()),"") | I43: =IFERROR(VLOOKUP($E$19,'TERM 2 SUMMARY'!$C$16:$BT$114,25,FALSE()),"") | J43: =IFERROR(VLOOKUP($E$19,'TERM 3 SUMMARY'!$C$16:$BU$114,25,FALSE()),"") | L43: D. Reading
D44: 3. Describes objects based on attributes (shape, color, taste, texture) | H44: =IFERROR(VLOOKUP($E$19,'TERM 1 SUMMARY'!$C$16:$BT$114,26,FALSE()),"") | I44: =IFERROR(VLOOKUP($E$19,'TERM 2 SUMMARY'!$C$16:$BT$114,26,FALSE()),"") | J44: =IFERROR(VLOOKUP($E$19,'TERM 3 SUMMARY'!$C$16:$BU$114,26,FALSE()),"") | L44: Phonological/Phonemic Awareness
D45: 4. Classifies objects by a single attribute (color, shape, size) | H45: =IFERROR(VLOOKUP($E$19,'TERM 1 SUMMARY'!$C$16:$BT$114,27,FALSE()),"") | I45: =IFERROR(VLOOKUP($E$19,'TERM 2 SUMMARY'!$C$16:$BT$114,27,FALSE()),"") | J45: =IFERROR(VLOOKUP($E$19,'TERM 3 SUMMARY'!$C$16:$BU$114,27,FALSE()),"") | L45: 13. Orally segment sounds a. syllable b. onset and rime c. phoneme by phoneme | O45: =IFERROR(VLOOKUP($E$19,'TERM 1 SUMMARY'!$C$16:$BT$114,56,FALSE()),"") | P45: =IFERROR(VLOOKUP($E$19,'TERM 2 SUMMARY'!$C$16:$BT$114,56,FALSE()),"") | Q45: =IFERROR(VLOOKUP($E$19,'TERM 3 SUMMARY'!$C$16:$BU$114,56,FALSE()),"")
D46: 5. Reclassifies objects according to multiple attributes | H46: =IFERROR(VLOOKUP($E$19,'TERM 1 SUMMARY'!$C$16:$BT$114,28,FALSE()),"") | I46: =IFERROR(VLOOKUP($E$19,'TERM 2 SUMMARY'!$C$16:$BT$114,28,FALSE()),"") | J46: =IFERROR(VLOOKUP($E$19,'TERM 3 SUMMARY'!$C$16:$BU$114,28,FALSE()),"") | L46: Letter Knowledge
D47: 6. Arranges objects according to specific attributes | H47: =IFERROR(VLOOKUP($E$19,'TERM 1 SUMMARY'!$C$16:$BT$114,29,FALSE()),"") | I47: =IFERROR(VLOOKUP($E$19,'TERM 2 SUMMARY'!$C$16:$BT$114,29,FALSE()),"") | J47: =IFERROR(VLOOKUP($E$19,'TERM 3 SUMMARY'!$C$16:$BU$114,29,FALSE()),"") | L47: 14. Identifies uppercase letters | O47: =IFERROR(VLOOKUP($E$19,'TERM 1 SUMMARY'!$C$16:$BT$114,57,FALSE()),"") | P47: =IFERROR(VLOOKUP($E$19,'TERM 2 SUMMARY'!$C$16:$BT$114,57,FALSE()),"") | Q47: =IFERROR(VLOOKUP($E$19,'TERM 3 SUMMARY'!$C$16:$BU$114,57,FALSE()),"")
D48: 7. Recognizes, extends and create patterns using concrete objects | H48: =IFERROR(VLOOKUP($E$19,'TERM 1 SUMMARY'!$C$16:$BT$114,30,FALSE()),"") | I48: =IFERROR(VLOOKUP($E$19,'TERM 2 SUMMARY'!$C$16:$BT$114,30,FALSE()),"") | J48: =IFERROR(VLOOKUP($E$19,'TERM 3 SUMMARY'!$C$16:$BU$114,30,FALSE()),"") | L48: 15. Identifies lowercase letters | O48: =IFERROR(VLOOKUP($E$19,'TERM 1 SUMMARY'!$C$16:$BT$114,58,FALSE()),"") | P48: =IFERROR(VLOOKUP($E$19,'TERM 2 SUMMARY'!$C$16:$BT$114,58,FALSE()),"") | Q48: =IFERROR(VLOOKUP($E$19,'TERM 3 SUMMARY'!$C$16:$BU$114,58,FALSE()),"")
D49: 8. Measures size, length, capacity and mass of objects using non-standard measuring tools | H49: =IFERROR(VLOOKUP($E$19,'TERM 1 SUMMARY'!$C$16:$BT$114,31,FALSE()),"") | I49: =IFERROR(VLOOKUP($E$19,'TERM 2 SUMMARY'!$C$16:$BT$114,31,FALSE()),"") | J49: =IFERROR(VLOOKUP($E$19,'TERM 3 SUMMARY'!$C$16:$BU$114,31,FALSE()),"") | L49: 16. Matches upper and lowercase letters | O49: =IFERROR(VLOOKUP($E$19,'TERM 1 SUMMARY'!$C$16:$BT$114,59,FALSE()),"") | P49: =IFERROR(VLOOKUP($E$19,'TERM 2 SUMMARY'!$C$16:$BT$114,59,FALSE()),"") | Q49: =IFERROR(VLOOKUP($E$19,'TERM 3 SUMMARY'!$C$16:$BU$114,59,FALSE()),"")
D50: 9. Identifies position of objects (in, on, over, under, top, bottom) | H50: =IFERROR(VLOOKUP($E$19,'TERM 1 SUMMARY'!$C$16:$BT$114,32,FALSE()),"") | I50: =IFERROR(VLOOKUP($E$19,'TERM 2 SUMMARY'!$C$16:$BT$114,32,FALSE()),"") | J50: =IFERROR(VLOOKUP($E$19,'TERM 3 SUMMARY'!$C$16:$BU$114,32,FALSE()),"") | L50: Letter Sound Relationship
D51: 10. Compares quantities of objects (more/less) | H51: =IFERROR(VLOOKUP($E$19,'TERM 1 SUMMARY'!$C$16:$BT$114,33,FALSE()),"") | I51: =IFERROR(VLOOKUP($E$19,'TERM 2 SUMMARY'!$C$16:$BT$114,33,FALSE()),"") | J51: =IFERROR(VLOOKUP($E$19,'TERM 3 SUMMARY'!$C$16:$BU$114,33,FALSE()),"") | L51: 17. Identifies letter sounds | O51: =IFERROR(VLOOKUP($E$19,'TERM 1 SUMMARY'!$C$16:$BT$114,60,FALSE()),"") | P51: =IFERROR(VLOOKUP($E$19,'TERM 2 SUMMARY'!$C$16:$BT$114,60,FALSE()),"") | Q51: =IFERROR(VLOOKUP($E$19,'TERM 3 SUMMARY'!$C$16:$BU$114,60,FALSE()),"")
D52: 11. Counts with one-to-one correspondence | H52: =IFERROR(VLOOKUP($E$19,'TERM 1 SUMMARY'!$C$16:$BT$114,34,FALSE()),"") | I52: =IFERROR(VLOOKUP($E$19,'TERM 2 SUMMARY'!$C$16:$BT$114,34,FALSE()),"") | J52: =IFERROR(VLOOKUP($E$19,'TERM 3 SUMMARY'!$C$16:$BU$114,34,FALSE()),"") | L52: 18. Matches letters and their corresponding sounds | O52: =IFERROR(VLOOKUP($E$19,'TERM 1 SUMMARY'!$C$16:$BT$114,61,FALSE()),"") | P52: =IFERROR(VLOOKUP($E$19,'TERM 2 SUMMARY'!$C$16:$BT$114,61,FALSE()),"") | Q52: =IFERROR(VLOOKUP($E$19,'TERM 3 SUMMARY'!$C$16:$BU$114,61,FALSE()),"")
D53: 12. Recognizes numerals | H53: =IFERROR(VLOOKUP($E$19,'TERM 1 SUMMARY'!$C$16:$BT$114,35,FALSE()),"") | I53: =IFERROR(VLOOKUP($E$19,'TERM 2 SUMMARY'!$C$16:$BT$114,35,FALSE()),"") | J53: =IFERROR(VLOOKUP($E$19,'TERM 3 SUMMARY'!$C$16:$BU$114,35,FALSE()),"") | L53: E. Comprehension
D54: 13. Matches numerals to objects | H54: =IFERROR(VLOOKUP($E$19,'TERM 1 SUMMARY'!$C$16:$BT$114,36,FALSE()),"") | I54: =IFERROR(VLOOKUP($E$19,'TERM 2 SUMMARY'!$C$16:$BT$114,36,FALSE()),"") | J54: =IFERROR(VLOOKUP($E$19,'TERM 3 SUMMARY'!$C$16:$BU$114,36,FALSE()),"") | L54: 19. Uses a variety of strategies to gain meaning of leveled texts | O54: =IFERROR(VLOOKUP($E$19,'TERM 1 SUMMARY'!$C$16:$BT$114,62,FALSE()),"") | P54: =IFERROR(VLOOKUP($E$19,'TERM 2 SUMMARY'!$C$16:$BT$114,62,FALSE()),"") | Q54: =IFERROR(VLOOKUP($E$19,'TERM 3 SUMMARY'!$C$16:$BU$114,62,FALSE()),"")
D55: 14. Adds and subtracts using concrete objects | H55: =IFERROR(VLOOKUP($E$19,'TERM 1 SUMMARY'!$C$16:$BT$114,37,FALSE()),"") | I55: =IFERROR(VLOOKUP($E$19,'TERM 2 SUMMARY'!$C$16:$BT$114,37,FALSE()),"") | J55: =IFERROR(VLOOKUP($E$19,'TERM 3 SUMMARY'!$C$16:$BU$114,37,FALSE()),"") | L55: 20. Uses print and illustrations to make meaning | O55: =IFERROR(VLOOKUP($E$19,'TERM 1 SUMMARY'!$C$16:$BT$114,63,FALSE()),"") | P55: =IFERROR(VLOOKUP($E$19,'TERM 2 SUMMARY'!$C$16:$BT$114,63,FALSE()),"") | Q55: =IFERROR(VLOOKUP($E$19,'TERM 3 SUMMARY'!$C$16:$BU$114,63,FALSE()),"")
D56: 15. Recognizes clock as measure of time (hours and minutes) | H56: =IFERROR(VLOOKUP($E$19,'TERM 1 SUMMARY'!$C$16:$BT$114,38,FALSE()),"") | I56: =IFERROR(VLOOKUP($E$19,'TERM 2 SUMMARY'!$C$16:$BT$114,38,FALSE()),"") | J56: =IFERROR(VLOOKUP($E$19,'TERM 3 SUMMARY'!$C$16:$BU$114,38,FALSE()),"") | L56: F. Concepts of Print
D57: 16. Shows awareness and care for the natural and physical environment | H57: =IFERROR(VLOOKUP($E$19,'TERM 1 SUMMARY'!$C$16:$BT$114,39,FALSE()),"") | I57: =IFERROR(VLOOKUP($E$19,'TERM 2 SUMMARY'!$C$16:$BT$114,39,FALSE()),"") | J57: =IFERROR(VLOOKUP($E$19,'TERM 3 SUMMARY'!$C$16:$BU$114,39,FALSE()),"") | L57: 21. Demonstrates book handling skills | O57: =IFERROR(VLOOKUP($E$19,'TERM 1 SUMMARY'!$C$16:$BT$114,64,FALSE()),"") | P57: =IFERROR(VLOOKUP($E$19,'TERM 2 SUMMARY'!$C$16:$BT$114,64,FALSE()),"") | Q57: =IFERROR(VLOOKUP($E$19,'TERM 3 SUMMARY'!$C$16:$BU$114,64,FALSE()),"")
D58: 17. Talks about participation in cultural and religious activities | H58: =IFERROR(VLOOKUP($E$19,'TERM 1 SUMMARY'!$C$16:$BT$114,40,FALSE()),"") | I58: =IFERROR(VLOOKUP($E$19,'TERM 2 SUMMARY'!$C$16:$BT$114,40,FALSE()),"") | J58: =IFERROR(VLOOKUP($E$19,'TERM 3 SUMMARY'!$C$16:$BU$114,40,FALSE()),"") | L58: 22. Distinguishes between letters, words, and sentences | O58: =IFERROR(VLOOKUP($E$19,'TERM 1 SUMMARY'!$C$16:$BT$114,65,FALSE()),"") | P58: =IFERROR(VLOOKUP($E$19,'TERM 2 SUMMARY'!$C$16:$BT$114,65,FALSE()),"") | Q58: =IFERROR(VLOOKUP($E$19,'TERM 3 SUMMARY'!$C$16:$BU$114,65,FALSE()),"")
D59: 18. Shows awareness of the importance of caring for the natural and physical environment through simple practices (e.g., sorting trash, helping to clean up) | H59: =IFERROR(VLOOKUP($E$19,'TERM 1 SUMMARY'!$C$16:$BT$114,41,FALSE()),"") | I59: =IFERROR(VLOOKUP($E$19,'TERM 2 SUMMARY'!$C$16:$BT$114,41,FALSE()),"") | J59: =IFERROR(VLOOKUP($E$19,'TERM 3 SUMMARY'!$C$16:$BU$114,41,FALSE()),"") | L59: 23. Demonstrates awareness of print (left to right and top to bottom) | O59: =IFERROR(VLOOKUP($E$19,'TERM 1 SUMMARY'!$C$16:$BT$114,66,FALSE()),"") | P59: =IFERROR(VLOOKUP($E$19,'TERM 2 SUMMARY'!$C$16:$BT$114,66,FALSE()),"") | Q59: =IFERROR(VLOOKUP($E$19,'TERM 3 SUMMARY'!$C$16:$BU$114,66,FALSE()),"")
D60: 19. Predicts outcomes in familiar stories read aloud in class | H60: =IFERROR(VLOOKUP($E$19,'TERM 1 SUMMARY'!$C$16:$BT$114,42,FALSE()),"") | I60: =IFERROR(VLOOKUP($E$19,'TERM 2 SUMMARY'!$C$16:$BT$114,42,FALSE()),"") | J60: =IFERROR(VLOOKUP($E$19,'TERM 3 SUMMARY'!$C$16:$BU$114,42,FALSE()),"") | L60: G. Writing
D61: 20. Suggests solutions to problems in class activities and stories read aloud in class | H61: =IFERROR(VLOOKUP($E$19,'TERM 1 SUMMARY'!$C$16:$BT$114,43,FALSE()),"") | I61: =IFERROR(VLOOKUP($E$19,'TERM 2 SUMMARY'!$C$16:$BT$114,43,FALSE()),"") | J61: =IFERROR(VLOOKUP($E$19,'TERM 3 SUMMARY'!$C$16:$BU$114,43,FALSE()),"") | L61: 24. Traces/draws/copies shapes, designs, pictures | O61: =IFERROR(VLOOKUP($E$19,'TERM 1 SUMMARY'!$C$16:$BT$114,67,FALSE()),"") | P61: =IFERROR(VLOOKUP($E$19,'TERM 2 SUMMARY'!$C$16:$BT$114,67,FALSE()),"") | Q61: =IFERROR(VLOOKUP($E$19,'TERM 3 SUMMARY'!$C$16:$BU$114,67,FALSE()),"")
L62: 25. Traces/copies/writes name, words | O62: =IFERROR(VLOOKUP($E$19,'TERM 1 SUMMARY'!$C$16:$BT$114,68,FALSE()),"") | P62: =IFERROR(VLOOKUP($E$19,'TERM 2 SUMMARY'!$C$16:$BT$114,68,FALSE()),"") | Q62: =IFERROR(VLOOKUP($E$19,'TERM 3 SUMMARY'!$C$16:$BU$114,68,FALSE()),"")
L63: 26. Writes uppercase and lowercase letters | O63: =IFERROR(VLOOKUP($E$19,'TERM 1 SUMMARY'!$C$16:$BT$114,69,FALSE()),"") | P63: =IFERROR(VLOOKUP($E$19,'TERM 2 SUMMARY'!$C$16:$BT$114,69,FALSE()),"") | Q63: =IFERROR(VLOOKUP($E$19,'TERM 3 SUMMARY'!$C$16:$BU$114,69,FALSE()),"")
L64: 27. Spells sight words | O64: =IFERROR(VLOOKUP($E$19,'TERM 1 SUMMARY'!$C$16:$BT$114,70,FALSE()),"") | P64: =IFERROR(VLOOKUP($E$19,'TERM 2 SUMMARY'!$C$16:$BT$114,70,FALSE()),"") | Q64: =IFERROR(VLOOKUP($E$19,'TERM 3 SUMMARY'!$C$16:$BU$114,70,FALSE()),"")
L65: 28. Spells simple words phonetically | O65: =IFERROR(VLOOKUP($E$19,'TERM 2 SUMMARY'!$C$16:$BU$114,71,FALSE()),"") | P65: =IFERROR(VLOOKUP($E$19,'TERM 2 SUMMARY'!$C$16:$BU$114,71,FALSE()),"") | Q65: =IFERROR(VLOOKUP($E$19,'TERM 3 SUMMARY'!$C$16:$BU$114,71,FALSE()),"")
U76: STUDENT NAME
U77: =$E$19 -> 0
D78: TEACHER’S COMMENTS/REMARKS | M78: ATTENDANCE RECORD
D79: (Provide specific observations, strengths, and suggested interventions.)
D81: TERM 1 (UNANG TERMINO) | M81: Term | N81: Month | O81: No. of Class Days | P81: No. Days Present | Q81: No. of Times Absent
M83: 1 | N83: June | O83: ='KINDER - ATTENDANCE RECORD SUMM'!F$116 -> 20 | Q83: =IF(P83="","",O83-P83)
N84: July | O84: ='KINDER - ATTENDANCE RECORD SUMM'!G$116 -> 20 | Q84: =IF(P84="","",O84-P84)
N85: August | O85: ='KINDER - ATTENDANCE RECORD SUMM'!H$116 -> 20 | Q85: =IF(P85="","",O85-P85)
N86: September | O86: ='KINDER - ATTENDANCE RECORD SUMM'!I$116 -> 10 | Q86: =IF(P86="","",O86-P86)
M87: 2 | N87: September | O87: ='KINDER - ATTENDANCE RECORD SUMM'!J$116 -> 10 | Q87: =IF(P87="","",O87-P87)
N88: October | O88: ='KINDER - ATTENDANCE RECORD SUMM'!K$116 -> 20 | Q88: =IF(P88="","",O88-P88)
N89: November | O89: ='KINDER - ATTENDANCE RECORD SUMM'!L$116 -> 20 | Q89: =IF(P89="","",O89-P89)
N90: December | O90: ='KINDER - ATTENDANCE RECORD SUMM'!M$116 -> 20 | Q90: =IF(P90="","",O90-P90)
M91: 3 | N91: January | O91: ='KINDER - ATTENDANCE RECORD SUMM'!N$116 -> 18 | Q91: =IF(P91="","",O91-P91)
N92: February | O92: ='KINDER - ATTENDANCE RECORD SUMM'!O$116 -> 18 | Q92: =IF(P92="","",O92-P92)
N93: March | O93: ='KINDER - ATTENDANCE RECORD SUMM'!P$116 -> 20 | Q93: =IF(P93="","",O93-P93)
N94: April | O94: ='KINDER - ATTENDANCE RECORD SUMM'!Q$116 -> 5 | Q94: =IF(P94="","",O94-P94)
M95: TOTAL | O95: =SUM(O83:O94) -> 201 | P95: =SUM(P83:P94) -> 0 | Q95: =IF(P95="","",O95-P95) -> 201
E97: Parent's/Guardian's Signature: | M97: IMPORTANT NOTE TO PARENTS/GUARDIANS
M98: This rating scale is used to record the learner’s level of attainment for each competency across the developmental domains. It guides teachers in assigning ratings based on observed performance and assessment results for each term.
D99: TERM 2 (IKALAWANG TERMINO)
M101: Rating | O101: Indicators
M102: Consistent (CO) | O102: Always demonstrates the expected competency
O104: Always participates in the different activities, works independently
O106: Always performs tasks, advanced in some aspects
M108: Developing (DV) | O108: Sometimes demonstrates the competency
O110: Sometimes participates, minimal supervision
O112: Progresses continuously in doing assigned tasks
M114: Beginning (BG) | O114: Rarely demonstrates the expected competency
E115: Parent's/Guardian's Signature:
O116: Rarely participates in class activities and/or initiates independent works
D117: TERM 3 (IKATLONG TERMINO)
O118: Shows interest in doing tasks but needs close supervision
M121: CERTIFICATE OF TRANSFER
M122: This is to certify that
M124: __________________________________________________________________
M125: of ____________________________ has developed the general
M126: competencies based on the Kindergarten Curriculum Guide.
M128: ___________________________________
M129: Adviser
M131: ___________________________________
M132: School Head
E133: Parent's/Guardian's Signature:

Sheet TERM 1 SUMMARY
A1: CLASS SUMMARY - FIRST
D5: REGION | E5: ='INPUT DATA'!F10 -> 0 | I5: DIVISION | K5: ='INPUT DATA'!F11 -> 0
D6: SCHOOL NAME | E6: ='INPUT DATA'!F16 -> 0 | I6: SCHOOL ID | K6: ='INPUT DATA'!F15 -> 0 | S6: SCHOOL YEAR | T6: ='INPUT DATA'!F18 -> 0
B9: FIRST TERM | I9: Age (BoSY) | K9: Age (EoSY) | M9: Sex | N9: GRADE LEVEL | R9: ='INPUT DATA'!F27 -> 0 | AE9: ADVISER | AH9: ='INPUT DATA'!F26 -> 0
N10: SECTION | R10: ='INPUT DATA'!F28 -> 0
N11: I. Sensory Perceptual and Motor Development | S11: II. Socio-emotional Development | Z11: III. Cognitive Development | AT11: IV. Language, Literacy, and Communication Development
B12: LEARNERS' NAMES | F12: LRN | H12: Date of Birth | I12: Years | J12: Months | K12: Years | L12: Months | N12: 1 | O12: 2 | P12: 3 | Q12: 4 | R12: 5 | S12: 1 | T12: 2 | U12: 3 | V12: 4 | W12: 5 | X12: 6 | Y12: 7 | Z12: 1 | AA12: 2 | AB12: 3 | AC12: 4 | AD12: 5 | AE12: 6 | AF12: 7 | AG12: 8 | AH12: 9 | AI12: 10 | AJ12: 11 | AK12: 12 | AL12: 13 | AM12: 14 | AN12: 15 | AO12: 16 | AP12: 17 | AQ12: 18 | AR12: 19 | AS12: 20 | AT12: A. Listening and Viewing | AX12: B. Sight Word Recognition | AZ12: C. Speaking | BF12: D. Reading | BL12: E. Comprehension | BN12: F. Concepts of Print | BQ12: G. Writing
AT13: 1 | AU13: 2 | AV13: 3 | AW13: 4 | AX13: 5 | AY13: 6 | AZ13: 7 | BA13: 8 | BB13: 9 | BC13: 10 | BD13: 11 | BE13: 12 | BF13: Phonological / Phonemic Awareness | BG13: Letter Knowledge | BJ13: Letter Sound Relationship | BL13: 19 | BM13: 20 | BN13: 21 | BO13: 22 | BP13: 23 | BQ13: 24 | BR13: 25 | BS13: 26 | BT13: 27 | BU13: 28
BF14: 13 | BG14: 14 | BH14: 15 | BI14: 16 | BJ14: 17 | BK14: 18
B15: MALE
B16: 1 | C16: =IF('INPUT DATA'!L11="","",'INPUT DATA'!L11) | F16: =IF('INPUT DATA'!M11="","",'INPUT DATA'!M11) | H16: =IF('INPUT DATA'!N11="","",'INPUT DATA'!N11) | I16: =IFERROR(IF(OR(H16="",H16=0),"",DATEDIF(IF(ISNUMBER(H16),H16,DATEVALUE(H16)),DATE(VALUE(LEFT('INPUT DATA'!$F$18,4)),6,1),"Y")),"") | J16: =IFERROR(IF(OR(H16="",H16=0),"",DATEDIF(IF(ISNUMBER(H16),H16,DATEVALUE(H16)),DATE(VALUE(LEFT('INPUT DATA'!$F$18,4)),6,1),"YM")),"") | K16: =IFERROR(IF(OR(H16="",H16=0),"",DATEDIF(IF(ISNUMBER(H16),H16,DATEVALUE(H16)),DATE(VALUE(RIGHT('INPUT DATA'!$F$18,4)),5,31),"Y")),"") | L16: =IFERROR(IF(OR(H16="",H16=0),"",DATEDIF(IF(ISNUMBER(H16),H16,DATEVALUE(H16)),DATE(VALUE(RIGHT('INPUT DATA'!$F$18,4)),5,31),"YM")),"") | M16: M
B17: 2 | C17: =IF('INPUT DATA'!L12="","",'INPUT DATA'!L12) | F17: =IF('INPUT DATA'!M11="","",'INPUT DATA'!M11) | H17: =IF('INPUT DATA'!N11="","",'INPUT DATA'!N11) | I17: =IFERROR(IF(OR(H17="",H17=0),"",DATEDIF(IF(ISNUMBER(H17),H17,DATEVALUE(H17)),DATE(VALUE(LEFT('INPUT DATA'!$F$18,4)),6,1),"Y")),"") | J17: =IFERROR(IF(OR(H17="",H17=0),"",DATEDIF(IF(ISNUMBER(H17),H17,DATEVALUE(H17)),DATE(VALUE(LEFT('INPUT DATA'!$F$18,4)),6,1),"YM")),"") | K17: =IFERROR(IF(OR(H17="",H17=0),"",DATEDIF(IF(ISNUMBER(H17),H17,DATEVALUE(H17)),DATE(VALUE(RIGHT('INPUT DATA'!$F$18,4)),5,31),"Y")),"") | L17: =IFERROR(IF(OR(H17="",H17=0),"",DATEDIF(IF(ISNUMBER(H17),H17,DATEVALUE(H17)),DATE(VALUE(RIGHT('INPUT DATA'!$F$18,4)),5,31),"YM")),"") | M17: M
B18: 3 | C18: =IF('INPUT DATA'!L13="","",'INPUT DATA'!L13) | F18: =IF('INPUT DATA'!M12="","",'INPUT DATA'!M12) | H18: =IF('INPUT DATA'!N12="","",'INPUT DATA'!N12) | I18: =IFERROR(IF(OR(H18="",H18=0),"",DATEDIF(IF(ISNUMBER(H18),H18,DATEVALUE(H18)),DATE(VALUE(LEFT('INPUT DATA'!$F$18,4)),6,1),"Y")),"") | J18: =IFERROR(IF(OR(H18="",H18=0),"",DATEDIF(IF(ISNUMBER(H18),H18,DATEVALUE(H18)),DATE(VALUE(LEFT('INPUT DATA'!$F$18,4)),6,1),"YM")),"") | K18: =IFERROR(IF(OR(H18="",H18=0),"",DATEDIF(IF(ISNUMBER(H18),H18,DATEVALUE(H18)),DATE(VALUE(RIGHT('INPUT DATA'!$F$18,4)),5,31),"Y")),"") | L18: =IFERROR(IF(OR(H18="",H18=0),"",DATEDIF(IF(ISNUMBER(H18),H18,DATEVALUE(H18)),DATE(VALUE(RIGHT('INPUT DATA'!$F$18,4)),5,31),"YM")),"") | M18: M
B19: 4 | C19: =IF('INPUT DATA'!L14="","",'INPUT DATA'!L14) | F19: =IF('INPUT DATA'!M13="","",'INPUT DATA'!M13) | H19: =IF('INPUT DATA'!N13="","",'INPUT DATA'!N13) | I19: =IFERROR(IF(OR(H19="",H19=0),"",DATEDIF(IF(ISNUMBER(H19),H19,DATEVALUE(H19)),DATE(VALUE(LEFT('INPUT DATA'!$F$18,4)),6,1),"Y")),"") | J19: =IFERROR(IF(OR(H19="",H19=0),"",DATEDIF(IF(ISNUMBER(H19),H19,DATEVALUE(H19)),DATE(VALUE(LEFT('INPUT DATA'!$F$18,4)),6,1),"YM")),"") | K19: =IFERROR(IF(OR(H19="",H19=0),"",DATEDIF(IF(ISNUMBER(H19),H19,DATEVALUE(H19)),DATE(VALUE(RIGHT('INPUT DATA'!$F$18,4)),5,31),"Y")),"") | L19: =IFERROR(IF(OR(H19="",H19=0),"",DATEDIF(IF(ISNUMBER(H19),H19,DATEVALUE(H19)),DATE(VALUE(RIGHT('INPUT DATA'!$F$18,4)),5,31),"YM")),"") | M19: M
B20: 5 | C20: =IF('INPUT DATA'!L15="","",'INPUT DATA'!L15) | F20: =IF('INPUT DATA'!M14="","",'INPUT DATA'!M14) | H20: =IF('INPUT DATA'!N14="","",'INPUT DATA'!N14) | I20: =IFERROR(IF(OR(H20="",H20=0),"",DATEDIF(IF(ISNUMBER(H20),H20,DATEVALUE(H20)),DATE(VALUE(LEFT('INPUT DATA'!$F$18,4)),6,1),"Y")),"") | J20: =IFERROR(IF(OR(H20="",H20=0),"",DATEDIF(IF(ISNUMBER(H20),H20,DATEVALUE(H20)),DATE(VALUE(LEFT('INPUT DATA'!$F$18,4)),6,1),"YM")),"") | K20: =IFERROR(IF(OR(H20="",H20=0),"",DATEDIF(IF(ISNUMBER(H20),H20,DATEVALUE(H20)),DATE(VALUE(RIGHT('INPUT DATA'!$F$18,4)),5,31),"Y")),"") | L20: =IFERROR(IF(OR(H20="",H20=0),"",DATEDIF(IF(ISNUMBER(H20),H20,DATEVALUE(H20)),DATE(VALUE(RIGHT('INPUT DATA'!$F$18,4)),5,31),"YM")),"") | M20: M
B21: 6 | C21: =IF('INPUT DATA'!L16="","",'INPUT DATA'!L16) | F21: =IF('INPUT DATA'!M15="","",'INPUT DATA'!M15) | H21: =IF('INPUT DATA'!N15="","",'INPUT DATA'!N15) | I21: =IFERROR(IF(OR(H21="",H21=0),"",DATEDIF(IF(ISNUMBER(H21),H21,DATEVALUE(H21)),DATE(VALUE(LEFT('INPUT DATA'!$F$18,4)),6,1),"Y")),"") | J21: =IFERROR(IF(OR(H21="",H21=0),"",DATEDIF(IF(ISNUMBER(H21),H21,DATEVALUE(H21)),DATE(VALUE(LEFT('INPUT DATA'!$F$18,4)),6,1),"YM")),"") | K21: =IFERROR(IF(OR(H21="",H21=0),"",DATEDIF(IF(ISNUMBER(H21),H21,DATEVALUE(H21)),DATE(VALUE(RIGHT('INPUT DATA'!$F$18,4)),5,31),"Y")),"") | L21: =IFERROR(IF(OR(H21="",H21=0),"",DATEDIF(IF(ISNUMBER(H21),H21,DATEVALUE(H21)),DATE(VALUE(RIGHT('INPUT DATA'!$F$18,4)),5,31),"YM")),"") | M21: M
B22: 7 | C22: =IF('INPUT DATA'!L17="","",'INPUT DATA'!L17) | F22: =IF('INPUT DATA'!M16="","",'INPUT DATA'!M16) | H22: =IF('INPUT DATA'!N16="","",'INPUT DATA'!N16) | I22: =IFERROR(IF(OR(H22="",H22=0),"",DATEDIF(IF(ISNUMBER(H22),H22,DATEVALUE(H22)),DATE(VALUE(LEFT('INPUT DATA'!$F$18,4)),6,1),"Y")),"") | J22: =IFERROR(IF(OR(H22="",H22=0),"",DATEDIF(IF(ISNUMBER(H22),H22,DATEVALUE(H22)),DATE(VALUE(LEFT('INPUT DATA'!$F$18,4)),6,1),"YM")),"") | K22: =IFERROR(IF(OR(H22="",H22=0),"",DATEDIF(IF(ISNUMBER(H22),H22,DATEVALUE(H22)),DATE(VALUE(RIGHT('INPUT DATA'!$F$18,4)),5,31),"Y")),"") | L22: =IFERROR(IF(OR(H22="",H22=0),"",DATEDIF(IF(ISNUMBER(H22),H22,DATEVALUE(H22)),DATE(VALUE(RIGHT('INPUT DATA'!$F$18,4)),5,31),"YM")),"") | M22: M
B23: 8 | C23: =IF('INPUT DATA'!L18="","",'INPUT DATA'!L18) | F23: =IF('INPUT DATA'!M17="","",'INPUT DATA'!M17) | H23: =IF('INPUT DATA'!N17="","",'INPUT DATA'!N17) | I23: =IFERROR(IF(OR(H23="",H23=0),"",DATEDIF(IF(ISNUMBER(H23),H23,DATEVALUE(H23)),DATE(VALUE(LEFT('INPUT DATA'!$F$18,4)),6,1),"Y")),"") | J23: =IFERROR(IF(OR(H23="",H23=0),"",DATEDIF(IF(ISNUMBER(H23),H23,DATEVALUE(H23)),DATE(VALUE(LEFT('INPUT DATA'!$F$18,4)),6,1),"YM")),"") | K23: =IFERROR(IF(OR(H23="",H23=0),"",DATEDIF(IF(ISNUMBER(H23),H23,DATEVALUE(H23)),DATE(VALUE(RIGHT('INPUT DATA'!$F$18,4)),5,31),"Y")),"") | L23: =IFERROR(IF(OR(H23="",H23=0),"",DATEDIF(IF(ISNUMBER(H23),H23,DATEVALUE(H23)),DATE(VALUE(RIGHT('INPUT DATA'!$F$18,4)),5,31),"YM")),"") | M23: M
B24: 9 | C24: =IF('INPUT DATA'!L19="","",'INPUT DATA'!L19) | F24: =IF('INPUT DATA'!M18="","",'INPUT DATA'!M18) | H24: =IF('INPUT DATA'!N18="","",'INPUT DATA'!N18) | I24: =IFERROR(IF(OR(H24="",H24=0),"",DATEDIF(IF(ISNUMBER(H24),H24,DATEVALUE(H24)),DATE(VALUE(LEFT('INPUT DATA'!$F$18,4)),6,1),"Y")),"") | J24: =IFERROR(IF(OR(H24="",H24=0),"",DATEDIF(IF(ISNUMBER(H24),H24,DATEVALUE(H24)),DATE(VALUE(LEFT('INPUT DATA'!$F$18,4)),6,1),"YM")),"") | K24: =IFERROR(IF(OR(H24="",H24=0),"",DATEDIF(IF(ISNUMBER(H24),H24,DATEVALUE(H24)),DATE(VALUE(RIGHT('INPUT DATA'!$F$18,4)),5,31),"Y")),"") | L24: =IFERROR(IF(OR(H24="",H24=0),"",DATEDIF(IF(ISNUMBER(H24),H24,DATEVALUE(H24)),DATE(VALUE(RIGHT('INPUT DATA'!$F$18,4)),5,31),"YM")),"") | M24: M
B25: 10 | C25: =IF('INPUT DATA'!L20="","",'INPUT DATA'!L20) | F25: =IF('INPUT DATA'!M19="","",'INPUT DATA'!M19) | H25: =IF('INPUT DATA'!N19="","",'INPUT DATA'!N19) | I25: =IFERROR(IF(OR(H25="",H25=0),"",DATEDIF(IF(ISNUMBER(H25),H25,DATEVALUE(H25)),DATE(VALUE(LEFT('INPUT DATA'!$F$18,4)),6,1),"Y")),"") | J25: =IFERROR(IF(OR(H25="",H25=0),"",DATEDIF(IF(ISNUMBER(H25),H25,DATEVALUE(H25)),DATE(VALUE(LEFT('INPUT DATA'!$F$18,4)),6,1),"YM")),"") | K25: =IFERROR(IF(OR(H25="",H25=0),"",DATEDIF(IF(ISNUMBER(H25),H25,DATEVALUE(H25)),DATE(VALUE(RIGHT('INPUT DATA'!$F$18,4)),5,31),"Y")),"") | L25: =IFERROR(IF(OR(H25="",H25=0),"",DATEDIF(IF(ISNUMBER(H25),H25,DATEVALUE(H25)),DATE(VALUE(RIGHT('INPUT DATA'!$F$18,4)),5,31),"YM")),"") | M25: M
B26: 11 | C26: =IF('INPUT DATA'!L21="","",'INPUT DATA'!L21) | F26: =IF('INPUT DATA'!M20="","",'INPUT DATA'!M20) | H26: =IF('INPUT DATA'!N20="","",'INPUT DATA'!N20) | I26: =IFERROR(IF(OR(H26="",H26=0),"",DATEDIF(IF(ISNUMBER(H26),H26,DATEVALUE(H26)),DATE(VALUE(LEFT('INPUT DATA'!$F$18,4)),6,1),"Y")),"") | J26: =IFERROR(IF(OR(H26="",H26=0),"",DATEDIF(IF(ISNUMBER(H26),H26,DATEVALUE(H26)),DATE(VALUE(LEFT('INPUT DATA'!$F$18,4)),6,1),"YM")),"") | K26: =IFERROR(IF(OR(H26="",H26=0),"",DATEDIF(IF(ISNUMBER(H26),H26,DATEVALUE(H26)),DATE(VALUE(RIGHT('INPUT DATA'!$F$18,4)),5,31),"Y")),"") | L26: =IFERROR(IF(OR(H26="",H26=0),"",DATEDIF(IF(ISNUMBER(H26),H26,DATEVALUE(H26)),DATE(VALUE(RIGHT('INPUT DATA'!$F$18,4)),5,31),"YM")),"") | M26: M
B27: 12 | C27: =IF('INPUT DATA'!L22="","",'INPUT DATA'!L22) | F27: =IF('INPUT DATA'!M21="","",'INPUT DATA'!M21) | H27: =IF('INPUT DATA'!N21="","",'INPUT DATA'!N21) | I27: =IFERROR(IF(OR(H27="",H27=0),"",DATEDIF(IF(ISNUMBER(H27),H27,DATEVALUE(H27)),DATE(VALUE(LEFT('INPUT DATA'!$F$18,4)),6,1),"Y")),"") | J27: =IFERROR(IF(OR(H27="",H27=0),"",DATEDIF(IF(ISNUMBER(H27),H27,DATEVALUE(H27)),DATE(VALUE(LEFT('INPUT DATA'!$F$18,4)),6,1),"YM")),"") | K27: =IFERROR(IF(OR(H27="",H27=0),"",DATEDIF(IF(ISNUMBER(H27),H27,DATEVALUE(H27)),DATE(VALUE(RIGHT('INPUT DATA'!$F$18,4)),5,31),"Y")),"") | L27: =IFERROR(IF(OR(H27="",H27=0),"",DATEDIF(IF(ISNUMBER(H27),H27,DATEVALUE(H27)),DATE(VALUE(RIGHT('INPUT DATA'!$F$18,4)),5,31),"YM")),"") | M27: M
B28: 13 | C28: =IF('INPUT DATA'!L23="","",'INPUT DATA'!L23) | F28: =IF('INPUT DATA'!M22="","",'INPUT DATA'!M22) | H28: =IF('INPUT DATA'!N22="","",'INPUT DATA'!N22) | I28: =IFERROR(IF(OR(H28="",H28=0),"",DATEDIF(IF(ISNUMBER(H28),H28,DATEVALUE(H28)),DATE(VALUE(LEFT('INPUT DATA'!$F$18,4)),6,1),"Y")),"") | J28: =IFERROR(IF(OR(H28="",H28=0),"",DATEDIF(IF(ISNUMBER(H28),H28,DATEVALUE(H28)),DATE(VALUE(LEFT('INPUT DATA'!$F$18,4)),6,1),"YM")),"") | K28: =IFERROR(IF(OR(H28="",H28=0),"",DATEDIF(IF(ISNUMBER(H28),H28,DATEVALUE(H28)),DATE(VALUE(RIGHT('INPUT DATA'!$F$18,4)),5,31),"Y")),"") | L28: =IFERROR(IF(OR(H28="",H28=0),"",DATEDIF(IF(ISNUMBER(H28),H28,DATEVALUE(H28)),DATE(VALUE(RIGHT('INPUT DATA'!$F$18,4)),5,31),"YM")),"") | M28: M
... B64: 50 | C64: =IF('INPUT DATA'!L59="","",'INPUT DATA'!L59) | F64: =IF('INPUT DATA'!M58="","",'INPUT DATA'!M58) | H64: =IF('INPUT DATA'!N58="","",'INPUT DATA'!N58) | I64: =IFERROR(IF(OR(H64="",H64=0),"",DATEDIF(IF(ISNUMBER(H64),H64,DATEVALUE(H64)),DATE(VALUE(LEFT('INPUT DATA'!$F$18,4)),6,1),"Y")),"") | J64: =IFERROR(IF(OR(H64="",H64=0),"",DATEDIF(IF(ISNUMBER(H64),H64,DATEVALUE(H64)),DATE(VALUE(LEFT('INPUT DATA'!$F$18,4)),6,1),"YM")),"") | K64: =IFERROR(IF(OR(H64="",H64=0),"",DATEDIF(IF(ISNUMBER(H64),H64,DATEVALUE(H64)),DATE(VALUE(RIGHT('INPUT DATA'!$F$18,4)),5,31),"Y")),"") | L64: =IFERROR(IF(OR(H64="",H64=0),"",DATEDIF(IF(ISNUMBER(H64),H64,DATEVALUE(H64)),DATE(VALUE(RIGHT('INPUT DATA'!$F$18,4)),5,31),"YM")),"") | M64: M
B65: FEMALE
B66: 1 | C66: =IF('INPUT DATA'!Q11="","",'INPUT DATA'!Q11) | F66: =IF('INPUT DATA'!R11="","",'INPUT DATA'!R11) | H66: =IF('INPUT DATA'!S11="","",'INPUT DATA'!S11) | I66: =IFERROR(IF(OR(H66="",H66=0),"",DATEDIF(IF(ISNUMBER(H66),H66,DATEVALUE(H66)),DATE(VALUE(LEFT('INPUT DATA'!$F$18,4)),6,1),"Y")),"") | J66: =IFERROR(IF(OR(H66="",H66=0),"",DATEDIF(IF(ISNUMBER(H66),H66,DATEVALUE(H66)),DATE(VALUE(LEFT('INPUT DATA'!$F$18,4)),6,1),"YM")),"") | K66: =IFERROR(IF(OR(H66="",H66=0),"",DATEDIF(IF(ISNUMBER(H66),H66,DATEVALUE(H66)),DATE(VALUE(RIGHT('INPUT DATA'!$F$18,4)),5,31),"Y")),"") | L66: =IFERROR(IF(OR(H66="",H66=0),"",DATEDIF(IF(ISNUMBER(H66),H66,DATEVALUE(H66)),DATE(VALUE(RIGHT('INPUT DATA'!$F$18,4)),5,31),"YM")),"") | M66: F
B67: 2 | C67: =IF('INPUT DATA'!Q12="","",'INPUT DATA'!Q12) | F67: =IF('INPUT DATA'!R12="","",'INPUT DATA'!R12) | H67: =IF('INPUT DATA'!S12="","",'INPUT DATA'!S12) | I67: =IFERROR(IF(OR(H67="",H67=0),"",DATEDIF(IF(ISNUMBER(H67),H67,DATEVALUE(H67)),DATE(VALUE(LEFT('INPUT DATA'!$F$18,4)),6,1),"Y")),"") | J67: =IFERROR(IF(OR(H67="",H67=0),"",DATEDIF(IF(ISNUMBER(H67),H67,DATEVALUE(H67)),DATE(VALUE(LEFT('INPUT DATA'!$F$18,4)),6,1),"YM")),"") | K67: =IFERROR(IF(OR(H67="",H67=0),"",DATEDIF(IF(ISNUMBER(H67),H67,DATEVALUE(H67)),DATE(VALUE(RIGHT('INPUT DATA'!$F$18,4)),5,31),"Y")),"") | L67: =IFERROR(IF(OR(H67="",H67=0),"",DATEDIF(IF(ISNUMBER(H67),H67,DATEVALUE(H67)),DATE(VALUE(RIGHT('INPUT DATA'!$F$18,4)),5,31),"YM")),"") | M67: F
B68: 3 | C68: =IF('INPUT DATA'!Q13="","",'INPUT DATA'!Q13) | F68: =IF('INPUT DATA'!R13="","",'INPUT DATA'!R13) | H68: =IF('INPUT DATA'!S13="","",'INPUT DATA'!S13) | I68: =IFERROR(IF(OR(H68="",H68=0),"",DATEDIF(IF(ISNUMBER(H68),H68,DATEVALUE(H68)),DATE(VALUE(LEFT('INPUT DATA'!$F$18,4)),6,1),"Y")),"") | J68: =IFERROR(IF(OR(H68="",H68=0),"",DATEDIF(IF(ISNUMBER(H68),H68,DATEVALUE(H68)),DATE(VALUE(LEFT('INPUT DATA'!$F$18,4)),6,1),"YM")),"") | K68: =IFERROR(IF(OR(H68="",H68=0),"",DATEDIF(IF(ISNUMBER(H68),H68,DATEVALUE(H68)),DATE(VALUE(RIGHT('INPUT DATA'!$F$18,4)),5,31),"Y")),"") | L68: =IFERROR(IF(OR(H68="",H68=0),"",DATEDIF(IF(ISNUMBER(H68),H68,DATEVALUE(H68)),DATE(VALUE(RIGHT('INPUT DATA'!$F$18,4)),5,31),"YM")),"") | M68: F
B69: 4 | C69: =IF('INPUT DATA'!Q14="","",'INPUT DATA'!Q14) | F69: =IF('INPUT DATA'!R14="","",'INPUT DATA'!R14) | H69: =IF('INPUT DATA'!S14="","",'INPUT DATA'!S14) | I69: =IFERROR(IF(OR(H69="",H69=0),"",DATEDIF(IF(ISNUMBER(H69),H69,DATEVALUE(H69)),DATE(VALUE(LEFT('INPUT DATA'!$F$18,4)),6,1),"Y")),"") | J69: =IFERROR(IF(OR(H69="",H69=0),"",DATEDIF(IF(ISNUMBER(H69),H69,DATEVALUE(H69)),DATE(VALUE(LEFT('INPUT DATA'!$F$18,4)),6,1),"YM")),"") | K69: =IFERROR(IF(OR(H69="",H69=0),"",DATEDIF(IF(ISNUMBER(H69),H69,DATEVALUE(H69)),DATE(VALUE(RIGHT('INPUT DATA'!$F$18,4)),5,31),"Y")),"") | L69: =IFERROR(IF(OR(H69="",H69=0),"",DATEDIF(IF(ISNUMBER(H69),H69,DATEVALUE(H69)),DATE(VALUE(RIGHT('INPUT DATA'!$F$18,4)),5,31),"YM")),"") | M69: F
B70: 5 | C70: =IF('INPUT DATA'!Q15="","",'INPUT DATA'!Q15) | F70: =IF('INPUT DATA'!R15="","",'INPUT DATA'!R15) | H70: =IF('INPUT DATA'!S15="","",'INPUT DATA'!S15) | I70: =IFERROR(IF(OR(H70="",H70=0),"",DATEDIF(IF(ISNUMBER(H70),H70,DATEVALUE(H70)),DATE(VALUE(LEFT('INPUT DATA'!$F$18,4)),6,1),"Y")),"") | J70: =IFERROR(IF(OR(H70="",H70=0),"",DATEDIF(IF(ISNUMBER(H70),H70,DATEVALUE(H70)),DATE(VALUE(LEFT('INPUT DATA'!$F$18,4)),6,1),"YM")),"") | K70: =IFERROR(IF(OR(H70="",H70=0),"",DATEDIF(IF(ISNUMBER(H70),H70,DATEVALUE(H70)),DATE(VALUE(RIGHT('INPUT DATA'!$F$18,4)),5,31),"Y")),"") | L70: =IFERROR(IF(OR(H70="",H70=0),"",DATEDIF(IF(ISNUMBER(H70),H70,DATEVALUE(H70)),DATE(VALUE(RIGHT('INPUT DATA'!$F$18,4)),5,31),"YM")),"") | M70: F
B71: 6 | C71: =IF('INPUT DATA'!Q16="","",'INPUT DATA'!Q16) | F71: =IF('INPUT DATA'!R16="","",'INPUT DATA'!R16) | H71: =IF('INPUT DATA'!S16="","",'INPUT DATA'!S16) | I71: =IFERROR(IF(OR(H71="",H71=0),"",DATEDIF(IF(ISNUMBER(H71),H71,DATEVALUE(H71)),DATE(VALUE(LEFT('INPUT DATA'!$F$18,4)),6,1),"Y")),"") | J71: =IFERROR(IF(OR(H71="",H71=0),"",DATEDIF(IF(ISNUMBER(H71),H71,DATEVALUE(H71)),DATE(VALUE(LEFT('INPUT DATA'!$F$18,4)),6,1),"YM")),"") | K71: =IFERROR(IF(OR(H71="",H71=0),"",DATEDIF(IF(ISNUMBER(H71),H71,DATEVALUE(H71)),DATE(VALUE(RIGHT('INPUT DATA'!$F$18,4)),5,31),"Y")),"") | L71: =IFERROR(IF(OR(H71="",H71=0),"",DATEDIF(IF(ISNUMBER(H71),H71,DATEVALUE(H71)),DATE(VALUE(RIGHT('INPUT DATA'!$F$18,4)),5,31),"YM")),"") | M71: F
B72: 7 | C72: =IF('INPUT DATA'!Q17="","",'INPUT DATA'!Q17) | F72: =IF('INPUT DATA'!R17="","",'INPUT DATA'!R17) | H72: =IF('INPUT DATA'!S17="","",'INPUT DATA'!S17) | I72: =IFERROR(IF(OR(H72="",H72=0),"",DATEDIF(IF(ISNUMBER(H72),H72,DATEVALUE(H72)),DATE(VALUE(LEFT('INPUT DATA'!$F$18,4)),6,1),"Y")),"") | J72: =IFERROR(IF(OR(H72="",H72=0),"",DATEDIF(IF(ISNUMBER(H72),H72,DATEVALUE(H72)),DATE(VALUE(LEFT('INPUT DATA'!$F$18,4)),6,1),"YM")),"") | K72: =IFERROR(IF(OR(H72="",H72=0),"",DATEDIF(IF(ISNUMBER(H72),H72,DATEVALUE(H72)),DATE(VALUE(RIGHT('INPUT DATA'!$F$18,4)),5,31),"Y")),"") | L72: =IFERROR(IF(OR(H72="",H72=0),"",DATEDIF(IF(ISNUMBER(H72),H72,DATEVALUE(H72)),DATE(VALUE(RIGHT('INPUT DATA'!$F$18,4)),5,31),"YM")),"") | M72: F
B73: 8 | C73: =IF('INPUT DATA'!Q18="","",'INPUT DATA'!Q18) | F73: =IF('INPUT DATA'!R18="","",'INPUT DATA'!R18) | H73: =IF('INPUT DATA'!S18="","",'INPUT DATA'!S18) | I73: =IFERROR(IF(OR(H73="",H73=0),"",DATEDIF(IF(ISNUMBER(H73),H73,DATEVALUE(H73)),DATE(VALUE(LEFT('INPUT DATA'!$F$18,4)),6,1),"Y")),"") | J73: =IFERROR(IF(OR(H73="",H73=0),"",DATEDIF(IF(ISNUMBER(H73),H73,DATEVALUE(H73)),DATE(VALUE(LEFT('INPUT DATA'!$F$18,4)),6,1),"YM")),"") | K73: =IFERROR(IF(OR(H73="",H73=0),"",DATEDIF(IF(ISNUMBER(H73),H73,DATEVALUE(H73)),DATE(VALUE(RIGHT('INPUT DATA'!$F$18,4)),5,31),"Y")),"") | L73: =IFERROR(IF(OR(H73="",H73=0),"",DATEDIF(IF(ISNUMBER(H73),H73,DATEVALUE(H73)),DATE(VALUE(RIGHT('INPUT DATA'!$F$18,4)),5,31),"YM")),"") | M73: F
B74: 9 | C74: =IF('INPUT DATA'!Q19="","",'INPUT DATA'!Q19) | F74: =IF('INPUT DATA'!R19="","",'INPUT DATA'!R19) | H74: =IF('INPUT DATA'!S19="","",'INPUT DATA'!S19) | I74: =IFERROR(IF(OR(H74="",H74=0),"",DATEDIF(IF(ISNUMBER(H74),H74,DATEVALUE(H74)),DATE(VALUE(LEFT('INPUT DATA'!$F$18,4)),6,1),"Y")),"") | J74: =IFERROR(IF(OR(H74="",H74=0),"",DATEDIF(IF(ISNUMBER(H74),H74,DATEVALUE(H74)),DATE(VALUE(LEFT('INPUT DATA'!$F$18,4)),6,1),"YM")),"") | K74: =IFERROR(IF(OR(H74="",H74=0),"",DATEDIF(IF(ISNUMBER(H74),H74,DATEVALUE(H74)),DATE(VALUE(RIGHT('INPUT DATA'!$F$18,4)),5,31),"Y")),"") | L74: =IFERROR(IF(OR(H74="",H74=0),"",DATEDIF(IF(ISNUMBER(H74),H74,DATEVALUE(H74)),DATE(VALUE(RIGHT('INPUT DATA'!$F$18,4)),5,31),"YM")),"") | M74: F
B75: 10 | C75: =IF('INPUT DATA'!Q20="","",'INPUT DATA'!Q20) | F75: =IF('INPUT DATA'!R20="","",'INPUT DATA'!R20) | H75: =IF('INPUT DATA'!S20="","",'INPUT DATA'!S20) | I75: =IFERROR(IF(OR(H75="",H75=0),"",DATEDIF(IF(ISNUMBER(H75),H75,DATEVALUE(H75)),DATE(VALUE(LEFT('INPUT DATA'!$F$18,4)),6,1),"Y")),"") | J75: =IFERROR(IF(OR(H75="",H75=0),"",DATEDIF(IF(ISNUMBER(H75),H75,DATEVALUE(H75)),DATE(VALUE(LEFT('INPUT DATA'!$F$18,4)),6,1),"YM")),"") | K75: =IFERROR(IF(OR(H75="",H75=0),"",DATEDIF(IF(ISNUMBER(H75),H75,DATEVALUE(H75)),DATE(VALUE(RIGHT('INPUT DATA'!$F$18,4)),5,31),"Y")),"") | L75: =IFERROR(IF(OR(H75="",H75=0),"",DATEDIF(IF(ISNUMBER(H75),H75,DATEVALUE(H75)),DATE(VALUE(RIGHT('INPUT DATA'!$F$18,4)),5,31),"YM")),"") | M75: F
B76: 11 | C76: =IF('INPUT DATA'!Q21="","",'INPUT DATA'!Q21) | F76: =IF('INPUT DATA'!R21="","",'INPUT DATA'!R21) | H76: =IF('INPUT DATA'!S21="","",'INPUT DATA'!S21) | I76: =IFERROR(IF(OR(H76="",H76=0),"",DATEDIF(IF(ISNUMBER(H76),H76,DATEVALUE(H76)),DATE(VALUE(LEFT('INPUT DATA'!$F$18,4)),6,1),"Y")),"") | J76: =IFERROR(IF(OR(H76="",H76=0),"",DATEDIF(IF(ISNUMBER(H76),H76,DATEVALUE(H76)),DATE(VALUE(LEFT('INPUT DATA'!$F$18,4)),6,1),"YM")),"") | K76: =IFERROR(IF(OR(H76="",H76=0),"",DATEDIF(IF(ISNUMBER(H76),H76,DATEVALUE(H76)),DATE(VALUE(RIGHT('INPUT DATA'!$F$18,4)),5,31),"Y")),"") | L76: =IFERROR(IF(OR(H76="",H76=0),"",DATEDIF(IF(ISNUMBER(H76),H76,DATEVALUE(H76)),DATE(VALUE(RIGHT('INPUT DATA'!$F$18,4)),5,31),"YM")),"") | M76: F
B77: 12 | C77: =IF('INPUT DATA'!Q22="","",'INPUT DATA'!Q22) | F77: =IF('INPUT DATA'!R22="","",'INPUT DATA'!R22) | H77: =IF('INPUT DATA'!S22="","",'INPUT DATA'!S22) | I77: =IFERROR(IF(OR(H77="",H77=0),"",DATEDIF(IF(ISNUMBER(H77),H77,DATEVALUE(H77)),DATE(VALUE(LEFT('INPUT DATA'!$F$18,4)),6,1),"Y")),"") | J77: =IFERROR(IF(OR(H77="",H77=0),"",DATEDIF(IF(ISNUMBER(H77),H77,DATEVALUE(H77)),DATE(VALUE(LEFT('INPUT DATA'!$F$18,4)),6,1),"YM")),"") | K77: =IFERROR(IF(OR(H77="",H77=0),"",DATEDIF(IF(ISNUMBER(H77),H77,DATEVALUE(H77)),DATE(VALUE(RIGHT('INPUT DATA'!$F$18,4)),5,31),"Y")),"") | L77: =IFERROR(IF(OR(H77="",H77=0),"",DATEDIF(IF(ISNUMBER(H77),H77,DATEVALUE(H77)),DATE(VALUE(RIGHT('INPUT DATA'!$F$18,4)),5,31),"YM")),"") | M77: F
... B114: 50 | C114: =IF('INPUT DATA'!Q59="","",'INPUT DATA'!Q59) | F114: =IF('INPUT DATA'!R59="","",'INPUT DATA'!R59) | H114: =IF('INPUT DATA'!S59="","",'INPUT DATA'!S59) | I114: =IFERROR(IF(OR(H114="",H114=0),"",DATEDIF(IF(ISNUMBER(H114),H114,DATEVALUE(H114)),DATE(VALUE(LEFT('INPUT DATA'!$F$18,4)),6,1),"Y")),"") | J114: =IFERROR(IF(OR(H114="",H114=0),"",DATEDIF(IF(ISNUMBER(H114),H114,DATEVALUE(H114)),DATE(VALUE(LEFT('INPUT DATA'!$F$18,4)),6,1),"YM")),"") | K114: =IFERROR(IF(OR(H114="",H114=0),"",DATEDIF(IF(ISNUMBER(H114),H114,DATEVALUE(H114)),DATE(VALUE(RIGHT('INPUT DATA'!$F$18,4)),5,31),"Y")),"") | L114: =IFERROR(IF(OR(H114="",H114=0),"",DATEDIF(IF(ISNUMBER(H114),H114,DATEVALUE(H114)),DATE(VALUE(RIGHT('INPUT DATA'!$F$18,4)),5,31),"YM")),"") | M114: F

Sheet TERM 2 SUMMARY
A1: CLASS SUMMARY - SECOND
D5: REGION | E5: ='INPUT DATA'!F10 -> 0 | I5: DIVISION | K5: ='INPUT DATA'!F11 -> 0
D6: SCHOOL NAME | E6: ='INPUT DATA'!F16 -> 0 | I6: SCHOOL ID | K6: ='INPUT DATA'!F15 -> 0 | S6: SCHOOL YEAR | T6: ='INPUT DATA'!F18 -> 0
B9: SECOND TERM | I9: Age (BoSY) | K9: Age (EoSY) | M9: Sex | N9: GRADE LEVEL | R9: ='INPUT DATA'!F27 -> 0 | AE9: ADVISER | AH9: ='INPUT DATA'!F26 -> 0
N10: SECTION | R10: ='INPUT DATA'!F28 -> 0
N11: I. Sensory Perceptual and Motor Development | S11: II. Socio-emotional Development | Z11: III. Cognitive Development | AT11: IV. Language, Literacy, and Communication Development
B12: LEARNERS' NAMES | F12: LRN | H12: Date of Birth | I12: Years | J12: Months | K12: Years | L12: Months | N12: 1 | O12: 2 | P12: 3 | Q12: 4 | R12: 5 | S12: 1 | T12: 2 | U12: 3 | V12: 4 | W12: 5 | X12: 6 | Y12: 7 | Z12: 1 | AA12: 2 | AB12: 3 | AC12: 4 | AD12: 5 | AE12: 6 | AF12: 7 | AG12: 8 | AH12: 9 | AI12: 10 | AJ12: 11 | AK12: 12 | AL12: 13 | AM12: 14 | AN12: 15 | AO12: 16 | AP12: 17 | AQ12: 18 | AR12: 19 | AS12: 20 | AT12: A. Listening and Viewing | AX12: B. Sight Word Recognition | AZ12: C. Speaking | BF12: D. Reading | BL12: E. Comprehension | BN12: F. Concepts of Print | BQ12: G. Writing
AT13: 1 | AU13: 2 | AV13: 3 | AW13: 4 | AX13: 5 | AY13: 6 | AZ13: 7 | BA13: 8 | BB13: 9 | BC13: 10 | BD13: 11 | BE13: 12 | BF13: Phonological / Phonemic Awareness | BG13: Letter Knowledge | BJ13: Letter Sound Relationship | BL13: 19 | BM13: 20 | BN13: 21 | BO13: 22 | BP13: 23 | BQ13: 24 | BR13: 25 | BS13: 26 | BT13: 27 | BU13: 28
BF14: 13 | BG14: 14 | BH14: 15 | BI14: 16 | BJ14: 17 | BK14: 18
B15: MALE
B16: 1 | C16: =IF('INPUT DATA'!L11="","",'INPUT DATA'!L11) | F16: =IF('INPUT DATA'!M11="","",'INPUT DATA'!M11) | H16: =IF('INPUT DATA'!N11="","",'INPUT DATA'!N11) | I16: =IFERROR(IF(OR(H16="",H16=0),"",DATEDIF(IF(ISNUMBER(H16),H16,DATEVALUE(H16)),DATE(VALUE(LEFT('INPUT DATA'!$F$18,4)),6,1),"Y")),"") | J16: =IFERROR(IF(OR(H16="",H16=0),"",DATEDIF(IF(ISNUMBER(H16),H16,DATEVALUE(H16)),DATE(VALUE(LEFT('INPUT DATA'!$F$18,4)),6,1),"YM")),"") | K16: =IFERROR(IF(OR(H16="",H16=0),"",DATEDIF(IF(ISNUMBER(H16),H16,DATEVALUE(H16)),DATE(VALUE(RIGHT('INPUT DATA'!$F$18,4)),5,31),"Y")),"") | L16: =IFERROR(IF(OR(H16="",H16=0),"",DATEDIF(IF(ISNUMBER(H16),H16,DATEVALUE(H16)),DATE(VALUE(RIGHT('INPUT DATA'!$F$18,4)),5,31),"YM")),"") | M16: M
B17: 2 | C17: =IF('INPUT DATA'!L12="","",'INPUT DATA'!L12) | F17: =IF('INPUT DATA'!M11="","",'INPUT DATA'!M11) | H17: =IF('INPUT DATA'!N11="","",'INPUT DATA'!N11) | I17: =IFERROR(IF(OR(H17="",H17=0),"",DATEDIF(IF(ISNUMBER(H17),H17,DATEVALUE(H17)),DATE(VALUE(LEFT('INPUT DATA'!$F$18,4)),6,1),"Y")),"") | J17: =IFERROR(IF(OR(H17="",H17=0),"",DATEDIF(IF(ISNUMBER(H17),H17,DATEVALUE(H17)),DATE(VALUE(LEFT('INPUT DATA'!$F$18,4)),6,1),"YM")),"") | K17: =IFERROR(IF(OR(H17="",H17=0),"",DATEDIF(IF(ISNUMBER(H17),H17,DATEVALUE(H17)),DATE(VALUE(RIGHT('INPUT DATA'!$F$18,4)),5,31),"Y")),"") | L17: =IFERROR(IF(OR(H17="",H17=0),"",DATEDIF(IF(ISNUMBER(H17),H17,DATEVALUE(H17)),DATE(VALUE(RIGHT('INPUT DATA'!$F$18,4)),5,31),"YM")),"") | M17: M
B18: 3 | C18: =IF('INPUT DATA'!L13="","",'INPUT DATA'!L13) | F18: =IF('INPUT DATA'!M12="","",'INPUT DATA'!M12) | H18: =IF('INPUT DATA'!N12="","",'INPUT DATA'!N12) | I18: =IFERROR(IF(OR(H18="",H18=0),"",DATEDIF(IF(ISNUMBER(H18),H18,DATEVALUE(H18)),DATE(VALUE(LEFT('INPUT DATA'!$F$18,4)),6,1),"Y")),"") | J18: =IFERROR(IF(OR(H18="",H18=0),"",DATEDIF(IF(ISNUMBER(H18),H18,DATEVALUE(H18)),DATE(VALUE(LEFT('INPUT DATA'!$F$18,4)),6,1),"YM")),"") | K18: =IFERROR(IF(OR(H18="",H18=0),"",DATEDIF(IF(ISNUMBER(H18),H18,DATEVALUE(H18)),DATE(VALUE(RIGHT('INPUT DATA'!$F$18,4)),5,31),"Y")),"") | L18: =IFERROR(IF(OR(H18="",H18=0),"",DATEDIF(IF(ISNUMBER(H18),H18,DATEVALUE(H18)),DATE(VALUE(RIGHT('INPUT DATA'!$F$18,4)),5,31),"YM")),"") | M18: M
B19: 4 | C19: =IF('INPUT DATA'!L14="","",'INPUT DATA'!L14) | F19: =IF('INPUT DATA'!M13="","",'INPUT DATA'!M13) | H19: =IF('INPUT DATA'!N13="","",'INPUT DATA'!N13) | I19: =IFERROR(IF(OR(H19="",H19=0),"",DATEDIF(IF(ISNUMBER(H19),H19,DATEVALUE(H19)),DATE(VALUE(LEFT('INPUT DATA'!$F$18,4)),6,1),"Y")),"") | J19: =IFERROR(IF(OR(H19="",H19=0),"",DATEDIF(IF(ISNUMBER(H19),H19,DATEVALUE(H19)),DATE(VALUE(LEFT('INPUT DATA'!$F$18,4)),6,1),"YM")),"") | K19: =IFERROR(IF(OR(H19="",H19=0),"",DATEDIF(IF(ISNUMBER(H19),H19,DATEVALUE(H19)),DATE(VALUE(RIGHT('INPUT DATA'!$F$18,4)),5,31),"Y")),"") | L19: =IFERROR(IF(OR(H19="",H19=0),"",DATEDIF(IF(ISNUMBER(H19),H19,DATEVALUE(H19)),DATE(VALUE(RIGHT('INPUT DATA'!$F$18,4)),5,31),"YM")),"") | M19: M
B20: 5 | C20: =IF('INPUT DATA'!L15="","",'INPUT DATA'!L15) | F20: =IF('INPUT DATA'!M14="","",'INPUT DATA'!M14) | H20: =IF('INPUT DATA'!N14="","",'INPUT DATA'!N14) | I20: =IFERROR(IF(OR(H20="",H20=0),"",DATEDIF(IF(ISNUMBER(H20),H20,DATEVALUE(H20)),DATE(VALUE(LEFT('INPUT DATA'!$F$18,4)),6,1),"Y")),"") | J20: =IFERROR(IF(OR(H20="",H20=0),"",DATEDIF(IF(ISNUMBER(H20),H20,DATEVALUE(H20)),DATE(VALUE(LEFT('INPUT DATA'!$F$18,4)),6,1),"YM")),"") | K20: =IFERROR(IF(OR(H20="",H20=0),"",DATEDIF(IF(ISNUMBER(H20),H20,DATEVALUE(H20)),DATE(VALUE(RIGHT('INPUT DATA'!$F$18,4)),5,31),"Y")),"") | L20: =IFERROR(IF(OR(H20="",H20=0),"",DATEDIF(IF(ISNUMBER(H20),H20,DATEVALUE(H20)),DATE(VALUE(RIGHT('INPUT DATA'!$F$18,4)),5,31),"YM")),"") | M20: M
B21: 6 | C21: =IF('INPUT DATA'!L16="","",'INPUT DATA'!L16) | F21: =IF('INPUT DATA'!M15="","",'INPUT DATA'!M15) | H21: =IF('INPUT DATA'!N15="","",'INPUT DATA'!N15) | I21: =IFERROR(IF(OR(H21="",H21=0),"",DATEDIF(IF(ISNUMBER(H21),H21,DATEVALUE(H21)),DATE(VALUE(LEFT('INPUT DATA'!$F$18,4)),6,1),"Y")),"") | J21: =IFERROR(IF(OR(H21="",H21=0),"",DATEDIF(IF(ISNUMBER(H21),H21,DATEVALUE(H21)),DATE(VALUE(LEFT('INPUT DATA'!$F$18,4)),6,1),"YM")),"") | K21: =IFERROR(IF(OR(H21="",H21=0),"",DATEDIF(IF(ISNUMBER(H21),H21,DATEVALUE(H21)),DATE(VALUE(RIGHT('INPUT DATA'!$F$18,4)),5,31),"Y")),"") | L21: =IFERROR(IF(OR(H21="",H21=0),"",DATEDIF(IF(ISNUMBER(H21),H21,DATEVALUE(H21)),DATE(VALUE(RIGHT('INPUT DATA'!$F$18,4)),5,31),"YM")),"") | M21: M
B22: 7 | C22: =IF('INPUT DATA'!L17="","",'INPUT DATA'!L17) | F22: =IF('INPUT DATA'!M16="","",'INPUT DATA'!M16) | H22: =IF('INPUT DATA'!N16="","",'INPUT DATA'!N16) | I22: =IFERROR(IF(OR(H22="",H22=0),"",DATEDIF(IF(ISNUMBER(H22),H22,DATEVALUE(H22)),DATE(VALUE(LEFT('INPUT DATA'!$F$18,4)),6,1),"Y")),"") | J22: =IFERROR(IF(OR(H22="",H22=0),"",DATEDIF(IF(ISNUMBER(H22),H22,DATEVALUE(H22)),DATE(VALUE(LEFT('INPUT DATA'!$F$18,4)),6,1),"YM")),"") | K22: =IFERROR(IF(OR(H22="",H22=0),"",DATEDIF(IF(ISNUMBER(H22),H22,DATEVALUE(H22)),DATE(VALUE(RIGHT('INPUT DATA'!$F$18,4)),5,31),"Y")),"") | L22: =IFERROR(IF(OR(H22="",H22=0),"",DATEDIF(IF(ISNUMBER(H22),H22,DATEVALUE(H22)),DATE(VALUE(RIGHT('INPUT DATA'!$F$18,4)),5,31),"YM")),"") | M22: M
B23: 8 | C23: =IF('INPUT DATA'!L18="","",'INPUT DATA'!L18) | F23: =IF('INPUT DATA'!M17="","",'INPUT DATA'!M17) | H23: =IF('INPUT DATA'!N17="","",'INPUT DATA'!N17) | I23: =IFERROR(IF(OR(H23="",H23=0),"",DATEDIF(IF(ISNUMBER(H23),H23,DATEVALUE(H23)),DATE(VALUE(LEFT('INPUT DATA'!$F$18,4)),6,1),"Y")),"") | J23: =IFERROR(IF(OR(H23="",H23=0),"",DATEDIF(IF(ISNUMBER(H23),H23,DATEVALUE(H23)),DATE(VALUE(LEFT('INPUT DATA'!$F$18,4)),6,1),"YM")),"") | K23: =IFERROR(IF(OR(H23="",H23=0),"",DATEDIF(IF(ISNUMBER(H23),H23,DATEVALUE(H23)),DATE(VALUE(RIGHT('INPUT DATA'!$F$18,4)),5,31),"Y")),"") | L23: =IFERROR(IF(OR(H23="",H23=0),"",DATEDIF(IF(ISNUMBER(H23),H23,DATEVALUE(H23)),DATE(VALUE(RIGHT('INPUT DATA'!$F$18,4)),5,31),"YM")),"") | M23: M
B24: 9 | C24: =IF('INPUT DATA'!L19="","",'INPUT DATA'!L19) | F24: =IF('INPUT DATA'!M18="","",'INPUT DATA'!M18) | H24: =IF('INPUT DATA'!N18="","",'INPUT DATA'!N18) | I24: =IFERROR(IF(OR(H24="",H24=0),"",DATEDIF(IF(ISNUMBER(H24),H24,DATEVALUE(H24)),DATE(VALUE(LEFT('INPUT DATA'!$F$18,4)),6,1),"Y")),"") | J24: =IFERROR(IF(OR(H24="",H24=0),"",DATEDIF(IF(ISNUMBER(H24),H24,DATEVALUE(H24)),DATE(VALUE(LEFT('INPUT DATA'!$F$18,4)),6,1),"YM")),"") | K24: =IFERROR(IF(OR(H24="",H24=0),"",DATEDIF(IF(ISNUMBER(H24),H24,DATEVALUE(H24)),DATE(VALUE(RIGHT('INPUT DATA'!$F$18,4)),5,31),"Y")),"") | L24: =IFERROR(IF(OR(H24="",H24=0),"",DATEDIF(IF(ISNUMBER(H24),H24,DATEVALUE(H24)),DATE(VALUE(RIGHT('INPUT DATA'!$F$18,4)),5,31),"YM")),"") | M24: M
B25: 10 | C25: =IF('INPUT DATA'!L20="","",'INPUT DATA'!L20) | F25: =IF('INPUT DATA'!M19="","",'INPUT DATA'!M19) | H25: =IF('INPUT DATA'!N19="","",'INPUT DATA'!N19) | I25: =IFERROR(IF(OR(H25="",H25=0),"",DATEDIF(IF(ISNUMBER(H25),H25,DATEVALUE(H25)),DATE(VALUE(LEFT('INPUT DATA'!$F$18,4)),6,1),"Y")),"") | J25: =IFERROR(IF(OR(H25="",H25=0),"",DATEDIF(IF(ISNUMBER(H25),H25,DATEVALUE(H25)),DATE(VALUE(LEFT('INPUT DATA'!$F$18,4)),6,1),"YM")),"") | K25: =IFERROR(IF(OR(H25="",H25=0),"",DATEDIF(IF(ISNUMBER(H25),H25,DATEVALUE(H25)),DATE(VALUE(RIGHT('INPUT DATA'!$F$18,4)),5,31),"Y")),"") | L25: =IFERROR(IF(OR(H25="",H25=0),"",DATEDIF(IF(ISNUMBER(H25),H25,DATEVALUE(H25)),DATE(VALUE(RIGHT('INPUT DATA'!$F$18,4)),5,31),"YM")),"") | M25: M
B26: 11 | C26: =IF('INPUT DATA'!L21="","",'INPUT DATA'!L21) | F26: =IF('INPUT DATA'!M20="","",'INPUT DATA'!M20) | H26: =IF('INPUT DATA'!N20="","",'INPUT DATA'!N20) | I26: =IFERROR(IF(OR(H26="",H26=0),"",DATEDIF(IF(ISNUMBER(H26),H26,DATEVALUE(H26)),DATE(VALUE(LEFT('INPUT DATA'!$F$18,4)),6,1),"Y")),"") | J26: =IFERROR(IF(OR(H26="",H26=0),"",DATEDIF(IF(ISNUMBER(H26),H26,DATEVALUE(H26)),DATE(VALUE(LEFT('INPUT DATA'!$F$18,4)),6,1),"YM")),"") | K26: =IFERROR(IF(OR(H26="",H26=0),"",DATEDIF(IF(ISNUMBER(H26),H26,DATEVALUE(H26)),DATE(VALUE(RIGHT('INPUT DATA'!$F$18,4)),5,31),"Y")),"") | L26: =IFERROR(IF(OR(H26="",H26=0),"",DATEDIF(IF(ISNUMBER(H26),H26,DATEVALUE(H26)),DATE(VALUE(RIGHT('INPUT DATA'!$F$18,4)),5,31),"YM")),"") | M26: M
B27: 12 | C27: =IF('INPUT DATA'!L22="","",'INPUT DATA'!L22) | F27: =IF('INPUT DATA'!M21="","",'INPUT DATA'!M21) | H27: =IF('INPUT DATA'!N21="","",'INPUT DATA'!N21) | I27: =IFERROR(IF(OR(H27="",H27=0),"",DATEDIF(IF(ISNUMBER(H27),H27,DATEVALUE(H27)),DATE(VALUE(LEFT('INPUT DATA'!$F$18,4)),6,1),"Y")),"") | J27: =IFERROR(IF(OR(H27="",H27=0),"",DATEDIF(IF(ISNUMBER(H27),H27,DATEVALUE(H27)),DATE(VALUE(LEFT('INPUT DATA'!$F$18,4)),6,1),"YM")),"") | K27: =IFERROR(IF(OR(H27="",H27=0),"",DATEDIF(IF(ISNUMBER(H27),H27,DATEVALUE(H27)),DATE(VALUE(RIGHT('INPUT DATA'!$F$18,4)),5,31),"Y")),"") | L27: =IFERROR(IF(OR(H27="",H27=0),"",DATEDIF(IF(ISNUMBER(H27),H27,DATEVALUE(H27)),DATE(VALUE(RIGHT('INPUT DATA'!$F$18,4)),5,31),"YM")),"") | M27: M
B28: 13 | C28: =IF('INPUT DATA'!L23="","",'INPUT DATA'!L23) | F28: =IF('INPUT DATA'!M22="","",'INPUT DATA'!M22) | H28: =IF('INPUT DATA'!N22="","",'INPUT DATA'!N22) | I28: =IFERROR(IF(OR(H28="",H28=0),"",DATEDIF(IF(ISNUMBER(H28),H28,DATEVALUE(H28)),DATE(VALUE(LEFT('INPUT DATA'!$F$18,4)),6,1),"Y")),"") | J28: =IFERROR(IF(OR(H28="",H28=0),"",DATEDIF(IF(ISNUMBER(H28),H28,DATEVALUE(H28)),DATE(VALUE(LEFT('INPUT DATA'!$F$18,4)),6,1),"YM")),"") | K28: =IFERROR(IF(OR(H28="",H28=0),"",DATEDIF(IF(ISNUMBER(H28),H28,DATEVALUE(H28)),DATE(VALUE(RIGHT('INPUT DATA'!$F$18,4)),5,31),"Y")),"") | L28: =IFERROR(IF(OR(H28="",H28=0),"",DATEDIF(IF(ISNUMBER(H28),H28,DATEVALUE(H28)),DATE(VALUE(RIGHT('INPUT DATA'!$F$18,4)),5,31),"YM")),"") | M28: M
... B64: 50 | C64: =IF('INPUT DATA'!L59="","",'INPUT DATA'!L59) | F64: =IF('INPUT DATA'!M58="","",'INPUT DATA'!M58) | H64: =IF('INPUT DATA'!N58="","",'INPUT DATA'!N58) | I64: =IFERROR(IF(OR(H64="",H64=0),"",DATEDIF(IF(ISNUMBER(H64),H64,DATEVALUE(H64)),DATE(VALUE(LEFT('INPUT DATA'!$F$18,4)),6,1),"Y")),"") | J64: =IFERROR(IF(OR(H64="",H64=0),"",DATEDIF(IF(ISNUMBER(H64),H64,DATEVALUE(H64)),DATE(VALUE(LEFT('INPUT DATA'!$F$18,4)),6,1),"YM")),"") | K64: =IFERROR(IF(OR(H64="",H64=0),"",DATEDIF(IF(ISNUMBER(H64),H64,DATEVALUE(H64)),DATE(VALUE(RIGHT('INPUT DATA'!$F$18,4)),5,31),"Y")),"") | L64: =IFERROR(IF(OR(H64="",H64=0),"",DATEDIF(IF(ISNUMBER(H64),H64,DATEVALUE(H64)),DATE(VALUE(RIGHT('INPUT DATA'!$F$18,4)),5,31),"YM")),"") | M64: M
B65: FEMALE
B66: 1 | C66: =IF('INPUT DATA'!Q11="","",'INPUT DATA'!Q11) | F66: =IF('INPUT DATA'!R11="","",'INPUT DATA'!R11) | H66: =IF('INPUT DATA'!S11="","",'INPUT DATA'!S11) | I66: =IFERROR(IF(OR(H66="",H66=0),"",DATEDIF(IF(ISNUMBER(H66),H66,DATEVALUE(H66)),DATE(VALUE(LEFT('INPUT DATA'!$F$18,4)),6,1),"Y")),"") | J66: =IFERROR(IF(OR(H66="",H66=0),"",DATEDIF(IF(ISNUMBER(H66),H66,DATEVALUE(H66)),DATE(VALUE(LEFT('INPUT DATA'!$F$18,4)),6,1),"YM")),"") | K66: =IFERROR(IF(OR(H66="",H66=0),"",DATEDIF(IF(ISNUMBER(H66),H66,DATEVALUE(H66)),DATE(VALUE(RIGHT('INPUT DATA'!$F$18,4)),5,31),"Y")),"") | L66: =IFERROR(IF(OR(H66="",H66=0),"",DATEDIF(IF(ISNUMBER(H66),H66,DATEVALUE(H66)),DATE(VALUE(RIGHT('INPUT DATA'!$F$18,4)),5,31),"YM")),"") | M66: F
B67: 2 | C67: =IF('INPUT DATA'!Q12="","",'INPUT DATA'!Q12) | F67: =IF('INPUT DATA'!R12="","",'INPUT DATA'!R12) | H67: =IF('INPUT DATA'!S12="","",'INPUT DATA'!S12) | I67: =IFERROR(IF(OR(H67="",H67=0),"",DATEDIF(IF(ISNUMBER(H67),H67,DATEVALUE(H67)),DATE(VALUE(LEFT('INPUT DATA'!$F$18,4)),6,1),"Y")),"") | J67: =IFERROR(IF(OR(H67="",H67=0),"",DATEDIF(IF(ISNUMBER(H67),H67,DATEVALUE(H67)),DATE(VALUE(LEFT('INPUT DATA'!$F$18,4)),6,1),"YM")),"") | K67: =IFERROR(IF(OR(H67="",H67=0),"",DATEDIF(IF(ISNUMBER(H67),H67,DATEVALUE(H67)),DATE(VALUE(RIGHT('INPUT DATA'!$F$18,4)),5,31),"Y")),"") | L67: =IFERROR(IF(OR(H67="",H67=0),"",DATEDIF(IF(ISNUMBER(H67),H67,DATEVALUE(H67)),DATE(VALUE(RIGHT('INPUT DATA'!$F$18,4)),5,31),"YM")),"") | M67: F
B68: 3 | C68: =IF('INPUT DATA'!Q13="","",'INPUT DATA'!Q13) | F68: =IF('INPUT DATA'!R13="","",'INPUT DATA'!R13) | H68: =IF('INPUT DATA'!S13="","",'INPUT DATA'!S13) | I68: =IFERROR(IF(OR(H68="",H68=0),"",DATEDIF(IF(ISNUMBER(H68),H68,DATEVALUE(H68)),DATE(VALUE(LEFT('INPUT DATA'!$F$18,4)),6,1),"Y")),"") | J68: =IFERROR(IF(OR(H68="",H68=0),"",DATEDIF(IF(ISNUMBER(H68),H68,DATEVALUE(H68)),DATE(VALUE(LEFT('INPUT DATA'!$F$18,4)),6,1),"YM")),"") | K68: =IFERROR(IF(OR(H68="",H68=0),"",DATEDIF(IF(ISNUMBER(H68),H68,DATEVALUE(H68)),DATE(VALUE(RIGHT('INPUT DATA'!$F$18,4)),5,31),"Y")),"") | L68: =IFERROR(IF(OR(H68="",H68=0),"",DATEDIF(IF(ISNUMBER(H68),H68,DATEVALUE(H68)),DATE(VALUE(RIGHT('INPUT DATA'!$F$18,4)),5,31),"YM")),"") | M68: F
B69: 4 | C69: =IF('INPUT DATA'!Q14="","",'INPUT DATA'!Q14) | F69: =IF('INPUT DATA'!R14="","",'INPUT DATA'!R14) | H69: =IF('INPUT DATA'!S14="","",'INPUT DATA'!S14) | I69: =IFERROR(IF(OR(H69="",H69=0),"",DATEDIF(IF(ISNUMBER(H69),H69,DATEVALUE(H69)),DATE(VALUE(LEFT('INPUT DATA'!$F$18,4)),6,1),"Y")),"") | J69: =IFERROR(IF(OR(H69="",H69=0),"",DATEDIF(IF(ISNUMBER(H69),H69,DATEVALUE(H69)),DATE(VALUE(LEFT('INPUT DATA'!$F$18,4)),6,1),"YM")),"") | K69: =IFERROR(IF(OR(H69="",H69=0),"",DATEDIF(IF(ISNUMBER(H69),H69,DATEVALUE(H69)),DATE(VALUE(RIGHT('INPUT DATA'!$F$18,4)),5,31),"Y")),"") | L69: =IFERROR(IF(OR(H69="",H69=0),"",DATEDIF(IF(ISNUMBER(H69),H69,DATEVALUE(H69)),DATE(VALUE(RIGHT('INPUT DATA'!$F$18,4)),5,31),"YM")),"") | M69: F
B70: 5 | C70: =IF('INPUT DATA'!Q15="","",'INPUT DATA'!Q15) | F70: =IF('INPUT DATA'!R15="","",'INPUT DATA'!R15) | H70: =IF('INPUT DATA'!S15="","",'INPUT DATA'!S15) | I70: =IFERROR(IF(OR(H70="",H70=0),"",DATEDIF(IF(ISNUMBER(H70),H70,DATEVALUE(H70)),DATE(VALUE(LEFT('INPUT DATA'!$F$18,4)),6,1),"Y")),"") | J70: =IFERROR(IF(OR(H70="",H70=0),"",DATEDIF(IF(ISNUMBER(H70),H70,DATEVALUE(H70)),DATE(VALUE(LEFT('INPUT DATA'!$F$18,4)),6,1),"YM")),"") | K70: =IFERROR(IF(OR(H70="",H70=0),"",DATEDIF(IF(ISNUMBER(H70),H70,DATEVALUE(H70)),DATE(VALUE(RIGHT('INPUT DATA'!$F$18,4)),5,31),"Y")),"") | L70: =IFERROR(IF(OR(H70="",H70=0),"",DATEDIF(IF(ISNUMBER(H70),H70,DATEVALUE(H70)),DATE(VALUE(RIGHT('INPUT DATA'!$F$18,4)),5,31),"YM")),"") | M70: F
B71: 6 | C71: =IF('INPUT DATA'!Q16="","",'INPUT DATA'!Q16) | F71: =IF('INPUT DATA'!R16="","",'INPUT DATA'!R16) | H71: =IF('INPUT DATA'!S16="","",'INPUT DATA'!S16) | I71: =IFERROR(IF(OR(H71="",H71=0),"",DATEDIF(IF(ISNUMBER(H71),H71,DATEVALUE(H71)),DATE(VALUE(LEFT('INPUT DATA'!$F$18,4)),6,1),"Y")),"") | J71: =IFERROR(IF(OR(H71="",H71=0),"",DATEDIF(IF(ISNUMBER(H71),H71,DATEVALUE(H71)),DATE(VALUE(LEFT('INPUT DATA'!$F$18,4)),6,1),"YM")),"") | K71: =IFERROR(IF(OR(H71="",H71=0),"",DATEDIF(IF(ISNUMBER(H71),H71,DATEVALUE(H71)),DATE(VALUE(RIGHT('INPUT DATA'!$F$18,4)),5,31),"Y")),"") | L71: =IFERROR(IF(OR(H71="",H71=0),"",DATEDIF(IF(ISNUMBER(H71),H71,DATEVALUE(H71)),DATE(VALUE(RIGHT('INPUT DATA'!$F$18,4)),5,31),"YM")),"") | M71: F
B72: 7 | C72: =IF('INPUT DATA'!Q17="","",'INPUT DATA'!Q17) | F72: =IF('INPUT DATA'!R17="","",'INPUT DATA'!R17) | H72: =IF('INPUT DATA'!S17="","",'INPUT DATA'!S17) | I72: =IFERROR(IF(OR(H72="",H72=0),"",DATEDIF(IF(ISNUMBER(H72),H72,DATEVALUE(H72)),DATE(VALUE(LEFT('INPUT DATA'!$F$18,4)),6,1),"Y")),"") | J72: =IFERROR(IF(OR(H72="",H72=0),"",DATEDIF(IF(ISNUMBER(H72),H72,DATEVALUE(H72)),DATE(VALUE(LEFT('INPUT DATA'!$F$18,4)),6,1),"YM")),"") | K72: =IFERROR(IF(OR(H72="",H72=0),"",DATEDIF(IF(ISNUMBER(H72),H72,DATEVALUE(H72)),DATE(VALUE(RIGHT('INPUT DATA'!$F$18,4)),5,31),"Y")),"") | L72: =IFERROR(IF(OR(H72="",H72=0),"",DATEDIF(IF(ISNUMBER(H72),H72,DATEVALUE(H72)),DATE(VALUE(RIGHT('INPUT DATA'!$F$18,4)),5,31),"YM")),"") | M72: F
B73: 8 | C73: =IF('INPUT DATA'!Q18="","",'INPUT DATA'!Q18) | F73: =IF('INPUT DATA'!R18="","",'INPUT DATA'!R18) | H73: =IF('INPUT DATA'!S18="","",'INPUT DATA'!S18) | I73: =IFERROR(IF(OR(H73="",H73=0),"",DATEDIF(IF(ISNUMBER(H73),H73,DATEVALUE(H73)),DATE(VALUE(LEFT('INPUT DATA'!$F$18,4)),6,1),"Y")),"") | J73: =IFERROR(IF(OR(H73="",H73=0),"",DATEDIF(IF(ISNUMBER(H73),H73,DATEVALUE(H73)),DATE(VALUE(LEFT('INPUT DATA'!$F$18,4)),6,1),"YM")),"") | K73: =IFERROR(IF(OR(H73="",H73=0),"",DATEDIF(IF(ISNUMBER(H73),H73,DATEVALUE(H73)),DATE(VALUE(RIGHT('INPUT DATA'!$F$18,4)),5,31),"Y")),"") | L73: =IFERROR(IF(OR(H73="",H73=0),"",DATEDIF(IF(ISNUMBER(H73),H73,DATEVALUE(H73)),DATE(VALUE(RIGHT('INPUT DATA'!$F$18,4)),5,31),"YM")),"") | M73: F
B74: 9 | C74: =IF('INPUT DATA'!Q19="","",'INPUT DATA'!Q19) | F74: =IF('INPUT DATA'!R19="","",'INPUT DATA'!R19) | H74: =IF('INPUT DATA'!S19="","",'INPUT DATA'!S19) | I74: =IFERROR(IF(OR(H74="",H74=0),"",DATEDIF(IF(ISNUMBER(H74),H74,DATEVALUE(H74)),DATE(VALUE(LEFT('INPUT DATA'!$F$18,4)),6,1),"Y")),"") | J74: =IFERROR(IF(OR(H74="",H74=0),"",DATEDIF(IF(ISNUMBER(H74),H74,DATEVALUE(H74)),DATE(VALUE(LEFT('INPUT DATA'!$F$18,4)),6,1),"YM")),"") | K74: =IFERROR(IF(OR(H74="",H74=0),"",DATEDIF(IF(ISNUMBER(H74),H74,DATEVALUE(H74)),DATE(VALUE(RIGHT('INPUT DATA'!$F$18,4)),5,31),"Y")),"") | L74: =IFERROR(IF(OR(H74="",H74=0),"",DATEDIF(IF(ISNUMBER(H74),H74,DATEVALUE(H74)),DATE(VALUE(RIGHT('INPUT DATA'!$F$18,4)),5,31),"YM")),"") | M74: F
B75: 10 | C75: =IF('INPUT DATA'!Q20="","",'INPUT DATA'!Q20) | F75: =IF('INPUT DATA'!R20="","",'INPUT DATA'!R20) | H75: =IF('INPUT DATA'!S20="","",'INPUT DATA'!S20) | I75: =IFERROR(IF(OR(H75="",H75=0),"",DATEDIF(IF(ISNUMBER(H75),H75,DATEVALUE(H75)),DATE(VALUE(LEFT('INPUT DATA'!$F$18,4)),6,1),"Y")),"") | J75: =IFERROR(IF(OR(H75="",H75=0),"",DATEDIF(IF(ISNUMBER(H75),H75,DATEVALUE(H75)),DATE(VALUE(LEFT('INPUT DATA'!$F$18,4)),6,1),"YM")),"") | K75: =IFERROR(IF(OR(H75="",H75=0),"",DATEDIF(IF(ISNUMBER(H75),H75,DATEVALUE(H75)),DATE(VALUE(RIGHT('INPUT DATA'!$F$18,4)),5,31),"Y")),"") | L75: =IFERROR(IF(OR(H75="",H75=0),"",DATEDIF(IF(ISNUMBER(H75),H75,DATEVALUE(H75)),DATE(VALUE(RIGHT('INPUT DATA'!$F$18,4)),5,31),"YM")),"") | M75: F
B76: 11 | C76: =IF('INPUT DATA'!Q21="","",'INPUT DATA'!Q21) | F76: =IF('INPUT DATA'!R21="","",'INPUT DATA'!R21) | H76: =IF('INPUT DATA'!S21="","",'INPUT DATA'!S21) | I76: =IFERROR(IF(OR(H76="",H76=0),"",DATEDIF(IF(ISNUMBER(H76),H76,DATEVALUE(H76)),DATE(VALUE(LEFT('INPUT DATA'!$F$18,4)),6,1),"Y")),"") | J76: =IFERROR(IF(OR(H76="",H76=0),"",DATEDIF(IF(ISNUMBER(H76),H76,DATEVALUE(H76)),DATE(VALUE(LEFT('INPUT DATA'!$F$18,4)),6,1),"YM")),"") | K76: =IFERROR(IF(OR(H76="",H76=0),"",DATEDIF(IF(ISNUMBER(H76),H76,DATEVALUE(H76)),DATE(VALUE(RIGHT('INPUT DATA'!$F$18,4)),5,31),"Y")),"") | L76: =IFERROR(IF(OR(H76="",H76=0),"",DATEDIF(IF(ISNUMBER(H76),H76,DATEVALUE(H76)),DATE(VALUE(RIGHT('INPUT DATA'!$F$18,4)),5,31),"YM")),"") | M76: F
B77: 12 | C77: =IF('INPUT DATA'!Q22="","",'INPUT DATA'!Q22) | F77: =IF('INPUT DATA'!R22="","",'INPUT DATA'!R22) | H77: =IF('INPUT DATA'!S22="","",'INPUT DATA'!S22) | I77: =IFERROR(IF(OR(H77="",H77=0),"",DATEDIF(IF(ISNUMBER(H77),H77,DATEVALUE(H77)),DATE(VALUE(LEFT('INPUT DATA'!$F$18,4)),6,1),"Y")),"") | J77: =IFERROR(IF(OR(H77="",H77=0),"",DATEDIF(IF(ISNUMBER(H77),H77,DATEVALUE(H77)),DATE(VALUE(LEFT('INPUT DATA'!$F$18,4)),6,1),"YM")),"") | K77: =IFERROR(IF(OR(H77="",H77=0),"",DATEDIF(IF(ISNUMBER(H77),H77,DATEVALUE(H77)),DATE(VALUE(RIGHT('INPUT DATA'!$F$18,4)),5,31),"Y")),"") | L77: =IFERROR(IF(OR(H77="",H77=0),"",DATEDIF(IF(ISNUMBER(H77),H77,DATEVALUE(H77)),DATE(VALUE(RIGHT('INPUT DATA'!$F$18,4)),5,31),"YM")),"") | M77: F
... B114: 50 | C114: =IF('INPUT DATA'!Q59="","",'INPUT DATA'!Q59) | F114: =IF('INPUT DATA'!R59="","",'INPUT DATA'!R59) | H114: =IF('INPUT DATA'!S59="","",'INPUT DATA'!S59) | I114: =IFERROR(IF(OR(H114="",H114=0),"",DATEDIF(IF(ISNUMBER(H114),H114,DATEVALUE(H114)),DATE(VALUE(LEFT('INPUT DATA'!$F$18,4)),6,1),"Y")),"") | J114: =IFERROR(IF(OR(H114="",H114=0),"",DATEDIF(IF(ISNUMBER(H114),H114,DATEVALUE(H114)),DATE(VALUE(LEFT('INPUT DATA'!$F$18,4)),6,1),"YM")),"") | K114: =IFERROR(IF(OR(H114="",H114=0),"",DATEDIF(IF(ISNUMBER(H114),H114,DATEVALUE(H114)),DATE(VALUE(RIGHT('INPUT DATA'!$F$18,4)),5,31),"Y")),"") | L114: =IFERROR(IF(OR(H114="",H114=0),"",DATEDIF(IF(ISNUMBER(H114),H114,DATEVALUE(H114)),DATE(VALUE(RIGHT('INPUT DATA'!$F$18,4)),5,31),"YM")),"") | M114: F

Sheet TERM 3 SUMMARY
A1: CLASS SUMMARY - THIRD
D5: REGION | E5: ='INPUT DATA'!F10 -> 0 | I5: DIVISION | K5: ='INPUT DATA'!F11 -> 0
D6: SCHOOL NAME | E6: ='INPUT DATA'!F16 -> 0 | I6: SCHOOL ID | K6: ='INPUT DATA'!F15 -> 0 | S6: SCHOOL YEAR | T6: ='INPUT DATA'!F18 -> 0
B9: THIRD TERM | I9: Age (BoSY) | K9: Age (EoSY) | M9: Sex | N9: GRADE LEVEL | R9: ='INPUT DATA'!F27 -> 0 | AE9: ADVISER | AH9: ='INPUT DATA'!F26 -> 0
N10: SECTION | R10: ='INPUT DATA'!F28 -> 0
N11: I. Sensory Perceptual and Motor Development | S11: II. Socio-emotional Development | Z11: III. Cognitive Development | AT11: IV. Language, Literacy, and Communication Development
B12: LEARNERS' NAMES | F12: LRN | H12: Date of Birth | I12: Years | J12: Months | K12: Years | L12: Months | N12: 1 | O12: 2 | P12: 3 | Q12: 4 | R12: 5 | S12: 1 | T12: 2 | U12: 3 | V12: 4 | W12: 5 | X12: 6 | Y12: 7 | Z12: 1 | AA12: 2 | AB12: 3 | AC12: 4 | AD12: 5 | AE12: 6 | AF12: 7 | AG12: 8 | AH12: 9 | AI12: 10 | AJ12: 11 | AK12: 12 | AL12: 13 | AM12: 14 | AN12: 15 | AO12: 16 | AP12: 17 | AQ12: 18 | AR12: 19 | AS12: 20 | AT12: A. Listening and Viewing | AX12: B. Sight Word Recognition | AZ12: C. Speaking | BF12: D. Reading | BL12: E. Comprehension | BN12: F. Concepts of Print | BQ12: G. Writing
AT13: 1 | AU13: 2 | AV13: 3 | AW13: 4 | AX13: 5 | AY13: 6 | AZ13: 7 | BA13: 8 | BB13: 9 | BC13: 10 | BD13: 11 | BE13: 12 | BF13: Phonological / Phonemic Awareness | BG13: Letter Knowledge | BJ13: Letter Sound Relationship | BL13: 19 | BM13: 20 | BN13: 21 | BO13: 22 | BP13: 23 | BQ13: 24 | BR13: 25 | BS13: 26 | BT13: 27 | BU13: 28
BF14: 13 | BG14: 14 | BH14: 15 | BI14: 16 | BJ14: 17 | BK14: 18
B15: MALE
B16: 1 | C16: =IF('INPUT DATA'!L11="","",'INPUT DATA'!L11) | F16: =IF('INPUT DATA'!M11="","",'INPUT DATA'!M11) | H16: =IF('INPUT DATA'!N11="","",'INPUT DATA'!N11) | I16: =IFERROR(IF(OR(H16="",H16=0),"",DATEDIF(IF(ISNUMBER(H16),H16,DATEVALUE(H16)),DATE(VALUE(LEFT('INPUT DATA'!$F$18,4)),6,1),"Y")),"") | J16: =IFERROR(IF(OR(H16="",H16=0),"",DATEDIF(IF(ISNUMBER(H16),H16,DATEVALUE(H16)),DATE(VALUE(LEFT('INPUT DATA'!$F$18,4)),6,1),"YM")),"") | K16: =IFERROR(IF(OR(H16="",H16=0),"",DATEDIF(IF(ISNUMBER(H16),H16,DATEVALUE(H16)),DATE(VALUE(RIGHT('INPUT DATA'!$F$18,4)),5,31),"Y")),"") | L16: =IFERROR(IF(OR(H16="",H16=0),"",DATEDIF(IF(ISNUMBER(H16),H16,DATEVALUE(H16)),DATE(VALUE(RIGHT('INPUT DATA'!$F$18,4)),5,31),"YM")),"") | M16: M
B17: 2 | C17: =IF('INPUT DATA'!L12="","",'INPUT DATA'!L12) | F17: =IF('INPUT DATA'!M11="","",'INPUT DATA'!M11) | H17: =IF('INPUT DATA'!N11="","",'INPUT DATA'!N11) | I17: =IFERROR(IF(OR(H17="",H17=0),"",DATEDIF(IF(ISNUMBER(H17),H17,DATEVALUE(H17)),DATE(VALUE(LEFT('INPUT DATA'!$F$18,4)),6,1),"Y")),"") | J17: =IFERROR(IF(OR(H17="",H17=0),"",DATEDIF(IF(ISNUMBER(H17),H17,DATEVALUE(H17)),DATE(VALUE(LEFT('INPUT DATA'!$F$18,4)),6,1),"YM")),"") | K17: =IFERROR(IF(OR(H17="",H17=0),"",DATEDIF(IF(ISNUMBER(H17),H17,DATEVALUE(H17)),DATE(VALUE(RIGHT('INPUT DATA'!$F$18,4)),5,31),"Y")),"") | L17: =IFERROR(IF(OR(H17="",H17=0),"",DATEDIF(IF(ISNUMBER(H17),H17,DATEVALUE(H17)),DATE(VALUE(RIGHT('INPUT DATA'!$F$18,4)),5,31),"YM")),"") | M17: M
B18: 3 | C18: =IF('INPUT DATA'!L13="","",'INPUT DATA'!L13) | F18: =IF('INPUT DATA'!M12="","",'INPUT DATA'!M12) | H18: =IF('INPUT DATA'!N12="","",'INPUT DATA'!N12) | I18: =IFERROR(IF(OR(H18="",H18=0),"",DATEDIF(IF(ISNUMBER(H18),H18,DATEVALUE(H18)),DATE(VALUE(LEFT('INPUT DATA'!$F$18,4)),6,1),"Y")),"") | J18: =IFERROR(IF(OR(H18="",H18=0),"",DATEDIF(IF(ISNUMBER(H18),H18,DATEVALUE(H18)),DATE(VALUE(LEFT('INPUT DATA'!$F$18,4)),6,1),"YM")),"") | K18: =IFERROR(IF(OR(H18="",H18=0),"",DATEDIF(IF(ISNUMBER(H18),H18,DATEVALUE(H18)),DATE(VALUE(RIGHT('INPUT DATA'!$F$18,4)),5,31),"Y")),"") | L18: =IFERROR(IF(OR(H18="",H18=0),"",DATEDIF(IF(ISNUMBER(H18),H18,DATEVALUE(H18)),DATE(VALUE(RIGHT('INPUT DATA'!$F$18,4)),5,31),"YM")),"") | M18: M
B19: 4 | C19: =IF('INPUT DATA'!L14="","",'INPUT DATA'!L14) | F19: =IF('INPUT DATA'!M13="","",'INPUT DATA'!M13) | H19: =IF('INPUT DATA'!N13="","",'INPUT DATA'!N13) | I19: =IFERROR(IF(OR(H19="",H19=0),"",DATEDIF(IF(ISNUMBER(H19),H19,DATEVALUE(H19)),DATE(VALUE(LEFT('INPUT DATA'!$F$18,4)),6,1),"Y")),"") | J19: =IFERROR(IF(OR(H19="",H19=0),"",DATEDIF(IF(ISNUMBER(H19),H19,DATEVALUE(H19)),DATE(VALUE(LEFT('INPUT DATA'!$F$18,4)),6,1),"YM")),"") | K19: =IFERROR(IF(OR(H19="",H19=0),"",DATEDIF(IF(ISNUMBER(H19),H19,DATEVALUE(H19)),DATE(VALUE(RIGHT('INPUT DATA'!$F$18,4)),5,31),"Y")),"") | L19: =IFERROR(IF(OR(H19="",H19=0),"",DATEDIF(IF(ISNUMBER(H19),H19,DATEVALUE(H19)),DATE(VALUE(RIGHT('INPUT DATA'!$F$18,4)),5,31),"YM")),"") | M19: M
B20: 5 | C20: =IF('INPUT DATA'!L15="","",'INPUT DATA'!L15) | F20: =IF('INPUT DATA'!M14="","",'INPUT DATA'!M14) | H20: =IF('INPUT DATA'!N14="","",'INPUT DATA'!N14) | I20: =IFERROR(IF(OR(H20="",H20=0),"",DATEDIF(IF(ISNUMBER(H20),H20,DATEVALUE(H20)),DATE(VALUE(LEFT('INPUT DATA'!$F$18,4)),6,1),"Y")),"") | J20: =IFERROR(IF(OR(H20="",H20=0),"",DATEDIF(IF(ISNUMBER(H20),H20,DATEVALUE(H20)),DATE(VALUE(LEFT('INPUT DATA'!$F$18,4)),6,1),"YM")),"") | K20: =IFERROR(IF(OR(H20="",H20=0),"",DATEDIF(IF(ISNUMBER(H20),H20,DATEVALUE(H20)),DATE(VALUE(RIGHT('INPUT DATA'!$F$18,4)),5,31),"Y")),"") | L20: =IFERROR(IF(OR(H20="",H20=0),"",DATEDIF(IF(ISNUMBER(H20),H20,DATEVALUE(H20)),DATE(VALUE(RIGHT('INPUT DATA'!$F$18,4)),5,31),"YM")),"") | M20: M
B21: 6 | C21: =IF('INPUT DATA'!L16="","",'INPUT DATA'!L16) | F21: =IF('INPUT DATA'!M15="","",'INPUT DATA'!M15) | H21: =IF('INPUT DATA'!N15="","",'INPUT DATA'!N15) | I21: =IFERROR(IF(OR(H21="",H21=0),"",DATEDIF(IF(ISNUMBER(H21),H21,DATEVALUE(H21)),DATE(VALUE(LEFT('INPUT DATA'!$F$18,4)),6,1),"Y")),"") | J21: =IFERROR(IF(OR(H21="",H21=0),"",DATEDIF(IF(ISNUMBER(H21),H21,DATEVALUE(H21)),DATE(VALUE(LEFT('INPUT DATA'!$F$18,4)),6,1),"YM")),"") | K21: =IFERROR(IF(OR(H21="",H21=0),"",DATEDIF(IF(ISNUMBER(H21),H21,DATEVALUE(H21)),DATE(VALUE(RIGHT('INPUT DATA'!$F$18,4)),5,31),"Y")),"") | L21: =IFERROR(IF(OR(H21="",H21=0),"",DATEDIF(IF(ISNUMBER(H21),H21,DATEVALUE(H21)),DATE(VALUE(RIGHT('INPUT DATA'!$F$18,4)),5,31),"YM")),"") | M21: M
B22: 7 | C22: =IF('INPUT DATA'!L17="","",'INPUT DATA'!L17) | F22: =IF('INPUT DATA'!M16="","",'INPUT DATA'!M16) | H22: =IF('INPUT DATA'!N16="","",'INPUT DATA'!N16) | I22: =IFERROR(IF(OR(H22="",H22=0),"",DATEDIF(IF(ISNUMBER(H22),H22,DATEVALUE(H22)),DATE(VALUE(LEFT('INPUT DATA'!$F$18,4)),6,1),"Y")),"") | J22: =IFERROR(IF(OR(H22="",H22=0),"",DATEDIF(IF(ISNUMBER(H22),H22,DATEVALUE(H22)),DATE(VALUE(LEFT('INPUT DATA'!$F$18,4)),6,1),"YM")),"") | K22: =IFERROR(IF(OR(H22="",H22=0),"",DATEDIF(IF(ISNUMBER(H22),H22,DATEVALUE(H22)),DATE(VALUE(RIGHT('INPUT DATA'!$F$18,4)),5,31),"Y")),"") | L22: =IFERROR(IF(OR(H22="",H22=0),"",DATEDIF(IF(ISNUMBER(H22),H22,DATEVALUE(H22)),DATE(VALUE(RIGHT('INPUT DATA'!$F$18,4)),5,31),"YM")),"") | M22: M
B23: 8 | C23: =IF('INPUT DATA'!L18="","",'INPUT DATA'!L18) | F23: =IF('INPUT DATA'!M17="","",'INPUT DATA'!M17) | H23: =IF('INPUT DATA'!N17="","",'INPUT DATA'!N17) | I23: =IFERROR(IF(OR(H23="",H23=0),"",DATEDIF(IF(ISNUMBER(H23),H23,DATEVALUE(H23)),DATE(VALUE(LEFT('INPUT DATA'!$F$18,4)),6,1),"Y")),"") | J23: =IFERROR(IF(OR(H23="",H23=0),"",DATEDIF(IF(ISNUMBER(H23),H23,DATEVALUE(H23)),DATE(VALUE(LEFT('INPUT DATA'!$F$18,4)),6,1),"YM")),"") | K23: =IFERROR(IF(OR(H23="",H23=0),"",DATEDIF(IF(ISNUMBER(H23),H23,DATEVALUE(H23)),DATE(VALUE(RIGHT('INPUT DATA'!$F$18,4)),5,31),"Y")),"") | L23: =IFERROR(IF(OR(H23="",H23=0),"",DATEDIF(IF(ISNUMBER(H23),H23,DATEVALUE(H23)),DATE(VALUE(RIGHT('INPUT DATA'!$F$18,4)),5,31),"YM")),"") | M23: M
B24: 9 | C24: =IF('INPUT DATA'!L19="","",'INPUT DATA'!L19) | F24: =IF('INPUT DATA'!M18="","",'INPUT DATA'!M18) | H24: =IF('INPUT DATA'!N18="","",'INPUT DATA'!N18) | I24: =IFERROR(IF(OR(H24="",H24=0),"",DATEDIF(IF(ISNUMBER(H24),H24,DATEVALUE(H24)),DATE(VALUE(LEFT('INPUT DATA'!$F$18,4)),6,1),"Y")),"") | J24: =IFERROR(IF(OR(H24="",H24=0),"",DATEDIF(IF(ISNUMBER(H24),H24,DATEVALUE(H24)),DATE(VALUE(LEFT('INPUT DATA'!$F$18,4)),6,1),"YM")),"") | K24: =IFERROR(IF(OR(H24="",H24=0),"",DATEDIF(IF(ISNUMBER(H24),H24,DATEVALUE(H24)),DATE(VALUE(RIGHT('INPUT DATA'!$F$18,4)),5,31),"Y")),"") | L24: =IFERROR(IF(OR(H24="",H24=0),"",DATEDIF(IF(ISNUMBER(H24),H24,DATEVALUE(H24)),DATE(VALUE(RIGHT('INPUT DATA'!$F$18,4)),5,31),"YM")),"") | M24: M
B25: 10 | C25: =IF('INPUT DATA'!L20="","",'INPUT DATA'!L20) | F25: =IF('INPUT DATA'!M19="","",'INPUT DATA'!M19) | H25: =IF('INPUT DATA'!N19="","",'INPUT DATA'!N19) | I25: =IFERROR(IF(OR(H25="",H25=0),"",DATEDIF(IF(ISNUMBER(H25),H25,DATEVALUE(H25)),DATE(VALUE(LEFT('INPUT DATA'!$F$18,4)),6,1),"Y")),"") | J25: =IFERROR(IF(OR(H25="",H25=0),"",DATEDIF(IF(ISNUMBER(H25),H25,DATEVALUE(H25)),DATE(VALUE(LEFT('INPUT DATA'!$F$18,4)),6,1),"YM")),"") | K25: =IFERROR(IF(OR(H25="",H25=0),"",DATEDIF(IF(ISNUMBER(H25),H25,DATEVALUE(H25)),DATE(VALUE(RIGHT('INPUT DATA'!$F$18,4)),5,31),"Y")),"") | L25: =IFERROR(IF(OR(H25="",H25=0),"",DATEDIF(IF(ISNUMBER(H25),H25,DATEVALUE(H25)),DATE(VALUE(RIGHT('INPUT DATA'!$F$18,4)),5,31),"YM")),"") | M25: M
B26: 11 | C26: =IF('INPUT DATA'!L21="","",'INPUT DATA'!L21) | F26: =IF('INPUT DATA'!M20="","",'INPUT DATA'!M20) | H26: =IF('INPUT DATA'!N20="","",'INPUT DATA'!N20) | I26: =IFERROR(IF(OR(H26="",H26=0),"",DATEDIF(IF(ISNUMBER(H26),H26,DATEVALUE(H26)),DATE(VALUE(LEFT('INPUT DATA'!$F$18,4)),6,1),"Y")),"") | J26: =IFERROR(IF(OR(H26="",H26=0),"",DATEDIF(IF(ISNUMBER(H26),H26,DATEVALUE(H26)),DATE(VALUE(LEFT('INPUT DATA'!$F$18,4)),6,1),"YM")),"") | K26: =IFERROR(IF(OR(H26="",H26=0),"",DATEDIF(IF(ISNUMBER(H26),H26,DATEVALUE(H26)),DATE(VALUE(RIGHT('INPUT DATA'!$F$18,4)),5,31),"Y")),"") | L26: =IFERROR(IF(OR(H26="",H26=0),"",DATEDIF(IF(ISNUMBER(H26),H26,DATEVALUE(H26)),DATE(VALUE(RIGHT('INPUT DATA'!$F$18,4)),5,31),"YM")),"") | M26: M
B27: 12 | C27: =IF('INPUT DATA'!L22="","",'INPUT DATA'!L22) | F27: =IF('INPUT DATA'!M21="","",'INPUT DATA'!M21) | H27: =IF('INPUT DATA'!N21="","",'INPUT DATA'!N21) | I27: =IFERROR(IF(OR(H27="",H27=0),"",DATEDIF(IF(ISNUMBER(H27),H27,DATEVALUE(H27)),DATE(VALUE(LEFT('INPUT DATA'!$F$18,4)),6,1),"Y")),"") | J27: =IFERROR(IF(OR(H27="",H27=0),"",DATEDIF(IF(ISNUMBER(H27),H27,DATEVALUE(H27)),DATE(VALUE(LEFT('INPUT DATA'!$F$18,4)),6,1),"YM")),"") | K27: =IFERROR(IF(OR(H27="",H27=0),"",DATEDIF(IF(ISNUMBER(H27),H27,DATEVALUE(H27)),DATE(VALUE(RIGHT('INPUT DATA'!$F$18,4)),5,31),"Y")),"") | L27: =IFERROR(IF(OR(H27="",H27=0),"",DATEDIF(IF(ISNUMBER(H27),H27,DATEVALUE(H27)),DATE(VALUE(RIGHT('INPUT DATA'!$F$18,4)),5,31),"YM")),"") | M27: M
B28: 13 | C28: =IF('INPUT DATA'!L23="","",'INPUT DATA'!L23) | F28: =IF('INPUT DATA'!M22="","",'INPUT DATA'!M22) | H28: =IF('INPUT DATA'!N22="","",'INPUT DATA'!N22) | I28: =IFERROR(IF(OR(H28="",H28=0),"",DATEDIF(IF(ISNUMBER(H28),H28,DATEVALUE(H28)),DATE(VALUE(LEFT('INPUT DATA'!$F$18,4)),6,1),"Y")),"") | J28: =IFERROR(IF(OR(H28="",H28=0),"",DATEDIF(IF(ISNUMBER(H28),H28,DATEVALUE(H28)),DATE(VALUE(LEFT('INPUT DATA'!$F$18,4)),6,1),"YM")),"") | K28: =IFERROR(IF(OR(H28="",H28=0),"",DATEDIF(IF(ISNUMBER(H28),H28,DATEVALUE(H28)),DATE(VALUE(RIGHT('INPUT DATA'!$F$18,4)),5,31),"Y")),"") | L28: =IFERROR(IF(OR(H28="",H28=0),"",DATEDIF(IF(ISNUMBER(H28),H28,DATEVALUE(H28)),DATE(VALUE(RIGHT('INPUT DATA'!$F$18,4)),5,31),"YM")),"") | M28: M
... B64: 50 | C64: =IF('INPUT DATA'!L59="","",'INPUT DATA'!L59) | F64: =IF('INPUT DATA'!M58="","",'INPUT DATA'!M58) | H64: =IF('INPUT DATA'!N58="","",'INPUT DATA'!N58) | I64: =IFERROR(IF(OR(H64="",H64=0),"",DATEDIF(IF(ISNUMBER(H64),H64,DATEVALUE(H64)),DATE(VALUE(LEFT('INPUT DATA'!$F$18,4)),6,1),"Y")),"") | J64: =IFERROR(IF(OR(H64="",H64=0),"",DATEDIF(IF(ISNUMBER(H64),H64,DATEVALUE(H64)),DATE(VALUE(LEFT('INPUT DATA'!$F$18,4)),6,1),"YM")),"") | K64: =IFERROR(IF(OR(H64="",H64=0),"",DATEDIF(IF(ISNUMBER(H64),H64,DATEVALUE(H64)),DATE(VALUE(RIGHT('INPUT DATA'!$F$18,4)),5,31),"Y")),"") | L64: =IFERROR(IF(OR(H64="",H64=0),"",DATEDIF(IF(ISNUMBER(H64),H64,DATEVALUE(H64)),DATE(VALUE(RIGHT('INPUT DATA'!$F$18,4)),5,31),"YM")),"") | M64: M
B65: FEMALE
B66: 1 | C66: =IF('INPUT DATA'!Q11="","",'INPUT DATA'!Q11) | F66: =IF('INPUT DATA'!R11="","",'INPUT DATA'!R11) | H66: =IF('INPUT DATA'!S11="","",'INPUT DATA'!S11) | I66: =IFERROR(IF(OR(H66="",H66=0),"",DATEDIF(IF(ISNUMBER(H66),H66,DATEVALUE(H66)),DATE(VALUE(LEFT('INPUT DATA'!$F$18,4)),6,1),"Y")),"") | J66: =IFERROR(IF(OR(H66="",H66=0),"",DATEDIF(IF(ISNUMBER(H66),H66,DATEVALUE(H66)),DATE(VALUE(LEFT('INPUT DATA'!$F$18,4)),6,1),"YM")),"") | K66: =IFERROR(IF(OR(H66="",H66=0),"",DATEDIF(IF(ISNUMBER(H66),H66,DATEVALUE(H66)),DATE(VALUE(RIGHT('INPUT DATA'!$F$18,4)),5,31),"Y")),"") | L66: =IFERROR(IF(OR(H66="",H66=0),"",DATEDIF(IF(ISNUMBER(H66),H66,DATEVALUE(H66)),DATE(VALUE(RIGHT('INPUT DATA'!$F$18,4)),5,31),"YM")),"") | M66: F
B67: 2 | C67: =IF('INPUT DATA'!Q12="","",'INPUT DATA'!Q12) | F67: =IF('INPUT DATA'!R12="","",'INPUT DATA'!R12) | H67: =IF('INPUT DATA'!S12="","",'INPUT DATA'!S12) | I67: =IFERROR(IF(OR(H67="",H67=0),"",DATEDIF(IF(ISNUMBER(H67),H67,DATEVALUE(H67)),DATE(VALUE(LEFT('INPUT DATA'!$F$18,4)),6,1),"Y")),"") | J67: =IFERROR(IF(OR(H67="",H67=0),"",DATEDIF(IF(ISNUMBER(H67),H67,DATEVALUE(H67)),DATE(VALUE(LEFT('INPUT DATA'!$F$18,4)),6,1),"YM")),"") | K67: =IFERROR(IF(OR(H67="",H67=0),"",DATEDIF(IF(ISNUMBER(H67),H67,DATEVALUE(H67)),DATE(VALUE(RIGHT('INPUT DATA'!$F$18,4)),5,31),"Y")),"") | L67: =IFERROR(IF(OR(H67="",H67=0),"",DATEDIF(IF(ISNUMBER(H67),H67,DATEVALUE(H67)),DATE(VALUE(RIGHT('INPUT DATA'!$F$18,4)),5,31),"YM")),"") | M67: F
B68: 3 | C68: =IF('INPUT DATA'!Q13="","",'INPUT DATA'!Q13) | F68: =IF('INPUT DATA'!R13="","",'INPUT DATA'!R13) | H68: =IF('INPUT DATA'!S13="","",'INPUT DATA'!S13) | I68: =IFERROR(IF(OR(H68="",H68=0),"",DATEDIF(IF(ISNUMBER(H68),H68,DATEVALUE(H68)),DATE(VALUE(LEFT('INPUT DATA'!$F$18,4)),6,1),"Y")),"") | J68: =IFERROR(IF(OR(H68="",H68=0),"",DATEDIF(IF(ISNUMBER(H68),H68,DATEVALUE(H68)),DATE(VALUE(LEFT('INPUT DATA'!$F$18,4)),6,1),"YM")),"") | K68: =IFERROR(IF(OR(H68="",H68=0),"",DATEDIF(IF(ISNUMBER(H68),H68,DATEVALUE(H68)),DATE(VALUE(RIGHT('INPUT DATA'!$F$18,4)),5,31),"Y")),"") | L68: =IFERROR(IF(OR(H68="",H68=0),"",DATEDIF(IF(ISNUMBER(H68),H68,DATEVALUE(H68)),DATE(VALUE(RIGHT('INPUT DATA'!$F$18,4)),5,31),"YM")),"") | M68: F
B69: 4 | C69: =IF('INPUT DATA'!Q14="","",'INPUT DATA'!Q14) | F69: =IF('INPUT DATA'!R14="","",'INPUT DATA'!R14) | H69: =IF('INPUT DATA'!S14="","",'INPUT DATA'!S14) | I69: =IFERROR(IF(OR(H69="",H69=0),"",DATEDIF(IF(ISNUMBER(H69),H69,DATEVALUE(H69)),DATE(VALUE(LEFT('INPUT DATA'!$F$18,4)),6,1),"Y")),"") | J69: =IFERROR(IF(OR(H69="",H69=0),"",DATEDIF(IF(ISNUMBER(H69),H69,DATEVALUE(H69)),DATE(VALUE(LEFT('INPUT DATA'!$F$18,4)),6,1),"YM")),"") | K69: =IFERROR(IF(OR(H69="",H69=0),"",DATEDIF(IF(ISNUMBER(H69),H69,DATEVALUE(H69)),DATE(VALUE(RIGHT('INPUT DATA'!$F$18,4)),5,31),"Y")),"") | L69: =IFERROR(IF(OR(H69="",H69=0),"",DATEDIF(IF(ISNUMBER(H69),H69,DATEVALUE(H69)),DATE(VALUE(RIGHT('INPUT DATA'!$F$18,4)),5,31),"YM")),"") | M69: F
B70: 5 | C70: =IF('INPUT DATA'!Q15="","",'INPUT DATA'!Q15) | F70: =IF('INPUT DATA'!R15="","",'INPUT DATA'!R15) | H70: =IF('INPUT DATA'!S15="","",'INPUT DATA'!S15) | I70: =IFERROR(IF(OR(H70="",H70=0),"",DATEDIF(IF(ISNUMBER(H70),H70,DATEVALUE(H70)),DATE(VALUE(LEFT('INPUT DATA'!$F$18,4)),6,1),"Y")),"") | J70: =IFERROR(IF(OR(H70="",H70=0),"",DATEDIF(IF(ISNUMBER(H70),H70,DATEVALUE(H70)),DATE(VALUE(LEFT('INPUT DATA'!$F$18,4)),6,1),"YM")),"") | K70: =IFERROR(IF(OR(H70="",H70=0),"",DATEDIF(IF(ISNUMBER(H70),H70,DATEVALUE(H70)),DATE(VALUE(RIGHT('INPUT DATA'!$F$18,4)),5,31),"Y")),"") | L70: =IFERROR(IF(OR(H70="",H70=0),"",DATEDIF(IF(ISNUMBER(H70),H70,DATEVALUE(H70)),DATE(VALUE(RIGHT('INPUT DATA'!$F$18,4)),5,31),"YM")),"") | M70: F
B71: 6 | C71: =IF('INPUT DATA'!Q16="","",'INPUT DATA'!Q16) | F71: =IF('INPUT DATA'!R16="","",'INPUT DATA'!R16) | H71: =IF('INPUT DATA'!S16="","",'INPUT DATA'!S16) | I71: =IFERROR(IF(OR(H71="",H71=0),"",DATEDIF(IF(ISNUMBER(H71),H71,DATEVALUE(H71)),DATE(VALUE(LEFT('INPUT DATA'!$F$18,4)),6,1),"Y")),"") | J71: =IFERROR(IF(OR(H71="",H71=0),"",DATEDIF(IF(ISNUMBER(H71),H71,DATEVALUE(H71)),DATE(VALUE(LEFT('INPUT DATA'!$F$18,4)),6,1),"YM")),"") | K71: =IFERROR(IF(OR(H71="",H71=0),"",DATEDIF(IF(ISNUMBER(H71),H71,DATEVALUE(H71)),DATE(VALUE(RIGHT('INPUT DATA'!$F$18,4)),5,31),"Y")),"") | L71: =IFERROR(IF(OR(H71="",H71=0),"",DATEDIF(IF(ISNUMBER(H71),H71,DATEVALUE(H71)),DATE(VALUE(RIGHT('INPUT DATA'!$F$18,4)),5,31),"YM")),"") | M71: F
B72: 7 | C72: =IF('INPUT DATA'!Q17="","",'INPUT DATA'!Q17) | F72: =IF('INPUT DATA'!R17="","",'INPUT DATA'!R17) | H72: =IF('INPUT DATA'!S17="","",'INPUT DATA'!S17) | I72: =IFERROR(IF(OR(H72="",H72=0),"",DATEDIF(IF(ISNUMBER(H72),H72,DATEVALUE(H72)),DATE(VALUE(LEFT('INPUT DATA'!$F$18,4)),6,1),"Y")),"") | J72: =IFERROR(IF(OR(H72="",H72=0),"",DATEDIF(IF(ISNUMBER(H72),H72,DATEVALUE(H72)),DATE(VALUE(LEFT('INPUT DATA'!$F$18,4)),6,1),"YM")),"") | K72: =IFERROR(IF(OR(H72="",H72=0),"",DATEDIF(IF(ISNUMBER(H72),H72,DATEVALUE(H72)),DATE(VALUE(RIGHT('INPUT DATA'!$F$18,4)),5,31),"Y")),"") | L72: =IFERROR(IF(OR(H72="",H72=0),"",DATEDIF(IF(ISNUMBER(H72),H72,DATEVALUE(H72)),DATE(VALUE(RIGHT('INPUT DATA'!$F$18,4)),5,31),"YM")),"") | M72: F
B73: 8 | C73: =IF('INPUT DATA'!Q18="","",'INPUT DATA'!Q18) | F73: =IF('INPUT DATA'!R18="","",'INPUT DATA'!R18) | H73: =IF('INPUT DATA'!S18="","",'INPUT DATA'!S18) | I73: =IFERROR(IF(OR(H73="",H73=0),"",DATEDIF(IF(ISNUMBER(H73),H73,DATEVALUE(H73)),DATE(VALUE(LEFT('INPUT DATA'!$F$18,4)),6,1),"Y")),"") | J73: =IFERROR(IF(OR(H73="",H73=0),"",DATEDIF(IF(ISNUMBER(H73),H73,DATEVALUE(H73)),DATE(VALUE(LEFT('INPUT DATA'!$F$18,4)),6,1),"YM")),"") | K73: =IFERROR(IF(OR(H73="",H73=0),"",DATEDIF(IF(ISNUMBER(H73),H73,DATEVALUE(H73)),DATE(VALUE(RIGHT('INPUT DATA'!$F$18,4)),5,31),"Y")),"") | L73: =IFERROR(IF(OR(H73="",H73=0),"",DATEDIF(IF(ISNUMBER(H73),H73,DATEVALUE(H73)),DATE(VALUE(RIGHT('INPUT DATA'!$F$18,4)),5,31),"YM")),"") | M73: F
B74: 9 | C74: =IF('INPUT DATA'!Q19="","",'INPUT DATA'!Q19) | F74: =IF('INPUT DATA'!R19="","",'INPUT DATA'!R19) | H74: =IF('INPUT DATA'!S19="","",'INPUT DATA'!S19) | I74: =IFERROR(IF(OR(H74="",H74=0),"",DATEDIF(IF(ISNUMBER(H74),H74,DATEVALUE(H74)),DATE(VALUE(LEFT('INPUT DATA'!$F$18,4)),6,1),"Y")),"") | J74: =IFERROR(IF(OR(H74="",H74=0),"",DATEDIF(IF(ISNUMBER(H74),H74,DATEVALUE(H74)),DATE(VALUE(LEFT('INPUT DATA'!$F$18,4)),6,1),"YM")),"") | K74: =IFERROR(IF(OR(H74="",H74=0),"",DATEDIF(IF(ISNUMBER(H74),H74,DATEVALUE(H74)),DATE(VALUE(RIGHT('INPUT DATA'!$F$18,4)),5,31),"Y")),"") | L74: =IFERROR(IF(OR(H74="",H74=0),"",DATEDIF(IF(ISNUMBER(H74),H74,DATEVALUE(H74)),DATE(VALUE(RIGHT('INPUT DATA'!$F$18,4)),5,31),"YM")),"") | M74: F
B75: 10 | C75: =IF('INPUT DATA'!Q20="","",'INPUT DATA'!Q20) | F75: =IF('INPUT DATA'!R20="","",'INPUT DATA'!R20) | H75: =IF('INPUT DATA'!S20="","",'INPUT DATA'!S20) | I75: =IFERROR(IF(OR(H75="",H75=0),"",DATEDIF(IF(ISNUMBER(H75),H75,DATEVALUE(H75)),DATE(VALUE(LEFT('INPUT DATA'!$F$18,4)),6,1),"Y")),"") | J75: =IFERROR(IF(OR(H75="",H75=0),"",DATEDIF(IF(ISNUMBER(H75),H75,DATEVALUE(H75)),DATE(VALUE(LEFT('INPUT DATA'!$F$18,4)),6,1),"YM")),"") | K75: =IFERROR(IF(OR(H75="",H75=0),"",DATEDIF(IF(ISNUMBER(H75),H75,DATEVALUE(H75)),DATE(VALUE(RIGHT('INPUT DATA'!$F$18,4)),5,31),"Y")),"") | L75: =IFERROR(IF(OR(H75="",H75=0),"",DATEDIF(IF(ISNUMBER(H75),H75,DATEVALUE(H75)),DATE(VALUE(RIGHT('INPUT DATA'!$F$18,4)),5,31),"YM")),"") | M75: F
B76: 11 | C76: =IF('INPUT DATA'!Q21="","",'INPUT DATA'!Q21) | F76: =IF('INPUT DATA'!R21="","",'INPUT DATA'!R21) | H76: =IF('INPUT DATA'!S21="","",'INPUT DATA'!S21) | I76: =IFERROR(IF(OR(H76="",H76=0),"",DATEDIF(IF(ISNUMBER(H76),H76,DATEVALUE(H76)),DATE(VALUE(LEFT('INPUT DATA'!$F$18,4)),6,1),"Y")),"") | J76: =IFERROR(IF(OR(H76="",H76=0),"",DATEDIF(IF(ISNUMBER(H76),H76,DATEVALUE(H76)),DATE(VALUE(LEFT('INPUT DATA'!$F$18,4)),6,1),"YM")),"") | K76: =IFERROR(IF(OR(H76="",H76=0),"",DATEDIF(IF(ISNUMBER(H76),H76,DATEVALUE(H76)),DATE(VALUE(RIGHT('INPUT DATA'!$F$18,4)),5,31),"Y")),"") | L76: =IFERROR(IF(OR(H76="",H76=0),"",DATEDIF(IF(ISNUMBER(H76),H76,DATEVALUE(H76)),DATE(VALUE(RIGHT('INPUT DATA'!$F$18,4)),5,31),"YM")),"") | M76: F
B77: 12 | C77: =IF('INPUT DATA'!Q22="","",'INPUT DATA'!Q22) | F77: =IF('INPUT DATA'!R22="","",'INPUT DATA'!R22) | H77: =IF('INPUT DATA'!S22="","",'INPUT DATA'!S22) | I77: =IFERROR(IF(OR(H77="",H77=0),"",DATEDIF(IF(ISNUMBER(H77),H77,DATEVALUE(H77)),DATE(VALUE(LEFT('INPUT DATA'!$F$18,4)),6,1),"Y")),"") | J77: =IFERROR(IF(OR(H77="",H77=0),"",DATEDIF(IF(ISNUMBER(H77),H77,DATEVALUE(H77)),DATE(VALUE(LEFT('INPUT DATA'!$F$18,4)),6,1),"YM")),"") | K77: =IFERROR(IF(OR(H77="",H77=0),"",DATEDIF(IF(ISNUMBER(H77),H77,DATEVALUE(H77)),DATE(VALUE(RIGHT('INPUT DATA'!$F$18,4)),5,31),"Y")),"") | L77: =IFERROR(IF(OR(H77="",H77=0),"",DATEDIF(IF(ISNUMBER(H77),H77,DATEVALUE(H77)),DATE(VALUE(RIGHT('INPUT DATA'!$F$18,4)),5,31),"YM")),"") | M77: F
... B114: 50 | C114: =IF('INPUT DATA'!Q59="","",'INPUT DATA'!Q59) | F114: =IF('INPUT DATA'!R59="","",'INPUT DATA'!R59) | H114: =IF('INPUT DATA'!S59="","",'INPUT DATA'!S59) | I114: =IFERROR(IF(OR(H114="",H114=0),"",DATEDIF(IF(ISNUMBER(H114),H114,DATEVALUE(H114)),DATE(VALUE(LEFT('INPUT DATA'!$F$18,4)),6,1),"Y")),"") | J114: =IFERROR(IF(OR(H114="",H114=0),"",DATEDIF(IF(ISNUMBER(H114),H114,DATEVALUE(H114)),DATE(VALUE(LEFT('INPUT DATA'!$F$18,4)),6,1),"YM")),"") | K114: =IFERROR(IF(OR(H114="",H114=0),"",DATEDIF(IF(ISNUMBER(H114),H114,DATEVALUE(H114)),DATE(VALUE(RIGHT('INPUT DATA'!$F$18,4)),5,31),"Y")),"") | L114: =IFERROR(IF(OR(H114="",H114=0),"",DATEDIF(IF(ISNUMBER(H114),H114,DATEVALUE(H114)),DATE(VALUE(RIGHT('INPUT DATA'!$F$18,4)),5,31),"YM")),"") | M114: F

Sheet KINDER - ATTENDANCE RECORD SUMM
C1: CLASS RECORD - FINALS
D5: REGION | E5: Region III | I5: DIVISION | J5: BULACAN
D6: SCHOOL NAME | E6: Fortunato F. Halili National Agricultural School | I6: SCHOOL ID | J6: 123456 | M6: SCHOOL YEAR | N6: 2026-2027
B9: GRADE LEVEL | G9: ='INPUT DATA'!F27 -> 0 | L9: ADVISER | M9: ='INPUT DATA'!F26 -> 0
B10: SECTION | G10: ='INPUT DATA'!F28 -> 0
B11: LEARNERS' NAMES | F11: JUN | G11: JUL | H11: AUG | I11: SEP | J11: SEP | K11: OCT | L11: NOV | M11: DEC | N11: JAN | O11: FEB | P11: MAR | Q11: APRIL
B12: MALE
B13: 1 | C13: Pallorina, Dexter B. | F13: 20 | G13: 20 | H13: 20 | I13: 10 | J13: 10 | K13: 19 | L13: 19 | M13: 16 | N13: 15 | O13: 18 | P13: 17 | Q13: 5
B14: 2 | C14: Perez, Jim L. | F14: 20 | G14: 19 | H14: 20 | I14: 10 | J14: 10 | K14: 20 | L14: 20 | M14: 18 | N14: 18 | O14: 18 | P14: 20 | Q14: 2
B15: 3 | C15: Silverio, Arden C. | F15: 20 | G15: 20 | H15: 20 | I15: 10 | J15: 10 | K15: 19 | L15: 18 | M15: 15 | N15: 18 | O15: 18 | P15: 20 | Q15: 5
B16: 4 | C16: asdasd
B17: 5
B18: 6
B19: 7
B20: 8
B21: 9
B22: 10
B23: 11
B24: 12
B25: 13
B26: 14
B27: 15
B28: 16
... B62: 50
B63: FEMALE
B64: 1 | C64: Cruz, Daryhlla A. | F64: 15 | G64: 20 | H64: 20 | I64: 10 | J64: 10 | K64: 17 | L64: 20 | M64: 20 | N64: 18 | O64: 18 | P64: 20 | Q64: 2
B65: 2 | C65: Salgado, Yanina C. | F65: 20 | G65: 16 | H65: 20 | I65: 10 | J65: 10 | K65: 20 | L65: 20 | M65: 20 | N65: 18 | O65: 18 | P65: 20 | Q65: 5
B66: 3 | C66: Torres, Johann A. | F66: 18 | G66: 20 | H66: 20 | I66: 10 | J66: 10 | K66: 20 | L66: 19 | M66: 20 | N66: 18 | O66: 18 | P66: 20 | Q66: 3
B67: 4
B68: 5
B69: 6
B70: 7
B71: 8
B72: 9
B73: 10
B74: 11
B75: 12
B76: 13
B77: 14
B78: 15
... B113: 50
B115: TOTAL NUMBER OF SCHOOL DAYS | E115: TOTAL | F115: JUN | G115: JUL | H115: AUG | I115: SEP | J115: SEP | K115: OCT | L115: NOV | M115: DEC | N115: JAN | O115: FEB | P115: MAR | Q115: APR
E116: =SUM(F116:Q116) -> 201 | F116: 20 | G116: 20 | H116: 20 | I116: 10 | J116: 10 | K116: 20 | L116: 20 | M116: 20 | N116: 18 | O116: 18 | P116: 20 | Q116: 5

Sheet _SF9_LEARNER_LIST
A1: {=IFERROR(IF(ROWS($A$1:A1)<=COUNTA('INPUT DATA'!$L$11:$L$60),INDEX('INPUT DATA'!$L$11:$L$60,_xludf.AGGREGATE(15,6,(ROW('INPUT DATA'!$L$11:$L$60)-ROW('INPUT DATA'!$L$11)+1)/('INPUT DATA'!$L$11:$L$60<>""),ROWS($A$1:A1))),INDEX('INPUT DATA'!$Q$11:$Q$60,_xludf.AGGREGATE(15,6,(ROW('INPUT DATA'!$Q$11:$Q$60)-ROW('INPUT DATA'!$Q$11)+1)/('INPUT DATA'!$Q$11:$Q$60<>""),ROWS($A$1:A1)-COUNTA('INPUT DATA'!$L$11:$L$60)))),"")}
A2: {=IFERROR(IF(ROWS($A$1:A2)<=COUNTA('INPUT DATA'!$L$11:$L$60),INDEX('INPUT DATA'!$L$11:$L$60,_xludf.AGGREGATE(15,6,(ROW('INPUT DATA'!$L$11:$L$60)-ROW('INPUT DATA'!$L$11)+1)/('INPUT DATA'!$L$11:$L$60<>""),ROWS($A$1:A2))),INDEX('INPUT DATA'!$Q$11:$Q$60,_xludf.AGGREGATE(15,6,(ROW('INPUT DATA'!$Q$11:$Q$60)-ROW('INPUT DATA'!$Q$11)+1)/('INPUT DATA'!$Q$11:$Q$60<>""),ROWS($A$1:A2)-COUNTA('INPUT DATA'!$L$11:$L$60)))),"")}
A3: {=IFERROR(IF(ROWS($A$1:A3)<=COUNTA('INPUT DATA'!$L$11:$L$60),INDEX('INPUT DATA'!$L$11:$L$60,_xludf.AGGREGATE(15,6,(ROW('INPUT DATA'!$L$11:$L$60)-ROW('INPUT DATA'!$L$11)+1)/('INPUT DATA'!$L$11:$L$60<>""),ROWS($A$1:A3))),INDEX('INPUT DATA'!$Q$11:$Q$60,_xludf.AGGREGATE(15,6,(ROW('INPUT DATA'!$Q$11:$Q$60)-ROW('INPUT DATA'!$Q$11)+1)/('INPUT DATA'!$Q$11:$Q$60<>""),ROWS($A$1:A3)-COUNTA('INPUT DATA'!$L$11:$L$60)))),"")}
A4: {=IFERROR(IF(ROWS($A$1:A4)<=COUNTA('INPUT DATA'!$L$11:$L$60),INDEX('INPUT DATA'!$L$11:$L$60,_xludf.AGGREGATE(15,6,(ROW('INPUT DATA'!$L$11:$L$60)-ROW('INPUT DATA'!$L$11)+1)/('INPUT DATA'!$L$11:$L$60<>""),ROWS($A$1:A4))),INDEX('INPUT DATA'!$Q$11:$Q$60,_xludf.AGGREGATE(15,6,(ROW('INPUT DATA'!$Q$11:$Q$60)-ROW('INPUT DATA'!$Q$11)+1)/('INPUT DATA'!$Q$11:$Q$60<>""),ROWS($A$1:A4)-COUNTA('INPUT DATA'!$L$11:$L$60)))),"")}
A5: {=IFERROR(IF(ROWS($A$1:A5)<=COUNTA('INPUT DATA'!$L$11:$L$60),INDEX('INPUT DATA'!$L$11:$L$60,_xludf.AGGREGATE(15,6,(ROW('INPUT DATA'!$L$11:$L$60)-ROW('INPUT DATA'!$L$11)+1)/('INPUT DATA'!$L$11:$L$60<>""),ROWS($A$1:A5))),INDEX('INPUT DATA'!$Q$11:$Q$60,_xludf.AGGREGATE(15,6,(ROW('INPUT DATA'!$Q$11:$Q$60)-ROW('INPUT DATA'!$Q$11)+1)/('INPUT DATA'!$Q$11:$Q$60<>""),ROWS($A$1:A5)-COUNTA('INPUT DATA'!$L$11:$L$60)))),"")}
A6: {=IFERROR(IF(ROWS($A$1:A6)<=COUNTA('INPUT DATA'!$L$11:$L$60),INDEX('INPUT DATA'!$L$11:$L$60,_xludf.AGGREGATE(15,6,(ROW('INPUT DATA'!$L$11:$L$60)-ROW('INPUT DATA'!$L$11)+1)/('INPUT DATA'!$L$11:$L$60<>""),ROWS($A$1:A6))),INDEX('INPUT DATA'!$Q$11:$Q$60,_xludf.AGGREGATE(15,6,(ROW('INPUT DATA'!$Q$11:$Q$60)-ROW('INPUT DATA'!$Q$11)+1)/('INPUT DATA'!$Q$11:$Q$60<>""),ROWS($A$1:A6)-COUNTA('INPUT DATA'!$L$11:$L$60)))),"")}
A7: {=IFERROR(IF(ROWS($A$1:A7)<=COUNTA('INPUT DATA'!$L$11:$L$60),INDEX('INPUT DATA'!$L$11:$L$60,_xludf.AGGREGATE(15,6,(ROW('INPUT DATA'!$L$11:$L$60)-ROW('INPUT DATA'!$L$11)+1)/('INPUT DATA'!$L$11:$L$60<>""),ROWS($A$1:A7))),INDEX('INPUT DATA'!$Q$11:$Q$60,_xludf.AGGREGATE(15,6,(ROW('INPUT DATA'!$Q$11:$Q$60)-ROW('INPUT DATA'!$Q$11)+1)/('INPUT DATA'!$Q$11:$Q$60<>""),ROWS($A$1:A7)-COUNTA('INPUT DATA'!$L$11:$L$60)))),"")}
A8: {=IFERROR(IF(ROWS($A$1:A8)<=COUNTA('INPUT DATA'!$L$11:$L$60),INDEX('INPUT DATA'!$L$11:$L$60,_xludf.AGGREGATE(15,6,(ROW('INPUT DATA'!$L$11:$L$60)-ROW('INPUT DATA'!$L$11)+1)/('INPUT DATA'!$L$11:$L$60<>""),ROWS($A$1:A8))),INDEX('INPUT DATA'!$Q$11:$Q$60,_xludf.AGGREGATE(15,6,(ROW('INPUT DATA'!$Q$11:$Q$60)-ROW('INPUT DATA'!$Q$11)+1)/('INPUT DATA'!$Q$11:$Q$60<>""),ROWS($A$1:A8)-COUNTA('INPUT DATA'!$L$11:$L$60)))),"")}
A9: {=IFERROR(IF(ROWS($A$1:A9)<=COUNTA('INPUT DATA'!$L$11:$L$60),INDEX('INPUT DATA'!$L$11:$L$60,_xludf.AGGREGATE(15,6,(ROW('INPUT DATA'!$L$11:$L$60)-ROW('INPUT DATA'!$L$11)+1)/('INPUT DATA'!$L$11:$L$60<>""),ROWS($A$1:A9))),INDEX('INPUT DATA'!$Q$11:$Q$60,_xludf.AGGREGATE(15,6,(ROW('INPUT DATA'!$Q$11:$Q$60)-ROW('INPUT DATA'!$Q$11)+1)/('INPUT DATA'!$Q$11:$Q$60<>""),ROWS($A$1:A9)-COUNTA('INPUT DATA'!$L$11:$L$60)))),"")}
A10: {=IFERROR(IF(ROWS($A$1:A10)<=COUNTA('INPUT DATA'!$L$11:$L$60),INDEX('INPUT DATA'!$L$11:$L$60,_xludf.AGGREGATE(15,6,(ROW('INPUT DATA'!$L$11:$L$60)-ROW('INPUT DATA'!$L$11)+1)/('INPUT DATA'!$L$11:$L$60<>""),ROWS($A$1:A10))),INDEX('INPUT DATA'!$Q$11:$Q$60,_xludf.AGGREGATE(15,6,(ROW('INPUT DATA'!$Q$11:$Q$60)-ROW('INPUT DATA'!$Q$11)+1)/('INPUT DATA'!$Q$11:$Q$60<>""),ROWS($A$1:A10)-COUNTA('INPUT DATA'!$L$11:$L$60)))),"")}
A11: {=IFERROR(IF(ROWS($A$1:A11)<=COUNTA('INPUT DATA'!$L$11:$L$60),INDEX('INPUT DATA'!$L$11:$L$60,_xludf.AGGREGATE(15,6,(ROW('INPUT DATA'!$L$11:$L$60)-ROW('INPUT DATA'!$L$11)+1)/('INPUT DATA'!$L$11:$L$60<>""),ROWS($A$1:A11))),INDEX('INPUT DATA'!$Q$11:$Q$60,_xludf.AGGREGATE(15,6,(ROW('INPUT DATA'!$Q$11:$Q$60)-ROW('INPUT DATA'!$Q$11)+1)/('INPUT DATA'!$Q$11:$Q$60<>""),ROWS($A$1:A11)-COUNTA('INPUT DATA'!$L$11:$L$60)))),"")}
A12: {=IFERROR(IF(ROWS($A$1:A12)<=COUNTA('INPUT DATA'!$L$11:$L$60),INDEX('INPUT DATA'!$L$11:$L$60,_xludf.AGGREGATE(15,6,(ROW('INPUT DATA'!$L$11:$L$60)-ROW('INPUT DATA'!$L$11)+1)/('INPUT DATA'!$L$11:$L$60<>""),ROWS($A$1:A12))),INDEX('INPUT DATA'!$Q$11:$Q$60,_xludf.AGGREGATE(15,6,(ROW('INPUT DATA'!$Q$11:$Q$60)-ROW('INPUT DATA'!$Q$11)+1)/('INPUT DATA'!$Q$11:$Q$60<>""),ROWS($A$1:A12)-COUNTA('INPUT DATA'!$L$11:$L$60)))),"")}
... A100: {=IFERROR(IF(ROWS($A$1:A100)<=COUNTA('INPUT DATA'!$L$11:$L$60),INDEX('INPUT DATA'!$L$11:$L$60,_xludf.AGGREGATE(15,6,(ROW('INPUT DATA'!$L$11:$L$60)-ROW('INPUT DATA'!$L$11)+1)/('INPUT DATA'!$L$11:$L$60<>""),ROWS($A$1:A100))),INDEX('INPUT DATA'!$Q$11:$Q$60,_xludf.AGGREGATE(15,6,(ROW('INPUT DATA'!$Q$11:$Q$60)-ROW('INPUT DATA'!$Q$11)+1)/('INPUT DATA'!$Q$11:$Q$60<>""),ROWS($A$1:A100)-COUNTA('INPUT DATA'!$L$11:$L$60)))),"")}
