Workbook

Sheet INPUT DATA
A1: Input Data Sheet for Electronic-Class Record (ECR)
B7: SCHOOL INFORMATION | I7: LEARNERS' NAMES
C10: REGION | D10: : | J10: MALE | M10: FEMALE
C11: DIVISION | D11: : | J11: 1 | M11: 1
J12: 2 | M12: 2
C13: SCHOOL ID | D13: : | J13: 3 | M13: 3
C14: SCHOOL NAME | D14: : | J14: 4 | M14: 4
C15: SCHOOL YEAR | D15: : | J15: 5 | M15: 5
C16: SCHOOL HEAD | D16: : | J16: 6 | M16: 6
J17: 7 | M17: 7
J18: 8 | M18: 8
J19: 9 | M19: 9
B20: TEACHER, GRADE LEVEL, SECTION INFORMATION | J20: 10 | M20: 10
J21: 11 | M21: 11
J22: 12 | M22: 12
C23: SUBJECT TEACHER | D23: : | J23: 13 | M23: 13
C24: SUBJECT | D24: : | E24: MAPEH | J24: 14 | M24: 14
C25: GRADE LEVEL | D25: : | J25: 15 | M25: 15
C26: SECTION | D26: : | J26: 16 | M26: 16
J27: 17 | M27: 17
C28: IMPORTANT NOTE: This is the official and final version of the file. All tabs are password-protected to prevent accidental formula edits and maintain the accuracy and integrity of the data. If you identify any inconsistencies or issues, particularly with the formulas, please report them for appropriate review and necessary correction. | J28: 18 | M28: 18
J29: 19 | M29: 19
J30: 20 | M30: 20
J31: 21 | M31: 21
J32: 22 | M32: 22
J33: 23 | M33: 23
J34: 24 | M34: 24
J35: 25 | M35: 25
J36: 26 | M36: 26
J37: 27 | M37: 27
J38: 28 | M38: 28
J39: 29 | M39: 29
J40: 30 | M40: 30
... J60: 50 | M60: 50
O62: 2026_v1.0

Sheet TERM 1 Music and Arts
B2: CLASS RECORD - TERM 1
E5: REGION | F5: ='INPUT DATA'!E10 -> 0 | Q5: DIVISION | R5: ='INPUT DATA'!E11 -> 0 | Y5: SCHOOL ID | Z5: ='INPUT DATA'!E13 -> 0
E7: SCHOOL NAME | F7: ='INPUT DATA'!E14 -> 0 | Y7: SCHOOL YEAR | Z7: ='INPUT DATA'!E15 -> 0
B10: FIRST TERM | F10: GRADE LEVEL | J10: ='INPUT DATA'!E25 -> 0 | N10: TEACHER | Q10: ='INPUT DATA'!E23 -> 0 | Y10: SUBJECT | AA10: Music and Arts
F11: SECTION | J11: ='INPUT DATA'!E26 -> 0
F12: WRITTEN / ORAL WORKS (WWs) | N12: PRODUCT / PERFORMANCE TASKS (PTs) | T12: EXAMINATIONS (EXs) | AB12: Initial Grade | AC12: Term Grade | AD12: Descriptor
F14: 1 | G14: 2 | H14: 3 | I14: 4 | J14: 5 | K14: Total | L14: PS | M14: WS | N14: 1 | O14: 2 | P14: 3 | Q14: Total | R14: PS | S14: WS | T14: ST1 | U14: ST2 | V14: TE | W14: WS ST1 | X14: WS ST2 | Y14: WS TE | Z14: PS | AA14: WS
B15: HIGHEST POSSIBLE SCORE | K15: =IF(COUNT($F15:$J15)=0,"",SUM($F15:$J15)) | L15: 100 | M15: 0.2 | Q15: =IF(COUNT($N15:$P15)=0,"",SUM($N15:$P15)) | R15: 100 | S15: 0.6 | W15: 30 | X15: 30 | Y15: 40 | Z15: 100 | AA15: 0.2
B16: LEARNERS' NAMES
B17: MALE
B18: 1 | C18: =IF('INPUT DATA'!K11="","",'INPUT DATA'!K11) | K18: =IF(COUNT($F18:$J18)=0,"",SUM($F18:$J18)) | L18: =IF(ISERROR(IF($K18="","",ROUND(($K18/$K$15)*$L$15,2))),"",IF($K18="","",ROUND(($K18/$K$15)*$L$15,2))) | M18: =IF($L18="","",ROUND($L18*$M$15,2)) | Q18: =IF(COUNT($N18:$P18)=0,"",SUM($N18:$P18)) | R18: =IF(ISERROR(IF($Q18="","",ROUND(($Q18/$Q$15)*$R$15,2))),"",IF($Q18="","",ROUND(($Q18/$Q$15)*$R$15,2))) | S18: =IF($R18="","",ROUND($R18*$S$15,2)) | W18: =IFERROR(IF(T18="","",ROUND(T18/$T$15*$W$15,2)),"") | X18: =IFERROR(IF(U18="","",ROUND(U18/$U$15*$X$15,2)),"") | Y18: =IFERROR(IF(V18="","",ROUND(V18/$V$15*$Y$15,2)),"") | Z18: =IF(COUNT($W18:$Y18)=0,"",SUM($W18:$Y18)) | AA18: =IFERROR(IF(Z18="","",ROUND(Z18*$AA$15,2)),"") | AB18: =IF(C18="","",IFERROR(ROUND(M18+S18+AA18,2),"")) | AC18: =IF(C18="","",IFERROR(_xlfn.XLOOKUP(AB18,HELPER!$C$8:$C$48,HELPER!$D$8:$D$48,,1),"")) | AD18: =IF(C18="","",IFERROR(_xlfn.XLOOKUP(AC18,HELPER!$F$8:$F$48,HELPER!$G$8:$G$48,,1),""))
B19: 2 | C19: =IF('INPUT DATA'!K12="","",'INPUT DATA'!K12) | K19: =IF(COUNT($F19:$J19)=0,"",SUM($F19:$J19)) | L19: =IF(ISERROR(IF($K19="","",ROUND(($K19/$K$15)*$L$15,2))),"",IF($K19="","",ROUND(($K19/$K$15)*$L$15,2))) | M19: =IF($L19="","",ROUND($L19*$M$15,2)) | Q19: =IF(COUNT($N19:$P19)=0,"",SUM($N19:$P19)) | R19: =IF(ISERROR(IF($Q19="","",ROUND(($Q19/$Q$15)*$R$15,2))),"",IF($Q19="","",ROUND(($Q19/$Q$15)*$R$15,2))) | S19: =IF($R19="","",ROUND($R19*$S$15,2)) | W19: =IFERROR(IF(T19="","",ROUND(T19/$T$15*$W$15,2)),"") | X19: =IFERROR(IF(U19="","",ROUND(U19/$U$15*$X$15,2)),"") | Y19: =IFERROR(IF(V19="","",ROUND(V19/$V$15*$Y$15,2)),"") | Z19: =IF(COUNT($W19:$Y19)=0,"",SUM($W19:$Y19)) | AA19: =IFERROR(IF(Z19="","",ROUND(Z19*$AA$15,2)),"") | AB19: =IF(C19="","",IFERROR(ROUND(M19+S19+AA19,2),"")) | AC19: =IF(C19="","",IFERROR(_xlfn.XLOOKUP(AB19,HELPER!$C$8:$C$48,HELPER!$D$8:$D$48,,1),"")) | AD19: =IF(C19="","",IFERROR(_xlfn.XLOOKUP(AC19,HELPER!$F$8:$F$48,HELPER!$G$8:$G$48,,1),""))
B20: 3 | C20: =IF('INPUT DATA'!K13="","",'INPUT DATA'!K13) | K20: =IF(COUNT($F20:$J20)=0,"",SUM($F20:$J20)) | L20: =IF(ISERROR(IF($K20="","",ROUND(($K20/$K$15)*$L$15,2))),"",IF($K20="","",ROUND(($K20/$K$15)*$L$15,2))) | M20: =IF($L20="","",ROUND($L20*$M$15,2)) | Q20: =IF(COUNT($N20:$P20)=0,"",SUM($N20:$P20)) | R20: =IF(ISERROR(IF($Q20="","",ROUND(($Q20/$Q$15)*$R$15,2))),"",IF($Q20="","",ROUND(($Q20/$Q$15)*$R$15,2))) | S20: =IF($R20="","",ROUND($R20*$S$15,2)) | W20: =IFERROR(IF(T20="","",ROUND(T20/$T$15*$W$15,2)),"") | X20: =IFERROR(IF(U20="","",ROUND(U20/$U$15*$X$15,2)),"") | Y20: =IFERROR(IF(V20="","",ROUND(V20/$V$15*$Y$15,2)),"") | Z20: =IF(COUNT($W20:$Y20)=0,"",SUM($W20:$Y20)) | AA20: =IFERROR(IF(Z20="","",ROUND(Z20*$AA$15,2)),"") | AB20: =IF(C20="","",IFERROR(ROUND(M20+S20+AA20,2),"")) | AC20: =IF(C20="","",IFERROR(_xlfn.XLOOKUP(AB20,HELPER!$C$8:$C$48,HELPER!$D$8:$D$48,,1),"")) | AD20: =IF(C20="","",IFERROR(_xlfn.XLOOKUP(AC20,HELPER!$F$8:$F$48,HELPER!$G$8:$G$48,,1),""))
B21: 4 | C21: =IF('INPUT DATA'!K14="","",'INPUT DATA'!K14) | K21: =IF(COUNT($F21:$J21)=0,"",SUM($F21:$J21)) | L21: =IF(ISERROR(IF($K21="","",ROUND(($K21/$K$15)*$L$15,2))),"",IF($K21="","",ROUND(($K21/$K$15)*$L$15,2))) | M21: =IF($L21="","",ROUND($L21*$M$15,2)) | Q21: =IF(COUNT($N21:$P21)=0,"",SUM($N21:$P21)) | R21: =IF(ISERROR(IF($Q21="","",ROUND(($Q21/$Q$15)*$R$15,2))),"",IF($Q21="","",ROUND(($Q21/$Q$15)*$R$15,2))) | S21: =IF($R21="","",ROUND($R21*$S$15,2)) | W21: =IFERROR(IF(T21="","",ROUND(T21/$T$15*$W$15,2)),"") | X21: =IFERROR(IF(U21="","",ROUND(U21/$U$15*$X$15,2)),"") | Y21: =IFERROR(IF(V21="","",ROUND(V21/$V$15*$Y$15,2)),"") | Z21: =IF(COUNT($W21:$Y21)=0,"",SUM($W21:$Y21)) | AA21: =IFERROR(IF(Z21="","",ROUND(Z21*$AA$15,2)),"") | AB21: =IF(C21="","",IFERROR(ROUND(M21+S21+AA21,2),"")) | AC21: =IF(C21="","",IFERROR(_xlfn.XLOOKUP(AB21,HELPER!$C$8:$C$48,HELPER!$D$8:$D$48,,1),"")) | AD21: =IF(C21="","",IFERROR(_xlfn.XLOOKUP(AC21,HELPER!$F$8:$F$48,HELPER!$G$8:$G$48,,1),""))
B22: 5 | C22: =IF('INPUT DATA'!K15="","",'INPUT DATA'!K15) | K22: =IF(COUNT($F22:$J22)=0,"",SUM($F22:$J22)) | L22: =IF(ISERROR(IF($K22="","",ROUND(($K22/$K$15)*$L$15,2))),"",IF($K22="","",ROUND(($K22/$K$15)*$L$15,2))) | M22: =IF($L22="","",ROUND($L22*$M$15,2)) | Q22: =IF(COUNT($N22:$P22)=0,"",SUM($N22:$P22)) | R22: =IF(ISERROR(IF($Q22="","",ROUND(($Q22/$Q$15)*$R$15,2))),"",IF($Q22="","",ROUND(($Q22/$Q$15)*$R$15,2))) | S22: =IF($R22="","",ROUND($R22*$S$15,2)) | W22: =IFERROR(IF(T22="","",ROUND(T22/$T$15*$W$15,2)),"") | X22: =IFERROR(IF(U22="","",ROUND(U22/$U$15*$X$15,2)),"") | Y22: =IFERROR(IF(V22="","",ROUND(V22/$V$15*$Y$15,2)),"") | Z22: =IF(COUNT($W22:$Y22)=0,"",SUM($W22:$Y22)) | AA22: =IFERROR(IF(Z22="","",ROUND(Z22*$AA$15,2)),"") | AB22: =IF(C22="","",IFERROR(ROUND(M22+S22+AA22,2),"")) | AC22: =IF(C22="","",IFERROR(_xlfn.XLOOKUP(AB22,HELPER!$C$8:$C$48,HELPER!$D$8:$D$48,,1),"")) | AD22: =IF(C22="","",IFERROR(_xlfn.XLOOKUP(AC22,HELPER!$F$8:$F$48,HELPER!$G$8:$G$48,,1),""))
B23: 6 | C23: =IF('INPUT DATA'!K16="","",'INPUT DATA'!K16) | K23: =IF(COUNT($F23:$J23)=0,"",SUM($F23:$J23)) | L23: =IF(ISERROR(IF($K23="","",ROUND(($K23/$K$15)*$L$15,2))),"",IF($K23="","",ROUND(($K23/$K$15)*$L$15,2))) | M23: =IF($L23="","",ROUND($L23*$M$15,2)) | Q23: =IF(COUNT($N23:$P23)=0,"",SUM($N23:$P23)) | R23: =IF(ISERROR(IF($Q23="","",ROUND(($Q23/$Q$15)*$R$15,2))),"",IF($Q23="","",ROUND(($Q23/$Q$15)*$R$15,2))) | S23: =IF($R23="","",ROUND($R23*$S$15,2)) | W23: =IFERROR(IF(T23="","",ROUND(T23/$T$15*$W$15,2)),"") | X23: =IFERROR(IF(U23="","",ROUND(U23/$U$15*$X$15,2)),"") | Y23: =IFERROR(IF(V23="","",ROUND(V23/$V$15*$Y$15,2)),"") | Z23: =IF(COUNT($W23:$Y23)=0,"",SUM($W23:$Y23)) | AA23: =IFERROR(IF(Z23="","",ROUND(Z23*$AA$15,2)),"") | AB23: =IF(C23="","",IFERROR(ROUND(M23+S23+AA23,2),"")) | AC23: =IF(C23="","",IFERROR(_xlfn.XLOOKUP(AB23,HELPER!$C$8:$C$48,HELPER!$D$8:$D$48,,1),"")) | AD23: =IF(C23="","",IFERROR(_xlfn.XLOOKUP(AC23,HELPER!$F$8:$F$48,HELPER!$G$8:$G$48,,1),""))
B24: 7 | C24: =IF('INPUT DATA'!K17="","",'INPUT DATA'!K17) | K24: =IF(COUNT($F24:$J24)=0,"",SUM($F24:$J24)) | L24: =IF(ISERROR(IF($K24="","",ROUND(($K24/$K$15)*$L$15,2))),"",IF($K24="","",ROUND(($K24/$K$15)*$L$15,2))) | M24: =IF($L24="","",ROUND($L24*$M$15,2)) | Q24: =IF(COUNT($N24:$P24)=0,"",SUM($N24:$P24)) | R24: =IF(ISERROR(IF($Q24="","",ROUND(($Q24/$Q$15)*$R$15,2))),"",IF($Q24="","",ROUND(($Q24/$Q$15)*$R$15,2))) | S24: =IF($R24="","",ROUND($R24*$S$15,2)) | W24: =IFERROR(IF(T24="","",ROUND(T24/$T$15*$W$15,2)),"") | X24: =IFERROR(IF(U24="","",ROUND(U24/$U$15*$X$15,2)),"") | Y24: =IFERROR(IF(V24="","",ROUND(V24/$V$15*$Y$15,2)),"") | Z24: =IF(COUNT($W24:$Y24)=0,"",SUM($W24:$Y24)) | AA24: =IFERROR(IF(Z24="","",ROUND(Z24*$AA$15,2)),"") | AB24: =IF(C24="","",IFERROR(ROUND(M24+S24+AA24,2),"")) | AC24: =IF(C24="","",IFERROR(_xlfn.XLOOKUP(AB24,HELPER!$C$8:$C$48,HELPER!$D$8:$D$48,,1),"")) | AD24: =IF(C24="","",IFERROR(_xlfn.XLOOKUP(AC24,HELPER!$F$8:$F$48,HELPER!$G$8:$G$48,,1),""))
B25: 8 | C25: =IF('INPUT DATA'!K18="","",'INPUT DATA'!K18) | K25: =IF(COUNT($F25:$J25)=0,"",SUM($F25:$J25)) | L25: =IF(ISERROR(IF($K25="","",ROUND(($K25/$K$15)*$L$15,2))),"",IF($K25="","",ROUND(($K25/$K$15)*$L$15,2))) | M25: =IF($L25="","",ROUND($L25*$M$15,2)) | Q25: =IF(COUNT($N25:$P25)=0,"",SUM($N25:$P25)) | R25: =IF(ISERROR(IF($Q25="","",ROUND(($Q25/$Q$15)*$R$15,2))),"",IF($Q25="","",ROUND(($Q25/$Q$15)*$R$15,2))) | S25: =IF($R25="","",ROUND($R25*$S$15,2)) | W25: =IFERROR(IF(T25="","",ROUND(T25/$T$15*$W$15,2)),"") | X25: =IFERROR(IF(U25="","",ROUND(U25/$U$15*$X$15,2)),"") | Y25: =IFERROR(IF(V25="","",ROUND(V25/$V$15*$Y$15,2)),"") | Z25: =IF(COUNT($W25:$Y25)=0,"",SUM($W25:$Y25)) | AA25: =IFERROR(IF(Z25="","",ROUND(Z25*$AA$15,2)),"") | AB25: =IF(C25="","",IFERROR(ROUND(M25+S25+AA25,2),"")) | AC25: =IF(C25="","",IFERROR(_xlfn.XLOOKUP(AB25,HELPER!$C$8:$C$48,HELPER!$D$8:$D$48,,1),"")) | AD25: =IF(C25="","",IFERROR(_xlfn.XLOOKUP(AC25,HELPER!$F$8:$F$48,HELPER!$G$8:$G$48,,1),""))
B26: 9 | C26: =IF('INPUT DATA'!K19="","",'INPUT DATA'!K19) | K26: =IF(COUNT($F26:$J26)=0,"",SUM($F26:$J26)) | L26: =IF(ISERROR(IF($K26="","",ROUND(($K26/$K$15)*$L$15,2))),"",IF($K26="","",ROUND(($K26/$K$15)*$L$15,2))) | M26: =IF($L26="","",ROUND($L26*$M$15,2)) | Q26: =IF(COUNT($N26:$P26)=0,"",SUM($N26:$P26)) | R26: =IF(ISERROR(IF($Q26="","",ROUND(($Q26/$Q$15)*$R$15,2))),"",IF($Q26="","",ROUND(($Q26/$Q$15)*$R$15,2))) | S26: =IF($R26="","",ROUND($R26*$S$15,2)) | W26: =IFERROR(IF(T26="","",ROUND(T26/$T$15*$W$15,2)),"") | X26: =IFERROR(IF(U26="","",ROUND(U26/$U$15*$X$15,2)),"") | Y26: =IFERROR(IF(V26="","",ROUND(V26/$V$15*$Y$15,2)),"") | Z26: =IF(COUNT($W26:$Y26)=0,"",SUM($W26:$Y26)) | AA26: =IFERROR(IF(Z26="","",ROUND(Z26*$AA$15,2)),"") | AB26: =IF(C26="","",IFERROR(ROUND(M26+S26+AA26,2),"")) | AC26: =IF(C26="","",IFERROR(_xlfn.XLOOKUP(AB26,HELPER!$C$8:$C$48,HELPER!$D$8:$D$48,,1),"")) | AD26: =IF(C26="","",IFERROR(_xlfn.XLOOKUP(AC26,HELPER!$F$8:$F$48,HELPER!$G$8:$G$48,,1),""))
B27: 10 | C27: =IF('INPUT DATA'!K20="","",'INPUT DATA'!K20) | K27: =IF(COUNT($F27:$J27)=0,"",SUM($F27:$J27)) | L27: =IF(ISERROR(IF($K27="","",ROUND(($K27/$K$15)*$L$15,2))),"",IF($K27="","",ROUND(($K27/$K$15)*$L$15,2))) | M27: =IF($L27="","",ROUND($L27*$M$15,2)) | Q27: =IF(COUNT($N27:$P27)=0,"",SUM($N27:$P27)) | R27: =IF(ISERROR(IF($Q27="","",ROUND(($Q27/$Q$15)*$R$15,2))),"",IF($Q27="","",ROUND(($Q27/$Q$15)*$R$15,2))) | S27: =IF($R27="","",ROUND($R27*$S$15,2)) | W27: =IFERROR(IF(T27="","",ROUND(T27/$T$15*$W$15,2)),"") | X27: =IFERROR(IF(U27="","",ROUND(U27/$U$15*$X$15,2)),"") | Y27: =IFERROR(IF(V27="","",ROUND(V27/$V$15*$Y$15,2)),"") | Z27: =IF(COUNT($W27:$Y27)=0,"",SUM($W27:$Y27)) | AA27: =IFERROR(IF(Z27="","",ROUND(Z27*$AA$15,2)),"") | AB27: =IF(C27="","",IFERROR(ROUND(M27+S27+AA27,2),"")) | AC27: =IF(C27="","",IFERROR(_xlfn.XLOOKUP(AB27,HELPER!$C$8:$C$48,HELPER!$D$8:$D$48,,1),"")) | AD27: =IF(C27="","",IFERROR(_xlfn.XLOOKUP(AC27,HELPER!$F$8:$F$48,HELPER!$G$8:$G$48,,1),""))
B28: 11 | C28: =IF('INPUT DATA'!K21="","",'INPUT DATA'!K21) | K28: =IF(COUNT($F28:$J28)=0,"",SUM($F28:$J28)) | L28: =IF(ISERROR(IF($K28="","",ROUND(($K28/$K$15)*$L$15,2))),"",IF($K28="","",ROUND(($K28/$K$15)*$L$15,2))) | M28: =IF($L28="","",ROUND($L28*$M$15,2)) | Q28: =IF(COUNT($N28:$P28)=0,"",SUM($N28:$P28)) | R28: =IF(ISERROR(IF($Q28="","",ROUND(($Q28/$Q$15)*$R$15,2))),"",IF($Q28="","",ROUND(($Q28/$Q$15)*$R$15,2))) | S28: =IF($R28="","",ROUND($R28*$S$15,2)) | W28: =IFERROR(IF(T28="","",ROUND(T28/$T$15*$W$15,2)),"") | X28: =IFERROR(IF(U28="","",ROUND(U28/$U$15*$X$15,2)),"") | Y28: =IFERROR(IF(V28="","",ROUND(V28/$V$15*$Y$15,2)),"") | Z28: =IF(COUNT($W28:$Y28)=0,"",SUM($W28:$Y28)) | AA28: =IFERROR(IF(Z28="","",ROUND(Z28*$AA$15,2)),"") | AB28: =IF(C28="","",IFERROR(ROUND(M28+S28+AA28,2),"")) | AC28: =IF(C28="","",IFERROR(_xlfn.XLOOKUP(AB28,HELPER!$C$8:$C$48,HELPER!$D$8:$D$48,,1),"")) | AD28: =IF(C28="","",IFERROR(_xlfn.XLOOKUP(AC28,HELPER!$F$8:$F$48,HELPER!$G$8:$G$48,,1),""))
B29: 12 | C29: =IF('INPUT DATA'!K22="","",'INPUT DATA'!K22) | K29: =IF(COUNT($F29:$J29)=0,"",SUM($F29:$J29)) | L29: =IF(ISERROR(IF($K29="","",ROUND(($K29/$K$15)*$L$15,2))),"",IF($K29="","",ROUND(($K29/$K$15)*$L$15,2))) | M29: =IF($L29="","",ROUND($L29*$M$15,2)) | Q29: =IF(COUNT($N29:$P29)=0,"",SUM($N29:$P29)) | R29: =IF(ISERROR(IF($Q29="","",ROUND(($Q29/$Q$15)*$R$15,2))),"",IF($Q29="","",ROUND(($Q29/$Q$15)*$R$15,2))) | S29: =IF($R29="","",ROUND($R29*$S$15,2)) | W29: =IFERROR(IF(T29="","",ROUND(T29/$T$15*$W$15,2)),"") | X29: =IFERROR(IF(U29="","",ROUND(U29/$U$15*$X$15,2)),"") | Y29: =IFERROR(IF(V29="","",ROUND(V29/$V$15*$Y$15,2)),"") | Z29: =IF(COUNT($W29:$Y29)=0,"",SUM($W29:$Y29)) | AA29: =IFERROR(IF(Z29="","",ROUND(Z29*$AA$15,2)),"") | AB29: =IF(C29="","",IFERROR(ROUND(M29+S29+AA29,2),"")) | AC29: =IF(C29="","",IFERROR(_xlfn.XLOOKUP(AB29,HELPER!$C$8:$C$48,HELPER!$D$8:$D$48,,1),"")) | AD29: =IF(C29="","",IFERROR(_xlfn.XLOOKUP(AC29,HELPER!$F$8:$F$48,HELPER!$G$8:$G$48,,1),""))
... B67: 50 | C67: =IF('INPUT DATA'!K60="","",'INPUT DATA'!K60) | K67: =IF(COUNT($F67:$J67)=0,"",SUM($F67:$J67)) | L67: =IF(ISERROR(IF($K67="","",ROUND(($K67/$K$15)*$L$15,2))),"",IF($K67="","",ROUND(($K67/$K$15)*$L$15,2))) | M67: =IF($L67="","",ROUND($L67*$M$15,2)) | Q67: =IF(COUNT($N67:$P67)=0,"",SUM($N67:$P67)) | R67: =IF(ISERROR(IF($Q67="","",ROUND(($Q67/$Q$15)*$R$15,2))),"",IF($Q67="","",ROUND(($Q67/$Q$15)*$R$15,2))) | S67: =IF($R67="","",ROUND($R67*$S$15,2)) | W67: =IFERROR(IF(T67="","",ROUND(T67/$T$15*$W$15,2)),"") | X67: =IFERROR(IF(U67="","",ROUND(U67/$U$15*$X$15,2)),"") | Y67: =IFERROR(IF(V67="","",ROUND(V67/$V$15*$Y$15,2)),"") | Z67: =IF(COUNT($W67:$Y67)=0,"",SUM($W67:$Y67)) | AA67: =IFERROR(IF(Z67="","",ROUND(Z67*$AA$15,2)),"") | AB67: =IF(C67="","",IFERROR(ROUND(M67+S67+AA67,2),"")) | AC67: =IF(C67="","",IFERROR(_xlfn.XLOOKUP(AB67,HELPER!$C$8:$C$48,HELPER!$D$8:$D$48,,1),"")) | AD67: =IF(C67="","",IFERROR(_xlfn.XLOOKUP(AC67,HELPER!$F$8:$F$48,HELPER!$G$8:$G$48,,1),""))
B68: FEMALE
B69: 1 | C69: =IF('INPUT DATA'!N11="","",'INPUT DATA'!N11) | K69: =IF(COUNT($F69:$J69)=0,"",SUM($F69:$J69)) | L69: =IF(ISERROR(IF($K69="","",ROUND(($K69/$K$15)*$L$15,2))),"",IF($K69="","",ROUND(($K69/$K$15)*$L$15,2))) | M69: =IF($L69="","",ROUND($L69*$M$15,2)) | Q69: =IF(COUNT($N69:$P69)=0,"",SUM($N69:$P69)) | R69: =IF(ISERROR(IF($Q69="","",ROUND(($Q69/$Q$15)*$R$15,2))),"",IF($Q69="","",ROUND(($Q69/$Q$15)*$R$15,2))) | S69: =IF($R69="","",ROUND($R69*$S$15,2)) | W69: =IFERROR(IF(T69="","",ROUND(T69/$T$15*$W$15,2)),"") | X69: =IFERROR(IF(U69="","",ROUND(U69/$U$15*$X$15,2)),"") | Y69: =IFERROR(IF(V69="","",ROUND(V69/$V$15*$Y$15,2)),"") | Z69: =IF(COUNT($W69:$Y69)=0,"",SUM($W69:$Y69)) | AA69: =IFERROR(IF(Z69="","",ROUND(Z69*$AA$15,2)),"") | AB69: =IF(C69="","",IFERROR(ROUND(M69+S69+AA69,2),"")) | AC69: =IF(C69="","",IFERROR(_xlfn.XLOOKUP(AB69,HELPER!$C$8:$C$48,HELPER!$D$8:$D$48,,1),"")) | AD69: =IF(C69="","",IFERROR(_xlfn.XLOOKUP(AC69,HELPER!$F$8:$F$48,HELPER!$G$8:$G$48,,1),""))
B70: 2 | C70: =IF('INPUT DATA'!N12="","",'INPUT DATA'!N12) | K70: =IF(COUNT($F70:$J70)=0,"",SUM($F70:$J70)) | L70: =IF(ISERROR(IF($K70="","",ROUND(($K70/$K$15)*$L$15,2))),"",IF($K70="","",ROUND(($K70/$K$15)*$L$15,2))) | M70: =IF($L70="","",ROUND($L70*$M$15,2)) | Q70: =IF(COUNT($N70:$P70)=0,"",SUM($N70:$P70)) | R70: =IF(ISERROR(IF($Q70="","",ROUND(($Q70/$Q$15)*$R$15,2))),"",IF($Q70="","",ROUND(($Q70/$Q$15)*$R$15,2))) | S70: =IF($R70="","",ROUND($R70*$S$15,2)) | W70: =IFERROR(IF(T70="","",ROUND(T70/$T$15*$W$15,2)),"") | X70: =IFERROR(IF(U70="","",ROUND(U70/$U$15*$X$15,2)),"") | Y70: =IFERROR(IF(V70="","",ROUND(V70/$V$15*$Y$15,2)),"") | Z70: =IF(COUNT($W70:$Y70)=0,"",SUM($W70:$Y70)) | AA70: =IFERROR(IF(Z70="","",ROUND(Z70*$AA$15,2)),"") | AB70: =IF(C70="","",IFERROR(ROUND(M70+S70+AA70,2),"")) | AC70: =IF(C70="","",IFERROR(_xlfn.XLOOKUP(AB70,HELPER!$C$8:$C$48,HELPER!$D$8:$D$48,,1),"")) | AD70: =IF(C70="","",IFERROR(_xlfn.XLOOKUP(AC70,HELPER!$F$8:$F$48,HELPER!$G$8:$G$48,,1),""))
B71: 3 | C71: =IF('INPUT DATA'!N13="","",'INPUT DATA'!N13) | K71: =IF(COUNT($F71:$J71)=0,"",SUM($F71:$J71)) | L71: =IF(ISERROR(IF($K71="","",ROUND(($K71/$K$15)*$L$15,2))),"",IF($K71="","",ROUND(($K71/$K$15)*$L$15,2))) | M71: =IF($L71="","",ROUND($L71*$M$15,2)) | Q71: =IF(COUNT($N71:$P71)=0,"",SUM($N71:$P71)) | R71: =IF(ISERROR(IF($Q71="","",ROUND(($Q71/$Q$15)*$R$15,2))),"",IF($Q71="","",ROUND(($Q71/$Q$15)*$R$15,2))) | S71: =IF($R71="","",ROUND($R71*$S$15,2)) | W71: =IFERROR(IF(T71="","",ROUND(T71/$T$15*$W$15,2)),"") | X71: =IFERROR(IF(U71="","",ROUND(U71/$U$15*$X$15,2)),"") | Y71: =IFERROR(IF(V71="","",ROUND(V71/$V$15*$Y$15,2)),"") | Z71: =IF(COUNT($W71:$Y71)=0,"",SUM($W71:$Y71)) | AA71: =IFERROR(IF(Z71="","",ROUND(Z71*$AA$15,2)),"") | AB71: =IF(C71="","",IFERROR(ROUND(M71+S71+AA71,2),"")) | AC71: =IF(C71="","",IFERROR(_xlfn.XLOOKUP(AB71,HELPER!$C$8:$C$48,HELPER!$D$8:$D$48,,1),"")) | AD71: =IF(C71="","",IFERROR(_xlfn.XLOOKUP(AC71,HELPER!$F$8:$F$48,HELPER!$G$8:$G$48,,1),""))
B72: 4 | C72: =IF('INPUT DATA'!N14="","",'INPUT DATA'!N14) | K72: =IF(COUNT($F72:$J72)=0,"",SUM($F72:$J72)) | L72: =IF(ISERROR(IF($K72="","",ROUND(($K72/$K$15)*$L$15,2))),"",IF($K72="","",ROUND(($K72/$K$15)*$L$15,2))) | M72: =IF($L72="","",ROUND($L72*$M$15,2)) | Q72: =IF(COUNT($N72:$P72)=0,"",SUM($N72:$P72)) | R72: =IF(ISERROR(IF($Q72="","",ROUND(($Q72/$Q$15)*$R$15,2))),"",IF($Q72="","",ROUND(($Q72/$Q$15)*$R$15,2))) | S72: =IF($R72="","",ROUND($R72*$S$15,2)) | W72: =IFERROR(IF(T72="","",ROUND(T72/$T$15*$W$15,2)),"") | X72: =IFERROR(IF(U72="","",ROUND(U72/$U$15*$X$15,2)),"") | Y72: =IFERROR(IF(V72="","",ROUND(V72/$V$15*$Y$15,2)),"") | Z72: =IF(COUNT($W72:$Y72)=0,"",SUM($W72:$Y72)) | AA72: =IFERROR(IF(Z72="","",ROUND(Z72*$AA$15,2)),"") | AB72: =IF(C72="","",IFERROR(ROUND(M72+S72+AA72,2),"")) | AC72: =IF(C72="","",IFERROR(_xlfn.XLOOKUP(AB72,HELPER!$C$8:$C$48,HELPER!$D$8:$D$48,,1),"")) | AD72: =IF(C72="","",IFERROR(_xlfn.XLOOKUP(AC72,HELPER!$F$8:$F$48,HELPER!$G$8:$G$48,,1),""))
B73: 5 | C73: =IF('INPUT DATA'!N15="","",'INPUT DATA'!N15) | K73: =IF(COUNT($F73:$J73)=0,"",SUM($F73:$J73)) | L73: =IF(ISERROR(IF($K73="","",ROUND(($K73/$K$15)*$L$15,2))),"",IF($K73="","",ROUND(($K73/$K$15)*$L$15,2))) | M73: =IF($L73="","",ROUND($L73*$M$15,2)) | Q73: =IF(COUNT($N73:$P73)=0,"",SUM($N73:$P73)) | R73: =IF(ISERROR(IF($Q73="","",ROUND(($Q73/$Q$15)*$R$15,2))),"",IF($Q73="","",ROUND(($Q73/$Q$15)*$R$15,2))) | S73: =IF($R73="","",ROUND($R73*$S$15,2)) | W73: =IFERROR(IF(T73="","",ROUND(T73/$T$15*$W$15,2)),"") | X73: =IFERROR(IF(U73="","",ROUND(U73/$U$15*$X$15,2)),"") | Y73: =IFERROR(IF(V73="","",ROUND(V73/$V$15*$Y$15,2)),"") | Z73: =IF(COUNT($W73:$Y73)=0,"",SUM($W73:$Y73)) | AA73: =IFERROR(IF(Z73="","",ROUND(Z73*$AA$15,2)),"") | AB73: =IF(C73="","",IFERROR(ROUND(M73+S73+AA73,2),"")) | AC73: =IF(C73="","",IFERROR(_xlfn.XLOOKUP(AB73,HELPER!$C$8:$C$48,HELPER!$D$8:$D$48,,1),"")) | AD73: =IF(C73="","",IFERROR(_xlfn.XLOOKUP(AC73,HELPER!$F$8:$F$48,HELPER!$G$8:$G$48,,1),""))
B74: 6 | C74: =IF('INPUT DATA'!N16="","",'INPUT DATA'!N16) | K74: =IF(COUNT($F74:$J74)=0,"",SUM($F74:$J74)) | L74: =IF(ISERROR(IF($K74="","",ROUND(($K74/$K$15)*$L$15,2))),"",IF($K74="","",ROUND(($K74/$K$15)*$L$15,2))) | M74: =IF($L74="","",ROUND($L74*$M$15,2)) | Q74: =IF(COUNT($N74:$P74)=0,"",SUM($N74:$P74)) | R74: =IF(ISERROR(IF($Q74="","",ROUND(($Q74/$Q$15)*$R$15,2))),"",IF($Q74="","",ROUND(($Q74/$Q$15)*$R$15,2))) | S74: =IF($R74="","",ROUND($R74*$S$15,2)) | W74: =IFERROR(IF(T74="","",ROUND(T74/$T$15*$W$15,2)),"") | X74: =IFERROR(IF(U74="","",ROUND(U74/$U$15*$X$15,2)),"") | Y74: =IFERROR(IF(V74="","",ROUND(V74/$V$15*$Y$15,2)),"") | Z74: =IF(COUNT($W74:$Y74)=0,"",SUM($W74:$Y74)) | AA74: =IFERROR(IF(Z74="","",ROUND(Z74*$AA$15,2)),"") | AB74: =IF(C74="","",IFERROR(ROUND(M74+S74+AA74,2),"")) | AC74: =IF(C74="","",IFERROR(_xlfn.XLOOKUP(AB74,HELPER!$C$8:$C$48,HELPER!$D$8:$D$48,,1),"")) | AD74: =IF(C74="","",IFERROR(_xlfn.XLOOKUP(AC74,HELPER!$F$8:$F$48,HELPER!$G$8:$G$48,,1),""))
B75: 7 | C75: =IF('INPUT DATA'!N17="","",'INPUT DATA'!N17) | K75: =IF(COUNT($F75:$J75)=0,"",SUM($F75:$J75)) | L75: =IF(ISERROR(IF($K75="","",ROUND(($K75/$K$15)*$L$15,2))),"",IF($K75="","",ROUND(($K75/$K$15)*$L$15,2))) | M75: =IF($L75="","",ROUND($L75*$M$15,2)) | Q75: =IF(COUNT($N75:$P75)=0,"",SUM($N75:$P75)) | R75: =IF(ISERROR(IF($Q75="","",ROUND(($Q75/$Q$15)*$R$15,2))),"",IF($Q75="","",ROUND(($Q75/$Q$15)*$R$15,2))) | S75: =IF($R75="","",ROUND($R75*$S$15,2)) | W75: =IFERROR(IF(T75="","",ROUND(T75/$T$15*$W$15,2)),"") | X75: =IFERROR(IF(U75="","",ROUND(U75/$U$15*$X$15,2)),"") | Y75: =IFERROR(IF(V75="","",ROUND(V75/$V$15*$Y$15,2)),"") | Z75: =IF(COUNT($W75:$Y75)=0,"",SUM($W75:$Y75)) | AA75: =IFERROR(IF(Z75="","",ROUND(Z75*$AA$15,2)),"") | AB75: =IF(C75="","",IFERROR(ROUND(M75+S75+AA75,2),"")) | AC75: =IF(C75="","",IFERROR(_xlfn.XLOOKUP(AB75,HELPER!$C$8:$C$48,HELPER!$D$8:$D$48,,1),"")) | AD75: =IF(C75="","",IFERROR(_xlfn.XLOOKUP(AC75,HELPER!$F$8:$F$48,HELPER!$G$8:$G$48,,1),""))
B76: 8 | C76: =IF('INPUT DATA'!N18="","",'INPUT DATA'!N18) | K76: =IF(COUNT($F76:$J76)=0,"",SUM($F76:$J76)) | L76: =IF(ISERROR(IF($K76="","",ROUND(($K76/$K$15)*$L$15,2))),"",IF($K76="","",ROUND(($K76/$K$15)*$L$15,2))) | M76: =IF($L76="","",ROUND($L76*$M$15,2)) | Q76: =IF(COUNT($N76:$P76)=0,"",SUM($N76:$P76)) | R76: =IF(ISERROR(IF($Q76="","",ROUND(($Q76/$Q$15)*$R$15,2))),"",IF($Q76="","",ROUND(($Q76/$Q$15)*$R$15,2))) | S76: =IF($R76="","",ROUND($R76*$S$15,2)) | W76: =IFERROR(IF(T76="","",ROUND(T76/$T$15*$W$15,2)),"") | X76: =IFERROR(IF(U76="","",ROUND(U76/$U$15*$X$15,2)),"") | Y76: =IFERROR(IF(V76="","",ROUND(V76/$V$15*$Y$15,2)),"") | Z76: =IF(COUNT($W76:$Y76)=0,"",SUM($W76:$Y76)) | AA76: =IFERROR(IF(Z76="","",ROUND(Z76*$AA$15,2)),"") | AB76: =IF(C76="","",IFERROR(ROUND(M76+S76+AA76,2),"")) | AC76: =IF(C76="","",IFERROR(_xlfn.XLOOKUP(AB76,HELPER!$C$8:$C$48,HELPER!$D$8:$D$48,,1),"")) | AD76: =IF(C76="","",IFERROR(_xlfn.XLOOKUP(AC76,HELPER!$F$8:$F$48,HELPER!$G$8:$G$48,,1),""))
B77: 9 | C77: =IF('INPUT DATA'!N19="","",'INPUT DATA'!N19) | K77: =IF(COUNT($F77:$J77)=0,"",SUM($F77:$J77)) | L77: =IF(ISERROR(IF($K77="","",ROUND(($K77/$K$15)*$L$15,2))),"",IF($K77="","",ROUND(($K77/$K$15)*$L$15,2))) | M77: =IF($L77="","",ROUND($L77*$M$15,2)) | Q77: =IF(COUNT($N77:$P77)=0,"",SUM($N77:$P77)) | R77: =IF(ISERROR(IF($Q77="","",ROUND(($Q77/$Q$15)*$R$15,2))),"",IF($Q77="","",ROUND(($Q77/$Q$15)*$R$15,2))) | S77: =IF($R77="","",ROUND($R77*$S$15,2)) | W77: =IFERROR(IF(T77="","",ROUND(T77/$T$15*$W$15,2)),"") | X77: =IFERROR(IF(U77="","",ROUND(U77/$U$15*$X$15,2)),"") | Y77: =IFERROR(IF(V77="","",ROUND(V77/$V$15*$Y$15,2)),"") | Z77: =IF(COUNT($W77:$Y77)=0,"",SUM($W77:$Y77)) | AA77: =IFERROR(IF(Z77="","",ROUND(Z77*$AA$15,2)),"") | AB77: =IF(C77="","",IFERROR(ROUND(M77+S77+AA77,2),"")) | AC77: =IF(C77="","",IFERROR(_xlfn.XLOOKUP(AB77,HELPER!$C$8:$C$48,HELPER!$D$8:$D$48,,1),"")) | AD77: =IF(C77="","",IFERROR(_xlfn.XLOOKUP(AC77,HELPER!$F$8:$F$48,HELPER!$G$8:$G$48,,1),""))
B78: 10 | C78: =IF('INPUT DATA'!N20="","",'INPUT DATA'!N20) | K78: =IF(COUNT($F78:$J78)=0,"",SUM($F78:$J78)) | L78: =IF(ISERROR(IF($K78="","",ROUND(($K78/$K$15)*$L$15,2))),"",IF($K78="","",ROUND(($K78/$K$15)*$L$15,2))) | M78: =IF($L78="","",ROUND($L78*$M$15,2)) | Q78: =IF(COUNT($N78:$P78)=0,"",SUM($N78:$P78)) | R78: =IF(ISERROR(IF($Q78="","",ROUND(($Q78/$Q$15)*$R$15,2))),"",IF($Q78="","",ROUND(($Q78/$Q$15)*$R$15,2))) | S78: =IF($R78="","",ROUND($R78*$S$15,2)) | W78: =IFERROR(IF(T78="","",ROUND(T78/$T$15*$W$15,2)),"") | X78: =IFERROR(IF(U78="","",ROUND(U78/$U$15*$X$15,2)),"") | Y78: =IFERROR(IF(V78="","",ROUND(V78/$V$15*$Y$15,2)),"") | Z78: =IF(COUNT($W78:$Y78)=0,"",SUM($W78:$Y78)) | AA78: =IFERROR(IF(Z78="","",ROUND(Z78*$AA$15,2)),"") | AB78: =IF(C78="","",IFERROR(ROUND(M78+S78+AA78,2),"")) | AC78: =IF(C78="","",IFERROR(_xlfn.XLOOKUP(AB78,HELPER!$C$8:$C$48,HELPER!$D$8:$D$48,,1),"")) | AD78: =IF(C78="","",IFERROR(_xlfn.XLOOKUP(AC78,HELPER!$F$8:$F$48,HELPER!$G$8:$G$48,,1),""))
B79: 11 | C79: =IF('INPUT DATA'!N21="","",'INPUT DATA'!N21) | K79: =IF(COUNT($F79:$J79)=0,"",SUM($F79:$J79)) | L79: =IF(ISERROR(IF($K79="","",ROUND(($K79/$K$15)*$L$15,2))),"",IF($K79="","",ROUND(($K79/$K$15)*$L$15,2))) | M79: =IF($L79="","",ROUND($L79*$M$15,2)) | Q79: =IF(COUNT($N79:$P79)=0,"",SUM($N79:$P79)) | R79: =IF(ISERROR(IF($Q79="","",ROUND(($Q79/$Q$15)*$R$15,2))),"",IF($Q79="","",ROUND(($Q79/$Q$15)*$R$15,2))) | S79: =IF($R79="","",ROUND($R79*$S$15,2)) | W79: =IFERROR(IF(T79="","",ROUND(T79/$T$15*$W$15,2)),"") | X79: =IFERROR(IF(U79="","",ROUND(U79/$U$15*$X$15,2)),"") | Y79: =IFERROR(IF(V79="","",ROUND(V79/$V$15*$Y$15,2)),"") | Z79: =IF(COUNT($W79:$Y79)=0,"",SUM($W79:$Y79)) | AA79: =IFERROR(IF(Z79="","",ROUND(Z79*$AA$15,2)),"") | AB79: =IF(C79="","",IFERROR(ROUND(M79+S79+AA79,2),"")) | AC79: =IF(C79="","",IFERROR(_xlfn.XLOOKUP(AB79,HELPER!$C$8:$C$48,HELPER!$D$8:$D$48,,1),"")) | AD79: =IF(C79="","",IFERROR(_xlfn.XLOOKUP(AC79,HELPER!$F$8:$F$48,HELPER!$G$8:$G$48,,1),""))
B80: 12 | C80: =IF('INPUT DATA'!N22="","",'INPUT DATA'!N22) | K80: =IF(COUNT($F80:$J80)=0,"",SUM($F80:$J80)) | L80: =IF(ISERROR(IF($K80="","",ROUND(($K80/$K$15)*$L$15,2))),"",IF($K80="","",ROUND(($K80/$K$15)*$L$15,2))) | M80: =IF($L80="","",ROUND($L80*$M$15,2)) | Q80: =IF(COUNT($N80:$P80)=0,"",SUM($N80:$P80)) | R80: =IF(ISERROR(IF($Q80="","",ROUND(($Q80/$Q$15)*$R$15,2))),"",IF($Q80="","",ROUND(($Q80/$Q$15)*$R$15,2))) | S80: =IF($R80="","",ROUND($R80*$S$15,2)) | W80: =IFERROR(IF(T80="","",ROUND(T80/$T$15*$W$15,2)),"") | X80: =IFERROR(IF(U80="","",ROUND(U80/$U$15*$X$15,2)),"") | Y80: =IFERROR(IF(V80="","",ROUND(V80/$V$15*$Y$15,2)),"") | Z80: =IF(COUNT($W80:$Y80)=0,"",SUM($W80:$Y80)) | AA80: =IFERROR(IF(Z80="","",ROUND(Z80*$AA$15,2)),"") | AB80: =IF(C80="","",IFERROR(ROUND(M80+S80+AA80,2),"")) | AC80: =IF(C80="","",IFERROR(_xlfn.XLOOKUP(AB80,HELPER!$C$8:$C$48,HELPER!$D$8:$D$48,,1),"")) | AD80: =IF(C80="","",IFERROR(_xlfn.XLOOKUP(AC80,HELPER!$F$8:$F$48,HELPER!$G$8:$G$48,,1),""))
... B118: 50 | C118: =IF('INPUT DATA'!N60="","",'INPUT DATA'!N60) | K118: =IF(COUNT($F118:$J118)=0,"",SUM($F118:$J118)) | L118: =IF(ISERROR(IF($K118="","",ROUND(($K118/$K$15)*$L$15,2))),"",IF($K118="","",ROUND(($K118/$K$15)*$L$15,2))) | M118: =IF($L118="","",ROUND($L118*$M$15,2)) | Q118: =IF(COUNT($N118:$P118)=0,"",SUM($N118:$P118)) | R118: =IF(ISERROR(IF($Q118="","",ROUND(($Q118/$Q$15)*$R$15,2))),"",IF($Q118="","",ROUND(($Q118/$Q$15)*$R$15,2))) | S118: =IF($R118="","",ROUND($R118*$S$15,2)) | W118: =IFERROR(IF(T118="","",ROUND(T118/$T$15*$W$15,2)),"") | X118: =IFERROR(IF(U118="","",ROUND(U118/$U$15*$X$15,2)),"") | Y118: =IFERROR(IF(V118="","",ROUND(V118/$V$15*$Y$15,2)),"") | Z118: =IF(COUNT($W118:$Y118)=0,"",SUM($W118:$Y118)) | AA118: =IFERROR(IF(Z118="","",ROUND(Z118*$AA$15,2)),"") | AB118: =IF(C118="","",IFERROR(ROUND(M118+S118+AA118,2),"")) | AC118: =IF(C118="","",IFERROR(_xlfn.XLOOKUP(AB118,HELPER!$C$8:$C$48,HELPER!$D$8:$D$48,,1),"")) | AD118: =IF(C118="","",IFERROR(_xlfn.XLOOKUP(AC118,HELPER!$F$8:$F$48,HELPER!$G$8:$G$48,,1),""))

Sheet TERM 1 PE and Health
B2: CLASS RECORD - TERM 1
E5: REGION | F5: ='INPUT DATA'!E10 -> 0 | Q5: DIVISION | R5: ='INPUT DATA'!E11 -> 0 | Y5: SCHOOL ID | Z5: ='INPUT DATA'!E13 -> 0
E7: SCHOOL NAME | F7: ='INPUT DATA'!E14 -> 0 | Y7: SCHOOL YEAR | Z7: ='INPUT DATA'!E15 -> 0
B10: FIRST TERM | F10: GRADE LEVEL | J10: ='INPUT DATA'!E25 -> 0 | N10: TEACHER | Q10: ='INPUT DATA'!E23 -> 0 | Y10: SUBJECT | AA10: Physical Education and Health
F11: SECTION | J11: ='INPUT DATA'!E26 -> 0
F12: WRITTEN / ORAL WORKS (WWs) | N12: PRODUCT / PERFORMANCE TASKS (PTs) | T12: EXAMINATIONS (EXs) | AB12: Initial Grade | AC12: Term Grade | AD12: Descriptor
F14: 1 | G14: 2 | H14: 3 | I14: 4 | J14: 5 | K14: Total | L14: PS | M14: WS | N14: 1 | O14: 2 | P14: 3 | Q14: Total | R14: PS | S14: WS | T14: ST1 | U14: ST2 | V14: TE | W14: WS ST1 | X14: WS ST2 | Y14: WS TE | Z14: PS | AA14: WS
B15: HIGHEST POSSIBLE SCORE | K15: =IF(COUNT($F15:$J15)=0,"",SUM($F15:$J15)) | L15: 100 | M15: 0.2 | Q15: =IF(COUNT($N15:$P15)=0,"",SUM($N15:$P15)) | R15: 100 | S15: 0.6 | W15: 30 | X15: 30 | Y15: 40 | Z15: 100 | AA15: 0.2
B16: LEARNERS' NAMES
B17: MALE
B18: 1 | C18: =IF('INPUT DATA'!K11="","",'INPUT DATA'!K11) | K18: =IF(COUNT($F18:$J18)=0,"",SUM($F18:$J18)) | L18: =IF(ISERROR(IF($K18="","",ROUND(($K18/$K$15)*$L$15,2))),"",IF($K18="","",ROUND(($K18/$K$15)*$L$15,2))) | M18: =IF($L18="","",ROUND($L18*$M$15,2)) | Q18: =IF(COUNT($N18:$P18)=0,"",SUM($N18:$P18)) | R18: =IF(ISERROR(IF($Q18="","",ROUND(($Q18/$Q$15)*$R$15,2))),"",IF($Q18="","",ROUND(($Q18/$Q$15)*$R$15,2))) | S18: =IF($R18="","",ROUND($R18*$S$15,2)) | W18: =IFERROR(IF(T18="","",ROUND(T18/$T$15*$W$15,2)),"") | X18: =IFERROR(IF(U18="","",ROUND(U18/$U$15*$X$15,2)),"") | Y18: =IFERROR(IF(V18="","",ROUND(V18/$V$15*$Y$15,2)),"") | Z18: =IF(COUNT($W18:$Y18)=0,"",SUM($W18:$Y18)) | AA18: =IFERROR(IF(Z18="","",ROUND(Z18*$AA$15,2)),"") | AB18: =IF(C18="","",IFERROR(ROUND(M18+S18+AA18,2),"")) | AC18: =IF(C18="","",IFERROR(_xlfn.XLOOKUP(AB18,HELPER!$C$8:$C$48,HELPER!$D$8:$D$48,,1),"")) | AD18: =IF(C18="","",IFERROR(_xlfn.XLOOKUP(AC18,HELPER!$F$8:$F$48,HELPER!$G$8:$G$48,,1),""))
B19: 2 | C19: =IF('INPUT DATA'!K12="","",'INPUT DATA'!K12) | K19: =IF(COUNT($F19:$J19)=0,"",SUM($F19:$J19)) | L19: =IF(ISERROR(IF($K19="","",ROUND(($K19/$K$15)*$L$15,2))),"",IF($K19="","",ROUND(($K19/$K$15)*$L$15,2))) | M19: =IF($L19="","",ROUND($L19*$M$15,2)) | Q19: =IF(COUNT($N19:$P19)=0,"",SUM($N19:$P19)) | R19: =IF(ISERROR(IF($Q19="","",ROUND(($Q19/$Q$15)*$R$15,2))),"",IF($Q19="","",ROUND(($Q19/$Q$15)*$R$15,2))) | S19: =IF($R19="","",ROUND($R19*$S$15,2)) | W19: =IFERROR(IF(T19="","",ROUND(T19/$T$15*$W$15,2)),"") | X19: =IFERROR(IF(U19="","",ROUND(U19/$U$15*$X$15,2)),"") | Y19: =IFERROR(IF(V19="","",ROUND(V19/$V$15*$Y$15,2)),"") | Z19: =IF(COUNT($W19:$Y19)=0,"",SUM($W19:$Y19)) | AA19: =IFERROR(IF(Z19="","",ROUND(Z19*$AA$15,2)),"") | AB19: =IF(C19="","",IFERROR(ROUND(M19+S19+AA19,2),"")) | AC19: =IF(C19="","",IFERROR(_xlfn.XLOOKUP(AB19,HELPER!$C$8:$C$48,HELPER!$D$8:$D$48,,1),"")) | AD19: =IF(C19="","",IFERROR(_xlfn.XLOOKUP(AC19,HELPER!$F$8:$F$48,HELPER!$G$8:$G$48,,1),""))
B20: 3 | C20: =IF('INPUT DATA'!K13="","",'INPUT DATA'!K13) | K20: =IF(COUNT($F20:$J20)=0,"",SUM($F20:$J20)) | L20: =IF(ISERROR(IF($K20="","",ROUND(($K20/$K$15)*$L$15,2))),"",IF($K20="","",ROUND(($K20/$K$15)*$L$15,2))) | M20: =IF($L20="","",ROUND($L20*$M$15,2)) | Q20: =IF(COUNT($N20:$P20)=0,"",SUM($N20:$P20)) | R20: =IF(ISERROR(IF($Q20="","",ROUND(($Q20/$Q$15)*$R$15,2))),"",IF($Q20="","",ROUND(($Q20/$Q$15)*$R$15,2))) | S20: =IF($R20="","",ROUND($R20*$S$15,2)) | W20: =IFERROR(IF(T20="","",ROUND(T20/$T$15*$W$15,2)),"") | X20: =IFERROR(IF(U20="","",ROUND(U20/$U$15*$X$15,2)),"") | Y20: =IFERROR(IF(V20="","",ROUND(V20/$V$15*$Y$15,2)),"") | Z20: =IF(COUNT($W20:$Y20)=0,"",SUM($W20:$Y20)) | AA20: =IFERROR(IF(Z20="","",ROUND(Z20*$AA$15,2)),"") | AB20: =IF(C20="","",IFERROR(ROUND(M20+S20+AA20,2),"")) | AC20: =IF(C20="","",IFERROR(_xlfn.XLOOKUP(AB20,HELPER!$C$8:$C$48,HELPER!$D$8:$D$48,,1),"")) | AD20: =IF(C20="","",IFERROR(_xlfn.XLOOKUP(AC20,HELPER!$F$8:$F$48,HELPER!$G$8:$G$48,,1),""))
B21: 4 | C21: =IF('INPUT DATA'!K14="","",'INPUT DATA'!K14) | K21: =IF(COUNT($F21:$J21)=0,"",SUM($F21:$J21)) | L21: =IF(ISERROR(IF($K21="","",ROUND(($K21/$K$15)*$L$15,2))),"",IF($K21="","",ROUND(($K21/$K$15)*$L$15,2))) | M21: =IF($L21="","",ROUND($L21*$M$15,2)) | Q21: =IF(COUNT($N21:$P21)=0,"",SUM($N21:$P21)) | R21: =IF(ISERROR(IF($Q21="","",ROUND(($Q21/$Q$15)*$R$15,2))),"",IF($Q21="","",ROUND(($Q21/$Q$15)*$R$15,2))) | S21: =IF($R21="","",ROUND($R21*$S$15,2)) | W21: =IFERROR(IF(T21="","",ROUND(T21/$T$15*$W$15,2)),"") | X21: =IFERROR(IF(U21="","",ROUND(U21/$U$15*$X$15,2)),"") | Y21: =IFERROR(IF(V21="","",ROUND(V21/$V$15*$Y$15,2)),"") | Z21: =IF(COUNT($W21:$Y21)=0,"",SUM($W21:$Y21)) | AA21: =IFERROR(IF(Z21="","",ROUND(Z21*$AA$15,2)),"") | AB21: =IF(C21="","",IFERROR(ROUND(M21+S21+AA21,2),"")) | AC21: =IF(C21="","",IFERROR(_xlfn.XLOOKUP(AB21,HELPER!$C$8:$C$48,HELPER!$D$8:$D$48,,1),"")) | AD21: =IF(C21="","",IFERROR(_xlfn.XLOOKUP(AC21,HELPER!$F$8:$F$48,HELPER!$G$8:$G$48,,1),""))
B22: 5 | C22: =IF('INPUT DATA'!K15="","",'INPUT DATA'!K15) | K22: =IF(COUNT($F22:$J22)=0,"",SUM($F22:$J22)) | L22: =IF(ISERROR(IF($K22="","",ROUND(($K22/$K$15)*$L$15,2))),"",IF($K22="","",ROUND(($K22/$K$15)*$L$15,2))) | M22: =IF($L22="","",ROUND($L22*$M$15,2)) | Q22: =IF(COUNT($N22:$P22)=0,"",SUM($N22:$P22)) | R22: =IF(ISERROR(IF($Q22="","",ROUND(($Q22/$Q$15)*$R$15,2))),"",IF($Q22="","",ROUND(($Q22/$Q$15)*$R$15,2))) | S22: =IF($R22="","",ROUND($R22*$S$15,2)) | W22: =IFERROR(IF(T22="","",ROUND(T22/$T$15*$W$15,2)),"") | X22: =IFERROR(IF(U22="","",ROUND(U22/$U$15*$X$15,2)),"") | Y22: =IFERROR(IF(V22="","",ROUND(V22/$V$15*$Y$15,2)),"") | Z22: =IF(COUNT($W22:$Y22)=0,"",SUM($W22:$Y22)) | AA22: =IFERROR(IF(Z22="","",ROUND(Z22*$AA$15,2)),"") | AB22: =IF(C22="","",IFERROR(ROUND(M22+S22+AA22,2),"")) | AC22: =IF(C22="","",IFERROR(_xlfn.XLOOKUP(AB22,HELPER!$C$8:$C$48,HELPER!$D$8:$D$48,,1),"")) | AD22: =IF(C22="","",IFERROR(_xlfn.XLOOKUP(AC22,HELPER!$F$8:$F$48,HELPER!$G$8:$G$48,,1),""))
B23: 6 | C23: =IF('INPUT DATA'!K16="","",'INPUT DATA'!K16) | K23: =IF(COUNT($F23:$J23)=0,"",SUM($F23:$J23)) | L23: =IF(ISERROR(IF($K23="","",ROUND(($K23/$K$15)*$L$15,2))),"",IF($K23="","",ROUND(($K23/$K$15)*$L$15,2))) | M23: =IF($L23="","",ROUND($L23*$M$15,2)) | Q23: =IF(COUNT($N23:$P23)=0,"",SUM($N23:$P23)) | R23: =IF(ISERROR(IF($Q23="","",ROUND(($Q23/$Q$15)*$R$15,2))),"",IF($Q23="","",ROUND(($Q23/$Q$15)*$R$15,2))) | S23: =IF($R23="","",ROUND($R23*$S$15,2)) | W23: =IFERROR(IF(T23="","",ROUND(T23/$T$15*$W$15,2)),"") | X23: =IFERROR(IF(U23="","",ROUND(U23/$U$15*$X$15,2)),"") | Y23: =IFERROR(IF(V23="","",ROUND(V23/$V$15*$Y$15,2)),"") | Z23: =IF(COUNT($W23:$Y23)=0,"",SUM($W23:$Y23)) | AA23: =IFERROR(IF(Z23="","",ROUND(Z23*$AA$15,2)),"") | AB23: =IF(C23="","",IFERROR(ROUND(M23+S23+AA23,2),"")) | AC23: =IF(C23="","",IFERROR(_xlfn.XLOOKUP(AB23,HELPER!$C$8:$C$48,HELPER!$D$8:$D$48,,1),"")) | AD23: =IF(C23="","",IFERROR(_xlfn.XLOOKUP(AC23,HELPER!$F$8:$F$48,HELPER!$G$8:$G$48,,1),""))
B24: 7 | C24: =IF('INPUT DATA'!K17="","",'INPUT DATA'!K17) | K24: =IF(COUNT($F24:$J24)=0,"",SUM($F24:$J24)) | L24: =IF(ISERROR(IF($K24="","",ROUND(($K24/$K$15)*$L$15,2))),"",IF($K24="","",ROUND(($K24/$K$15)*$L$15,2))) | M24: =IF($L24="","",ROUND($L24*$M$15,2)) | Q24: =IF(COUNT($N24:$P24)=0,"",SUM($N24:$P24)) | R24: =IF(ISERROR(IF($Q24="","",ROUND(($Q24/$Q$15)*$R$15,2))),"",IF($Q24="","",ROUND(($Q24/$Q$15)*$R$15,2))) | S24: =IF($R24="","",ROUND($R24*$S$15,2)) | W24: =IFERROR(IF(T24="","",ROUND(T24/$T$15*$W$15,2)),"") | X24: =IFERROR(IF(U24="","",ROUND(U24/$U$15*$X$15,2)),"") | Y24: =IFERROR(IF(V24="","",ROUND(V24/$V$15*$Y$15,2)),"") | Z24: =IF(COUNT($W24:$Y24)=0,"",SUM($W24:$Y24)) | AA24: =IFERROR(IF(Z24="","",ROUND(Z24*$AA$15,2)),"") | AB24: =IF(C24="","",IFERROR(ROUND(M24+S24+AA24,2),"")) | AC24: =IF(C24="","",IFERROR(_xlfn.XLOOKUP(AB24,HELPER!$C$8:$C$48,HELPER!$D$8:$D$48,,1),"")) | AD24: =IF(C24="","",IFERROR(_xlfn.XLOOKUP(AC24,HELPER!$F$8:$F$48,HELPER!$G$8:$G$48,,1),""))
B25: 8 | C25: =IF('INPUT DATA'!K18="","",'INPUT DATA'!K18) | K25: =IF(COUNT($F25:$J25)=0,"",SUM($F25:$J25)) | L25: =IF(ISERROR(IF($K25="","",ROUND(($K25/$K$15)*$L$15,2))),"",IF($K25="","",ROUND(($K25/$K$15)*$L$15,2))) | M25: =IF($L25="","",ROUND($L25*$M$15,2)) | Q25: =IF(COUNT($N25:$P25)=0,"",SUM($N25:$P25)) | R25: =IF(ISERROR(IF($Q25="","",ROUND(($Q25/$Q$15)*$R$15,2))),"",IF($Q25="","",ROUND(($Q25/$Q$15)*$R$15,2))) | S25: =IF($R25="","",ROUND($R25*$S$15,2)) | W25: =IFERROR(IF(T25="","",ROUND(T25/$T$15*$W$15,2)),"") | X25: =IFERROR(IF(U25="","",ROUND(U25/$U$15*$X$15,2)),"") | Y25: =IFERROR(IF(V25="","",ROUND(V25/$V$15*$Y$15,2)),"") | Z25: =IF(COUNT($W25:$Y25)=0,"",SUM($W25:$Y25)) | AA25: =IFERROR(IF(Z25="","",ROUND(Z25*$AA$15,2)),"") | AB25: =IF(C25="","",IFERROR(ROUND(M25+S25+AA25,2),"")) | AC25: =IF(C25="","",IFERROR(_xlfn.XLOOKUP(AB25,HELPER!$C$8:$C$48,HELPER!$D$8:$D$48,,1),"")) | AD25: =IF(C25="","",IFERROR(_xlfn.XLOOKUP(AC25,HELPER!$F$8:$F$48,HELPER!$G$8:$G$48,,1),""))
B26: 9 | C26: =IF('INPUT DATA'!K19="","",'INPUT DATA'!K19) | K26: =IF(COUNT($F26:$J26)=0,"",SUM($F26:$J26)) | L26: =IF(ISERROR(IF($K26="","",ROUND(($K26/$K$15)*$L$15,2))),"",IF($K26="","",ROUND(($K26/$K$15)*$L$15,2))) | M26: =IF($L26="","",ROUND($L26*$M$15,2)) | Q26: =IF(COUNT($N26:$P26)=0,"",SUM($N26:$P26)) | R26: =IF(ISERROR(IF($Q26="","",ROUND(($Q26/$Q$15)*$R$15,2))),"",IF($Q26="","",ROUND(($Q26/$Q$15)*$R$15,2))) | S26: =IF($R26="","",ROUND($R26*$S$15,2)) | W26: =IFERROR(IF(T26="","",ROUND(T26/$T$15*$W$15,2)),"") | X26: =IFERROR(IF(U26="","",ROUND(U26/$U$15*$X$15,2)),"") | Y26: =IFERROR(IF(V26="","",ROUND(V26/$V$15*$Y$15,2)),"") | Z26: =IF(COUNT($W26:$Y26)=0,"",SUM($W26:$Y26)) | AA26: =IFERROR(IF(Z26="","",ROUND(Z26*$AA$15,2)),"") | AB26: =IF(C26="","",IFERROR(ROUND(M26+S26+AA26,2),"")) | AC26: =IF(C26="","",IFERROR(_xlfn.XLOOKUP(AB26,HELPER!$C$8:$C$48,HELPER!$D$8:$D$48,,1),"")) | AD26: =IF(C26="","",IFERROR(_xlfn.XLOOKUP(AC26,HELPER!$F$8:$F$48,HELPER!$G$8:$G$48,,1),""))
B27: 10 | C27: =IF('INPUT DATA'!K20="","",'INPUT DATA'!K20) | K27: =IF(COUNT($F27:$J27)=0,"",SUM($F27:$J27)) | L27: =IF(ISERROR(IF($K27="","",ROUND(($K27/$K$15)*$L$15,2))),"",IF($K27="","",ROUND(($K27/$K$15)*$L$15,2))) | M27: =IF($L27="","",ROUND($L27*$M$15,2)) | Q27: =IF(COUNT($N27:$P27)=0,"",SUM($N27:$P27)) | R27: =IF(ISERROR(IF($Q27="","",ROUND(($Q27/$Q$15)*$R$15,2))),"",IF($Q27="","",ROUND(($Q27/$Q$15)*$R$15,2))) | S27: =IF($R27="","",ROUND($R27*$S$15,2)) | W27: =IFERROR(IF(T27="","",ROUND(T27/$T$15*$W$15,2)),"") | X27: =IFERROR(IF(U27="","",ROUND(U27/$U$15*$X$15,2)),"") | Y27: =IFERROR(IF(V27="","",ROUND(V27/$V$15*$Y$15,2)),"") | Z27: =IF(COUNT($W27:$Y27)=0,"",SUM($W27:$Y27)) | AA27: =IFERROR(IF(Z27="","",ROUND(Z27*$AA$15,2)),"") | AB27: =IF(C27="","",IFERROR(ROUND(M27+S27+AA27,2),"")) | AC27: =IF(C27="","",IFERROR(_xlfn.XLOOKUP(AB27,HELPER!$C$8:$C$48,HELPER!$D$8:$D$48,,1),"")) | AD27: =IF(C27="","",IFERROR(_xlfn.XLOOKUP(AC27,HELPER!$F$8:$F$48,HELPER!$G$8:$G$48,,1),""))
B28: 11 | C28: =IF('INPUT DATA'!K21="","",'INPUT DATA'!K21) | K28: =IF(COUNT($F28:$J28)=0,"",SUM($F28:$J28)) | L28: =IF(ISERROR(IF($K28="","",ROUND(($K28/$K$15)*$L$15,2))),"",IF($K28="","",ROUND(($K28/$K$15)*$L$15,2))) | M28: =IF($L28="","",ROUND($L28*$M$15,2)) | Q28: =IF(COUNT($N28:$P28)=0,"",SUM($N28:$P28)) | R28: =IF(ISERROR(IF($Q28="","",ROUND(($Q28/$Q$15)*$R$15,2))),"",IF($Q28="","",ROUND(($Q28/$Q$15)*$R$15,2))) | S28: =IF($R28="","",ROUND($R28*$S$15,2)) | W28: =IFERROR(IF(T28="","",ROUND(T28/$T$15*$W$15,2)),"") | X28: =IFERROR(IF(U28="","",ROUND(U28/$U$15*$X$15,2)),"") | Y28: =IFERROR(IF(V28="","",ROUND(V28/$V$15*$Y$15,2)),"") | Z28: =IF(COUNT($W28:$Y28)=0,"",SUM($W28:$Y28)) | AA28: =IFERROR(IF(Z28="","",ROUND(Z28*$AA$15,2)),"") | AB28: =IF(C28="","",IFERROR(ROUND(M28+S28+AA28,2),"")) | AC28: =IF(C28="","",IFERROR(_xlfn.XLOOKUP(AB28,HELPER!$C$8:$C$48,HELPER!$D$8:$D$48,,1),"")) | AD28: =IF(C28="","",IFERROR(_xlfn.XLOOKUP(AC28,HELPER!$F$8:$F$48,HELPER!$G$8:$G$48,,1),""))
B29: 12 | C29: =IF('INPUT DATA'!K22="","",'INPUT DATA'!K22) | K29: =IF(COUNT($F29:$J29)=0,"",SUM($F29:$J29)) | L29: =IF(ISERROR(IF($K29="","",ROUND(($K29/$K$15)*$L$15,2))),"",IF($K29="","",ROUND(($K29/$K$15)*$L$15,2))) | M29: =IF($L29="","",ROUND($L29*$M$15,2)) | Q29: =IF(COUNT($N29:$P29)=0,"",SUM($N29:$P29)) | R29: =IF(ISERROR(IF($Q29="","",ROUND(($Q29/$Q$15)*$R$15,2))),"",IF($Q29="","",ROUND(($Q29/$Q$15)*$R$15,2))) | S29: =IF($R29="","",ROUND($R29*$S$15,2)) | W29: =IFERROR(IF(T29="","",ROUND(T29/$T$15*$W$15,2)),"") | X29: =IFERROR(IF(U29="","",ROUND(U29/$U$15*$X$15,2)),"") | Y29: =IFERROR(IF(V29="","",ROUND(V29/$V$15*$Y$15,2)),"") | Z29: =IF(COUNT($W29:$Y29)=0,"",SUM($W29:$Y29)) | AA29: =IFERROR(IF(Z29="","",ROUND(Z29*$AA$15,2)),"") | AB29: =IF(C29="","",IFERROR(ROUND(M29+S29+AA29,2),"")) | AC29: =IF(C29="","",IFERROR(_xlfn.XLOOKUP(AB29,HELPER!$C$8:$C$48,HELPER!$D$8:$D$48,,1),"")) | AD29: =IF(C29="","",IFERROR(_xlfn.XLOOKUP(AC29,HELPER!$F$8:$F$48,HELPER!$G$8:$G$48,,1),""))
... B67: 50 | C67: =IF('INPUT DATA'!K60="","",'INPUT DATA'!K60) | K67: =IF(COUNT($F67:$J67)=0,"",SUM($F67:$J67)) | L67: =IF(ISERROR(IF($K67="","",ROUND(($K67/$K$15)*$L$15,2))),"",IF($K67="","",ROUND(($K67/$K$15)*$L$15,2))) | M67: =IF($L67="","",ROUND($L67*$M$15,2)) | Q67: =IF(COUNT($N67:$P67)=0,"",SUM($N67:$P67)) | R67: =IF(ISERROR(IF($Q67="","",ROUND(($Q67/$Q$15)*$R$15,2))),"",IF($Q67="","",ROUND(($Q67/$Q$15)*$R$15,2))) | S67: =IF($R67="","",ROUND($R67*$S$15,2)) | W67: =IFERROR(IF(T67="","",ROUND(T67/$T$15*$W$15,2)),"") | X67: =IFERROR(IF(U67="","",ROUND(U67/$U$15*$X$15,2)),"") | Y67: =IFERROR(IF(V67="","",ROUND(V67/$V$15*$Y$15,2)),"") | Z67: =IF(COUNT($W67:$Y67)=0,"",SUM($W67:$Y67)) | AA67: =IFERROR(IF(Z67="","",ROUND(Z67*$AA$15,2)),"") | AB67: =IF(C67="","",IFERROR(ROUND(M67+S67+AA67,2),"")) | AC67: =IF(C67="","",IFERROR(_xlfn.XLOOKUP(AB67,HELPER!$C$8:$C$48,HELPER!$D$8:$D$48,,1),"")) | AD67: =IF(C67="","",IFERROR(_xlfn.XLOOKUP(AC67,HELPER!$F$8:$F$48,HELPER!$G$8:$G$48,,1),""))
B68: FEMALE
B69: 1 | C69: =IF('INPUT DATA'!N11="","",'INPUT DATA'!N11) | K69: =IF(COUNT($F69:$J69)=0,"",SUM($F69:$J69)) | L69: =IF(ISERROR(IF($K69="","",ROUND(($K69/$K$15)*$L$15,2))),"",IF($K69="","",ROUND(($K69/$K$15)*$L$15,2))) | M69: =IF($L69="","",ROUND($L69*$M$15,2)) | Q69: =IF(COUNT($N69:$P69)=0,"",SUM($N69:$P69)) | R69: =IF(ISERROR(IF($Q69="","",ROUND(($Q69/$Q$15)*$R$15,2))),"",IF($Q69="","",ROUND(($Q69/$Q$15)*$R$15,2))) | S69: =IF($R69="","",ROUND($R69*$S$15,2)) | W69: =IFERROR(IF(T69="","",ROUND(T69/$T$15*$W$15,2)),"") | X69: =IFERROR(IF(U69="","",ROUND(U69/$U$15*$X$15,2)),"") | Y69: =IFERROR(IF(V69="","",ROUND(V69/$V$15*$Y$15,2)),"") | Z69: =IF(COUNT($W69:$Y69)=0,"",SUM($W69:$Y69)) | AA69: =IFERROR(IF(Z69="","",ROUND(Z69*$AA$15,2)),"") | AB69: =IF(C69="","",IFERROR(ROUND(M69+S69+AA69,2),"")) | AC69: =IF(C69="","",IFERROR(_xlfn.XLOOKUP(AB69,HELPER!$C$8:$C$48,HELPER!$D$8:$D$48,,1),"")) | AD69: =IF(C69="","",IFERROR(_xlfn.XLOOKUP(AC69,HELPER!$F$8:$F$48,HELPER!$G$8:$G$48,,1),""))
B70: 2 | C70: =IF('INPUT DATA'!N12="","",'INPUT DATA'!N12) | K70: =IF(COUNT($F70:$J70)=0,"",SUM($F70:$J70)) | L70: =IF(ISERROR(IF($K70="","",ROUND(($K70/$K$15)*$L$15,2))),"",IF($K70="","",ROUND(($K70/$K$15)*$L$15,2))) | M70: =IF($L70="","",ROUND($L70*$M$15,2)) | Q70: =IF(COUNT($N70:$P70)=0,"",SUM($N70:$P70)) | R70: =IF(ISERROR(IF($Q70="","",ROUND(($Q70/$Q$15)*$R$15,2))),"",IF($Q70="","",ROUND(($Q70/$Q$15)*$R$15,2))) | S70: =IF($R70="","",ROUND($R70*$S$15,2)) | W70: =IFERROR(IF(T70="","",ROUND(T70/$T$15*$W$15,2)),"") | X70: =IFERROR(IF(U70="","",ROUND(U70/$U$15*$X$15,2)),"") | Y70: =IFERROR(IF(V70="","",ROUND(V70/$V$15*$Y$15,2)),"") | Z70: =IF(COUNT($W70:$Y70)=0,"",SUM($W70:$Y70)) | AA70: =IFERROR(IF(Z70="","",ROUND(Z70*$AA$15,2)),"") | AB70: =IF(C70="","",IFERROR(ROUND(M70+S70+AA70,2),"")) | AC70: =IF(C70="","",IFERROR(_xlfn.XLOOKUP(AB70,HELPER!$C$8:$C$48,HELPER!$D$8:$D$48,,1),"")) | AD70: =IF(C70="","",IFERROR(_xlfn.XLOOKUP(AC70,HELPER!$F$8:$F$48,HELPER!$G$8:$G$48,,1),""))
B71: 3 | C71: =IF('INPUT DATA'!N13="","",'INPUT DATA'!N13) | K71: =IF(COUNT($F71:$J71)=0,"",SUM($F71:$J71)) | L71: =IF(ISERROR(IF($K71="","",ROUND(($K71/$K$15)*$L$15,2))),"",IF($K71="","",ROUND(($K71/$K$15)*$L$15,2))) | M71: =IF($L71="","",ROUND($L71*$M$15,2)) | Q71: =IF(COUNT($N71:$P71)=0,"",SUM($N71:$P71)) | R71: =IF(ISERROR(IF($Q71="","",ROUND(($Q71/$Q$15)*$R$15,2))),"",IF($Q71="","",ROUND(($Q71/$Q$15)*$R$15,2))) | S71: =IF($R71="","",ROUND($R71*$S$15,2)) | W71: =IFERROR(IF(T71="","",ROUND(T71/$T$15*$W$15,2)),"") | X71: =IFERROR(IF(U71="","",ROUND(U71/$U$15*$X$15,2)),"") | Y71: =IFERROR(IF(V71="","",ROUND(V71/$V$15*$Y$15,2)),"") | Z71: =IF(COUNT($W71:$Y71)=0,"",SUM($W71:$Y71)) | AA71: =IFERROR(IF(Z71="","",ROUND(Z71*$AA$15,2)),"") | AB71: =IF(C71="","",IFERROR(ROUND(M71+S71+AA71,2),"")) | AC71: =IF(C71="","",IFERROR(_xlfn.XLOOKUP(AB71,HELPER!$C$8:$C$48,HELPER!$D$8:$D$48,,1),"")) | AD71: =IF(C71="","",IFERROR(_xlfn.XLOOKUP(AC71,HELPER!$F$8:$F$48,HELPER!$G$8:$G$48,,1),""))
B72: 4 | C72: =IF('INPUT DATA'!N14="","",'INPUT DATA'!N14) | K72: =IF(COUNT($F72:$J72)=0,"",SUM($F72:$J72)) | L72: =IF(ISERROR(IF($K72="","",ROUND(($K72/$K$15)*$L$15,2))),"",IF($K72="","",ROUND(($K72/$K$15)*$L$15,2))) | M72: =IF($L72="","",ROUND($L72*$M$15,2)) | Q72: =IF(COUNT($N72:$P72)=0,"",SUM($N72:$P72)) | R72: =IF(ISERROR(IF($Q72="","",ROUND(($Q72/$Q$15)*$R$15,2))),"",IF($Q72="","",ROUND(($Q72/$Q$15)*$R$15,2))) | S72: =IF($R72="","",ROUND($R72*$S$15,2)) | W72: =IFERROR(IF(T72="","",ROUND(T72/$T$15*$W$15,2)),"") | X72: =IFERROR(IF(U72="","",ROUND(U72/$U$15*$X$15,2)),"") | Y72: =IFERROR(IF(V72="","",ROUND(V72/$V$15*$Y$15,2)),"") | Z72: =IF(COUNT($W72:$Y72)=0,"",SUM($W72:$Y72)) | AA72: =IFERROR(IF(Z72="","",ROUND(Z72*$AA$15,2)),"") | AB72: =IF(C72="","",IFERROR(ROUND(M72+S72+AA72,2),"")) | AC72: =IF(C72="","",IFERROR(_xlfn.XLOOKUP(AB72,HELPER!$C$8:$C$48,HELPER!$D$8:$D$48,,1),"")) | AD72: =IF(C72="","",IFERROR(_xlfn.XLOOKUP(AC72,HELPER!$F$8:$F$48,HELPER!$G$8:$G$48,,1),""))
B73: 5 | C73: =IF('INPUT DATA'!N15="","",'INPUT DATA'!N15) | K73: =IF(COUNT($F73:$J73)=0,"",SUM($F73:$J73)) | L73: =IF(ISERROR(IF($K73="","",ROUND(($K73/$K$15)*$L$15,2))),"",IF($K73="","",ROUND(($K73/$K$15)*$L$15,2))) | M73: =IF($L73="","",ROUND($L73*$M$15,2)) | Q73: =IF(COUNT($N73:$P73)=0,"",SUM($N73:$P73)) | R73: =IF(ISERROR(IF($Q73="","",ROUND(($Q73/$Q$15)*$R$15,2))),"",IF($Q73="","",ROUND(($Q73/$Q$15)*$R$15,2))) | S73: =IF($R73="","",ROUND($R73*$S$15,2)) | W73: =IFERROR(IF(T73="","",ROUND(T73/$T$15*$W$15,2)),"") | X73: =IFERROR(IF(U73="","",ROUND(U73/$U$15*$X$15,2)),"") | Y73: =IFERROR(IF(V73="","",ROUND(V73/$V$15*$Y$15,2)),"") | Z73: =IF(COUNT($W73:$Y73)=0,"",SUM($W73:$Y73)) | AA73: =IFERROR(IF(Z73="","",ROUND(Z73*$AA$15,2)),"") | AB73: =IF(C73="","",IFERROR(ROUND(M73+S73+AA73,2),"")) | AC73: =IF(C73="","",IFERROR(_xlfn.XLOOKUP(AB73,HELPER!$C$8:$C$48,HELPER!$D$8:$D$48,,1),"")) | AD73: =IF(C73="","",IFERROR(_xlfn.XLOOKUP(AC73,HELPER!$F$8:$F$48,HELPER!$G$8:$G$48,,1),""))
B74: 6 | C74: =IF('INPUT DATA'!N16="","",'INPUT DATA'!N16) | K74: =IF(COUNT($F74:$J74)=0,"",SUM($F74:$J74)) | L74: =IF(ISERROR(IF($K74="","",ROUND(($K74/$K$15)*$L$15,2))),"",IF($K74="","",ROUND(($K74/$K$15)*$L$15,2))) | M74: =IF($L74="","",ROUND($L74*$M$15,2)) | Q74: =IF(COUNT($N74:$P74)=0,"",SUM($N74:$P74)) | R74: =IF(ISERROR(IF($Q74="","",ROUND(($Q74/$Q$15)*$R$15,2))),"",IF($Q74="","",ROUND(($Q74/$Q$15)*$R$15,2))) | S74: =IF($R74="","",ROUND($R74*$S$15,2)) | W74: =IFERROR(IF(T74="","",ROUND(T74/$T$15*$W$15,2)),"") | X74: =IFERROR(IF(U74="","",ROUND(U74/$U$15*$X$15,2)),"") | Y74: =IFERROR(IF(V74="","",ROUND(V74/$V$15*$Y$15,2)),"") | Z74: =IF(COUNT($W74:$Y74)=0,"",SUM($W74:$Y74)) | AA74: =IFERROR(IF(Z74="","",ROUND(Z74*$AA$15,2)),"") | AB74: =IF(C74="","",IFERROR(ROUND(M74+S74+AA74,2),"")) | AC74: =IF(C74="","",IFERROR(_xlfn.XLOOKUP(AB74,HELPER!$C$8:$C$48,HELPER!$D$8:$D$48,,1),"")) | AD74: =IF(C74="","",IFERROR(_xlfn.XLOOKUP(AC74,HELPER!$F$8:$F$48,HELPER!$G$8:$G$48,,1),""))
B75: 7 | C75: =IF('INPUT DATA'!N17="","",'INPUT DATA'!N17) | K75: =IF(COUNT($F75:$J75)=0,"",SUM($F75:$J75)) | L75: =IF(ISERROR(IF($K75="","",ROUND(($K75/$K$15)*$L$15,2))),"",IF($K75="","",ROUND(($K75/$K$15)*$L$15,2))) | M75: =IF($L75="","",ROUND($L75*$M$15,2)) | Q75: =IF(COUNT($N75:$P75)=0,"",SUM($N75:$P75)) | R75: =IF(ISERROR(IF($Q75="","",ROUND(($Q75/$Q$15)*$R$15,2))),"",IF($Q75="","",ROUND(($Q75/$Q$15)*$R$15,2))) | S75: =IF($R75="","",ROUND($R75*$S$15,2)) | W75: =IFERROR(IF(T75="","",ROUND(T75/$T$15*$W$15,2)),"") | X75: =IFERROR(IF(U75="","",ROUND(U75/$U$15*$X$15,2)),"") | Y75: =IFERROR(IF(V75="","",ROUND(V75/$V$15*$Y$15,2)),"") | Z75: =IF(COUNT($W75:$Y75)=0,"",SUM($W75:$Y75)) | AA75: =IFERROR(IF(Z75="","",ROUND(Z75*$AA$15,2)),"") | AB75: =IF(C75="","",IFERROR(ROUND(M75+S75+AA75,2),"")) | AC75: =IF(C75="","",IFERROR(_xlfn.XLOOKUP(AB75,HELPER!$C$8:$C$48,HELPER!$D$8:$D$48,,1),"")) | AD75: =IF(C75="","",IFERROR(_xlfn.XLOOKUP(AC75,HELPER!$F$8:$F$48,HELPER!$G$8:$G$48,,1),""))
B76: 8 | C76: =IF('INPUT DATA'!N18="","",'INPUT DATA'!N18) | K76: =IF(COUNT($F76:$J76)=0,"",SUM($F76:$J76)) | L76: =IF(ISERROR(IF($K76="","",ROUND(($K76/$K$15)*$L$15,2))),"",IF($K76="","",ROUND(($K76/$K$15)*$L$15,2))) | M76: =IF($L76="","",ROUND($L76*$M$15,2)) | Q76: =IF(COUNT($N76:$P76)=0,"",SUM($N76:$P76)) | R76: =IF(ISERROR(IF($Q76="","",ROUND(($Q76/$Q$15)*$R$15,2))),"",IF($Q76="","",ROUND(($Q76/$Q$15)*$R$15,2))) | S76: =IF($R76="","",ROUND($R76*$S$15,2)) | W76: =IFERROR(IF(T76="","",ROUND(T76/$T$15*$W$15,2)),"") | X76: =IFERROR(IF(U76="","",ROUND(U76/$U$15*$X$15,2)),"") | Y76: =IFERROR(IF(V76="","",ROUND(V76/$V$15*$Y$15,2)),"") | Z76: =IF(COUNT($W76:$Y76)=0,"",SUM($W76:$Y76)) | AA76: =IFERROR(IF(Z76="","",ROUND(Z76*$AA$15,2)),"") | AB76: =IF(C76="","",IFERROR(ROUND(M76+S76+AA76,2),"")) | AC76: =IF(C76="","",IFERROR(_xlfn.XLOOKUP(AB76,HELPER!$C$8:$C$48,HELPER!$D$8:$D$48,,1),"")) | AD76: =IF(C76="","",IFERROR(_xlfn.XLOOKUP(AC76,HELPER!$F$8:$F$48,HELPER!$G$8:$G$48,,1),""))
B77: 9 | C77: =IF('INPUT DATA'!N19="","",'INPUT DATA'!N19) | K77: =IF(COUNT($F77:$J77)=0,"",SUM($F77:$J77)) | L77: =IF(ISERROR(IF($K77="","",ROUND(($K77/$K$15)*$L$15,2))),"",IF($K77="","",ROUND(($K77/$K$15)*$L$15,2))) | M77: =IF($L77="","",ROUND($L77*$M$15,2)) | Q77: =IF(COUNT($N77:$P77)=0,"",SUM($N77:$P77)) | R77: =IF(ISERROR(IF($Q77="","",ROUND(($Q77/$Q$15)*$R$15,2))),"",IF($Q77="","",ROUND(($Q77/$Q$15)*$R$15,2))) | S77: =IF($R77="","",ROUND($R77*$S$15,2)) | W77: =IFERROR(IF(T77="","",ROUND(T77/$T$15*$W$15,2)),"") | X77: =IFERROR(IF(U77="","",ROUND(U77/$U$15*$X$15,2)),"") | Y77: =IFERROR(IF(V77="","",ROUND(V77/$V$15*$Y$15,2)),"") | Z77: =IF(COUNT($W77:$Y77)=0,"",SUM($W77:$Y77)) | AA77: =IFERROR(IF(Z77="","",ROUND(Z77*$AA$15,2)),"") | AB77: =IF(C77="","",IFERROR(ROUND(M77+S77+AA77,2),"")) | AC77: =IF(C77="","",IFERROR(_xlfn.XLOOKUP(AB77,HELPER!$C$8:$C$48,HELPER!$D$8:$D$48,,1),"")) | AD77: =IF(C77="","",IFERROR(_xlfn.XLOOKUP(AC77,HELPER!$F$8:$F$48,HELPER!$G$8:$G$48,,1),""))
B78: 10 | C78: =IF('INPUT DATA'!N20="","",'INPUT DATA'!N20) | K78: =IF(COUNT($F78:$J78)=0,"",SUM($F78:$J78)) | L78: =IF(ISERROR(IF($K78="","",ROUND(($K78/$K$15)*$L$15,2))),"",IF($K78="","",ROUND(($K78/$K$15)*$L$15,2))) | M78: =IF($L78="","",ROUND($L78*$M$15,2)) | Q78: =IF(COUNT($N78:$P78)=0,"",SUM($N78:$P78)) | R78: =IF(ISERROR(IF($Q78="","",ROUND(($Q78/$Q$15)*$R$15,2))),"",IF($Q78="","",ROUND(($Q78/$Q$15)*$R$15,2))) | S78: =IF($R78="","",ROUND($R78*$S$15,2)) | W78: =IFERROR(IF(T78="","",ROUND(T78/$T$15*$W$15,2)),"") | X78: =IFERROR(IF(U78="","",ROUND(U78/$U$15*$X$15,2)),"") | Y78: =IFERROR(IF(V78="","",ROUND(V78/$V$15*$Y$15,2)),"") | Z78: =IF(COUNT($W78:$Y78)=0,"",SUM($W78:$Y78)) | AA78: =IFERROR(IF(Z78="","",ROUND(Z78*$AA$15,2)),"") | AB78: =IF(C78="","",IFERROR(ROUND(M78+S78+AA78,2),"")) | AC78: =IF(C78="","",IFERROR(_xlfn.XLOOKUP(AB78,HELPER!$C$8:$C$48,HELPER!$D$8:$D$48,,1),"")) | AD78: =IF(C78="","",IFERROR(_xlfn.XLOOKUP(AC78,HELPER!$F$8:$F$48,HELPER!$G$8:$G$48,,1),""))
B79: 11 | C79: =IF('INPUT DATA'!N21="","",'INPUT DATA'!N21) | K79: =IF(COUNT($F79:$J79)=0,"",SUM($F79:$J79)) | L79: =IF(ISERROR(IF($K79="","",ROUND(($K79/$K$15)*$L$15,2))),"",IF($K79="","",ROUND(($K79/$K$15)*$L$15,2))) | M79: =IF($L79="","",ROUND($L79*$M$15,2)) | Q79: =IF(COUNT($N79:$P79)=0,"",SUM($N79:$P79)) | R79: =IF(ISERROR(IF($Q79="","",ROUND(($Q79/$Q$15)*$R$15,2))),"",IF($Q79="","",ROUND(($Q79/$Q$15)*$R$15,2))) | S79: =IF($R79="","",ROUND($R79*$S$15,2)) | W79: =IFERROR(IF(T79="","",ROUND(T79/$T$15*$W$15,2)),"") | X79: =IFERROR(IF(U79="","",ROUND(U79/$U$15*$X$15,2)),"") | Y79: =IFERROR(IF(V79="","",ROUND(V79/$V$15*$Y$15,2)),"") | Z79: =IF(COUNT($W79:$Y79)=0,"",SUM($W79:$Y79)) | AA79: =IFERROR(IF(Z79="","",ROUND(Z79*$AA$15,2)),"") | AB79: =IF(C79="","",IFERROR(ROUND(M79+S79+AA79,2),"")) | AC79: =IF(C79="","",IFERROR(_xlfn.XLOOKUP(AB79,HELPER!$C$8:$C$48,HELPER!$D$8:$D$48,,1),"")) | AD79: =IF(C79="","",IFERROR(_xlfn.XLOOKUP(AC79,HELPER!$F$8:$F$48,HELPER!$G$8:$G$48,,1),""))
B80: 12 | C80: =IF('INPUT DATA'!N22="","",'INPUT DATA'!N22) | K80: =IF(COUNT($F80:$J80)=0,"",SUM($F80:$J80)) | L80: =IF(ISERROR(IF($K80="","",ROUND(($K80/$K$15)*$L$15,2))),"",IF($K80="","",ROUND(($K80/$K$15)*$L$15,2))) | M80: =IF($L80="","",ROUND($L80*$M$15,2)) | Q80: =IF(COUNT($N80:$P80)=0,"",SUM($N80:$P80)) | R80: =IF(ISERROR(IF($Q80="","",ROUND(($Q80/$Q$15)*$R$15,2))),"",IF($Q80="","",ROUND(($Q80/$Q$15)*$R$15,2))) | S80: =IF($R80="","",ROUND($R80*$S$15,2)) | W80: =IFERROR(IF(T80="","",ROUND(T80/$T$15*$W$15,2)),"") | X80: =IFERROR(IF(U80="","",ROUND(U80/$U$15*$X$15,2)),"") | Y80: =IFERROR(IF(V80="","",ROUND(V80/$V$15*$Y$15,2)),"") | Z80: =IF(COUNT($W80:$Y80)=0,"",SUM($W80:$Y80)) | AA80: =IFERROR(IF(Z80="","",ROUND(Z80*$AA$15,2)),"") | AB80: =IF(C80="","",IFERROR(ROUND(M80+S80+AA80,2),"")) | AC80: =IF(C80="","",IFERROR(_xlfn.XLOOKUP(AB80,HELPER!$C$8:$C$48,HELPER!$D$8:$D$48,,1),"")) | AD80: =IF(C80="","",IFERROR(_xlfn.XLOOKUP(AC80,HELPER!$F$8:$F$48,HELPER!$G$8:$G$48,,1),""))
... B118: 50 | C118: =IF('INPUT DATA'!N60="","",'INPUT DATA'!N60) | K118: =IF(COUNT($F118:$J118)=0,"",SUM($F118:$J118)) | L118: =IF(ISERROR(IF($K118="","",ROUND(($K118/$K$15)*$L$15,2))),"",IF($K118="","",ROUND(($K118/$K$15)*$L$15,2))) | M118: =IF($L118="","",ROUND($L118*$M$15,2)) | Q118: =IF(COUNT($N118:$P118)=0,"",SUM($N118:$P118)) | R118: =IF(ISERROR(IF($Q118="","",ROUND(($Q118/$Q$15)*$R$15,2))),"",IF($Q118="","",ROUND(($Q118/$Q$15)*$R$15,2))) | S118: =IF($R118="","",ROUND($R118*$S$15,2)) | W118: =IFERROR(IF(T118="","",ROUND(T118/$T$15*$W$15,2)),"") | X118: =IFERROR(IF(U118="","",ROUND(U118/$U$15*$X$15,2)),"") | Y118: =IFERROR(IF(V118="","",ROUND(V118/$V$15*$Y$15,2)),"") | Z118: =IF(COUNT($W118:$Y118)=0,"",SUM($W118:$Y118)) | AA118: =IFERROR(IF(Z118="","",ROUND(Z118*$AA$15,2)),"") | AB118: =IF(C118="","",IFERROR(ROUND(M118+S118+AA118,2),"")) | AC118: =IF(C118="","",IFERROR(_xlfn.XLOOKUP(AB118,HELPER!$C$8:$C$48,HELPER!$D$8:$D$48,,1),"")) | AD118: =IF(C118="","",IFERROR(_xlfn.XLOOKUP(AC118,HELPER!$F$8:$F$48,HELPER!$G$8:$G$48,,1),""))

Sheet TERM 2 Music and Arts
B2: CLASS RECORD - TERM 2
E5: REGION | F5: ='INPUT DATA'!E10 -> 0 | Q5: DIVISION | R5: ='INPUT DATA'!E11 -> 0 | Y5: SCHOOL ID | Z5: ='INPUT DATA'!E13 -> 0
E7: SCHOOL NAME | F7: ='INPUT DATA'!E14 -> 0 | Y7: SCHOOL YEAR | Z7: ='INPUT DATA'!E15 -> 0
B10: SECOND TERM | F10: GRADE LEVEL | J10: ='INPUT DATA'!E25 -> 0 | N10: TEACHER | Q10: ='INPUT DATA'!E23 -> 0 | Y10: SUBJECT | AA10: Music and Arts
F11: SECTION | J11: ='INPUT DATA'!E26 -> 0
F12: WRITTEN / ORAL WORKS (WWs) | N12: PRODUCT / PERFORMANCE TASKS (PTs) | T12: EXAMINATIONS (EXs) | AB12: Initial Grade | AC12: Term Grade | AD12: Descriptor
F14: 1 | G14: 2 | H14: 3 | I14: 4 | J14: 5 | K14: Total | L14: PS | M14: WS | N14: 1 | O14: 2 | P14: 3 | Q14: Total | R14: PS | S14: WS | T14: ST1 | U14: ST2 | V14: TE | W14: WS ST1 | X14: WS ST2 | Y14: WS TE | Z14: PS | AA14: WS
B15: HIGHEST POSSIBLE SCORE | K15: =IF(COUNT($F15:$J15)=0,"",SUM($F15:$J15)) | L15: 100 | M15: 0.2 | Q15: =IF(COUNT($N15:$P15)=0,"",SUM($N15:$P15)) | R15: 100 | S15: 0.6 | W15: 30 | X15: 30 | Y15: 40 | Z15: 100 | AA15: 0.2
B16: LEARNERS' NAMES
B17: MALE
B18: 1 | C18: =IF('INPUT DATA'!K11="","",'INPUT DATA'!K11) | K18: =IF(COUNT($F18:$J18)=0,"",SUM($F18:$J18)) | L18: =IF(ISERROR(IF($K18="","",ROUND(($K18/$K$15)*$L$15,2))),"",IF($K18="","",ROUND(($K18/$K$15)*$L$15,2))) | M18: =IF($L18="","",ROUND($L18*$M$15,2)) | Q18: =IF(COUNT($N18:$P18)=0,"",SUM($N18:$P18)) | R18: =IF(ISERROR(IF($Q18="","",ROUND(($Q18/$Q$15)*$R$15,2))),"",IF($Q18="","",ROUND(($Q18/$Q$15)*$R$15,2))) | S18: =IF($R18="","",ROUND($R18*$S$15,2)) | W18: =IFERROR(IF(T18="","",ROUND(T18/$T$15*$W$15,2)),"") | X18: =IFERROR(IF(U18="","",ROUND(U18/$U$15*$X$15,2)),"") | Y18: =IFERROR(IF(V18="","",ROUND(V18/$V$15*$Y$15,2)),"") | Z18: =IF(COUNT($W18:$Y18)=0,"",SUM($W18:$Y18)) | AA18: =IFERROR(IF(Z18="","",ROUND(Z18*$AA$15,2)),"") | AB18: =IF(C18="","",IFERROR(ROUND(M18+S18+AA18,2),"")) | AC18: =IF(C18="","",IFERROR(_xlfn.XLOOKUP(AB18,HELPER!$C$8:$C$48,HELPER!$D$8:$D$48,,1),"")) | AD18: =IF(C18="","",IFERROR(_xlfn.XLOOKUP(AC18,HELPER!$F$8:$F$48,HELPER!$G$8:$G$48,,1),""))
B19: 2 | C19: =IF('INPUT DATA'!K12="","",'INPUT DATA'!K12) | K19: =IF(COUNT($F19:$J19)=0,"",SUM($F19:$J19)) | L19: =IF(ISERROR(IF($K19="","",ROUND(($K19/$K$15)*$L$15,2))),"",IF($K19="","",ROUND(($K19/$K$15)*$L$15,2))) | M19: =IF($L19="","",ROUND($L19*$M$15,2)) | Q19: =IF(COUNT($N19:$P19)=0,"",SUM($N19:$P19)) | R19: =IF(ISERROR(IF($Q19="","",ROUND(($Q19/$Q$15)*$R$15,2))),"",IF($Q19="","",ROUND(($Q19/$Q$15)*$R$15,2))) | S19: =IF($R19="","",ROUND($R19*$S$15,2)) | W19: =IFERROR(IF(T19="","",ROUND(T19/$T$15*$W$15,2)),"") | X19: =IFERROR(IF(U19="","",ROUND(U19/$U$15*$X$15,2)),"") | Y19: =IFERROR(IF(V19="","",ROUND(V19/$V$15*$Y$15,2)),"") | Z19: =IF(COUNT($W19:$Y19)=0,"",SUM($W19:$Y19)) | AA19: =IFERROR(IF(Z19="","",ROUND(Z19*$AA$15,2)),"") | AB19: =IF(C19="","",IFERROR(ROUND(M19+S19+AA19,2),"")) | AC19: =IF(C19="","",IFERROR(_xlfn.XLOOKUP(AB19,HELPER!$C$8:$C$48,HELPER!$D$8:$D$48,,1),"")) | AD19: =IF(C19="","",IFERROR(_xlfn.XLOOKUP(AC19,HELPER!$F$8:$F$48,HELPER!$G$8:$G$48,,1),""))
B20: 3 | C20: =IF('INPUT DATA'!K13="","",'INPUT DATA'!K13) | K20: =IF(COUNT($F20:$J20)=0,"",SUM($F20:$J20)) | L20: =IF(ISERROR(IF($K20="","",ROUND(($K20/$K$15)*$L$15,2))),"",IF($K20="","",ROUND(($K20/$K$15)*$L$15,2))) | M20: =IF($L20="","",ROUND($L20*$M$15,2)) | Q20: =IF(COUNT($N20:$P20)=0,"",SUM($N20:$P20)) | R20: =IF(ISERROR(IF($Q20="","",ROUND(($Q20/$Q$15)*$R$15,2))),"",IF($Q20="","",ROUND(($Q20/$Q$15)*$R$15,2))) | S20: =IF($R20="","",ROUND($R20*$S$15,2)) | W20: =IFERROR(IF(T20="","",ROUND(T20/$T$15*$W$15,2)),"") | X20: =IFERROR(IF(U20="","",ROUND(U20/$U$15*$X$15,2)),"") | Y20: =IFERROR(IF(V20="","",ROUND(V20/$V$15*$Y$15,2)),"") | Z20: =IF(COUNT($W20:$Y20)=0,"",SUM($W20:$Y20)) | AA20: =IFERROR(IF(Z20="","",ROUND(Z20*$AA$15,2)),"") | AB20: =IF(C20="","",IFERROR(ROUND(M20+S20+AA20,2),"")) | AC20: =IF(C20="","",IFERROR(_xlfn.XLOOKUP(AB20,HELPER!$C$8:$C$48,HELPER!$D$8:$D$48,,1),"")) | AD20: =IF(C20="","",IFERROR(_xlfn.XLOOKUP(AC20,HELPER!$F$8:$F$48,HELPER!$G$8:$G$48,,1),""))
